| Back to Multiple platform build/check report for BioC 3.21: simplified long |
|
This page was generated on 2025-10-16 11:41 -0400 (Thu, 16 Oct 2025).
| Hostname | OS | Arch (*) | R version | Installed pkgs |
|---|---|---|---|---|
| nebbiolo1 | Linux (Ubuntu 24.04.3 LTS) | x86_64 | 4.5.1 (2025-06-13) -- "Great Square Root" | 4833 |
| merida1 | macOS 12.7.6 Monterey | x86_64 | 4.5.1 RC (2025-06-05 r88288) -- "Great Square Root" | 4614 |
| kjohnson1 | macOS 13.7.5 Ventura | arm64 | 4.5.1 Patched (2025-06-14 r88325) -- "Great Square Root" | 4555 |
| kunpeng2 | Linux (openEuler 24.03 LTS) | aarch64 | R Under development (unstable) (2025-02-19 r87757) -- "Unsuffered Consequences" | 4586 |
| Click on any hostname to see more info about the system (e.g. compilers) (*) as reported by 'uname -p', except on Windows and Mac OS X | ||||
| Package 1373/2341 | Hostname | OS / Arch | INSTALL | BUILD | CHECK | BUILD BIN | ||||||||
| MSnID 1.42.0 (landing page) Vlad Petyuk
| nebbiolo1 | Linux (Ubuntu 24.04.3 LTS) / x86_64 | OK | OK | OK | |||||||||
| merida1 | macOS 12.7.6 Monterey / x86_64 | OK | OK | OK | OK | |||||||||
| kjohnson1 | macOS 13.7.5 Ventura / arm64 | OK | OK | ERROR | OK | |||||||||
| kunpeng2 | Linux (openEuler 24.03 LTS) / aarch64 | OK | OK | ERROR | ||||||||||
|
To the developers/maintainers of the MSnID package: - Allow up to 24 hours (and sometimes 48 hours) for your latest push to git@git.bioconductor.org:packages/MSnID.git to reflect on this report. See Troubleshooting Build Report for more information. - Use the following Renviron settings to reproduce errors and warnings. - If 'R CMD check' started to fail recently on the Linux builder(s) over a missing dependency, add the missing dependency to 'Suggests:' in your DESCRIPTION file. See Renviron.bioc for more information. - See Martin Grigorov's blog post for how to debug Linux ARM64 related issues on a x86_64 host. |
| Package: MSnID |
| Version: 1.42.0 |
| Command: /home/biocbuild/R/R/bin/R CMD check --install=check:MSnID.install-out.txt --library=/home/biocbuild/R/R/site-library --no-vignettes --timings MSnID_1.42.0.tar.gz |
| StartedAt: 2025-10-14 11:39:48 -0000 (Tue, 14 Oct 2025) |
| EndedAt: 2025-10-14 11:49:40 -0000 (Tue, 14 Oct 2025) |
| EllapsedTime: 592.5 seconds |
| RetCode: 1 |
| Status: ERROR |
| CheckDir: MSnID.Rcheck |
| Warnings: NA |
##############################################################################
##############################################################################
###
### Running command:
###
### /home/biocbuild/R/R/bin/R CMD check --install=check:MSnID.install-out.txt --library=/home/biocbuild/R/R/site-library --no-vignettes --timings MSnID_1.42.0.tar.gz
###
##############################################################################
##############################################################################
* using log directory ‘/home/biocbuild/bbs-3.21-bioc/meat/MSnID.Rcheck’
* using R Under development (unstable) (2025-02-19 r87757)
* using platform: aarch64-unknown-linux-gnu
* R was compiled by
aarch64-unknown-linux-gnu-gcc (GCC) 14.2.0
GNU Fortran (GCC) 14.2.0
* running under: openEuler 24.03 (LTS-SP1)
* using session charset: UTF-8
* using option ‘--no-vignettes’
* checking for file ‘MSnID/DESCRIPTION’ ... OK
* checking extension type ... Package
* this is package ‘MSnID’ version ‘1.42.0’
* checking package namespace information ... OK
* checking package dependencies ... INFO
Imports includes 25 non-default packages.
Importing from so many packages makes the package vulnerable to any of
them becoming unavailable. Move as many as possible to Suggests and
use conditionally.
* checking if this is a source package ... OK
* checking if there is a namespace ... OK
* checking for hidden files and directories ... OK
* checking for portable file names ... OK
* checking for sufficient/correct file permissions ... OK
* checking whether package ‘MSnID’ can be installed ... OK
* checking installed package size ... OK
* checking package directory ... OK
* checking ‘build’ directory ... OK
* checking DESCRIPTION meta-information ... OK
* checking top-level files ... OK
* checking for left-over files ... OK
* checking index information ... OK
* checking package subdirectories ... OK
* checking code files for non-ASCII characters ... OK
* checking R files for syntax errors ... OK
* checking whether the package can be loaded ... OK
* checking whether the package can be loaded with stated dependencies ... OK
* checking whether the package can be unloaded cleanly ... OK
* checking whether the namespace can be loaded with stated dependencies ... OK
* checking whether the namespace can be unloaded cleanly ... OK
* checking loading without being on the library search path ... OK
* checking dependencies in R code ... NOTE
Namespaces in Imports field not imported from:
‘BiocGenerics’ ‘BiocStyle’ ‘RUnit’ ‘ggplot2’ ‘msmsTests’ ‘xtable’
All declared Imports should be used.
* checking S3 generic/method consistency ... OK
* checking replacement functions ... OK
* checking foreign function calls ... OK
* checking R code for possible problems ... NOTE
.read_mzIDs.mzR.engine.single.file: no visible binding for global
variable ‘peptideRef’
Undefined global functions or variables:
peptideRef
* checking Rd files ... OK
* checking Rd metadata ... OK
* checking Rd cross-references ... NOTE
Found the following Rd file(s) with Rd \link{} targets missing package
anchors:
MSnID-class.Rd: MSnSet
MSnID-package.Rd: mzID
Please provide package anchors for all Rd \link{} targets not in the
package itself and the base packages.
* checking for missing documentation entries ... OK
* checking for code/documentation mismatches ... OK
* checking Rd \usage sections ... OK
* checking Rd contents ... OK
* checking for unstated dependencies in examples ... OK
* checking contents of ‘data’ directory ... OK
* checking data for non-ASCII characters ... OK
* checking LazyData ... OK
* checking data for ASCII and uncompressed saves ... OK
* checking files in ‘vignettes’ ... OK
* checking examples ... OK
Examples with CPU (user + system) or elapsed time > 5s
user system elapsed
fetch_conversion_table 15.095 1.181 24.229
remap_accessions-method 9.668 0.637 13.212
remap_fasta_entry_names 9.038 0.683 12.359
optimize_filter 4.828 0.105 26.892
* checking for unstated dependencies in ‘tests’ ... OK
* checking tests ...
Running ‘runTests.R’
ERROR
Running the tests in ‘tests/runTests.R’ failed.
Last 13 lines of output:
1 Test Suite :
MSnID RUnit Tests - 19 test functions, 0 errors, 1 failure
FAILURE in test_data_load: Error in checkIdentical(psms(msnidObj), psms(msnid2)) : FALSE
Test files with failing tests
test_data_load.R
test_data_load
Error in BiocGenerics:::testPackage("MSnID") :
unit tests failed for package MSnID
Execution halted
* checking for unstated dependencies in vignettes ... OK
* checking package vignettes ... OK
* checking running R code from vignettes ... SKIPPED
* checking re-building of vignette outputs ... SKIPPED
* checking PDF version of manual ... OK
* DONE
Status: 1 ERROR, 3 NOTEs
See
‘/home/biocbuild/bbs-3.21-bioc/meat/MSnID.Rcheck/00check.log’
for details.
MSnID.Rcheck/00install.out
############################################################################## ############################################################################## ### ### Running command: ### ### /home/biocbuild/R/R/bin/R CMD INSTALL MSnID ### ############################################################################## ############################################################################## * installing to library ‘/home/biocbuild/R/R-devel_2025-02-19/site-library’ * installing *source* package ‘MSnID’ ... ** this is package ‘MSnID’ version ‘1.42.0’ ** using staged installation ** R ** data *** moving datasets to lazyload DB ** demo ** inst ** byte-compile and prepare package for lazy loading ** help *** installing help indices ** building package indices ** installing vignettes ** testing if installed package can be loaded from temporary location ** testing if installed package can be loaded from final location ** testing if installed package keeps a record of temporary installation path * DONE (MSnID)
MSnID.Rcheck/tests/runTests.Rout.fail
R Under development (unstable) (2025-02-19 r87757) -- "Unsuffered Consequences"
Copyright (C) 2025 The R Foundation for Statistical Computing
Platform: aarch64-unknown-linux-gnu
R is free software and comes with ABSOLUTELY NO WARRANTY.
You are welcome to redistribute it under certain conditions.
Type 'license()' or 'licence()' for distribution details.
R is a collaborative project with many contributors.
Type 'contributors()' for more information and
'citation()' on how to cite R or R packages in publications.
Type 'demo()' for some demos, 'help()' for on-line help, or
'help.start()' for an HTML browser interface to help.
Type 'q()' to quit R.
> BiocGenerics:::testPackage("MSnID")
Note, the anticipated/suggested columns in the
peptide-to-spectrum matching results are:
-----------------------------------------------
accession
calculatedMassToCharge
chargeState
experimentalMassToCharge
isDecoy
peptide
spectrumFile
spectrumID
Reading from mzIdentMLs ...
reading c_elegans.mzid.gz... DONE!
Reading from mzIdentMLs ...
Timing stopped at: 0.146 0 0.146
Error in checkIdentical(psms(msnidObj), psms(msnid2)) : FALSE
In addition: There were 12 warnings (use warnings() to see them)
RUNIT TEST PROTOCOL -- Tue Oct 14 11:49:36 2025
***********************************************
Number of test functions: 19
Number of errors: 0
Number of failures: 1
1 Test Suite :
MSnID RUnit Tests - 19 test functions, 0 errors, 1 failure
FAILURE in test_data_load: Error in checkIdentical(psms(msnidObj), psms(msnid2)) : FALSE
Test files with failing tests
test_data_load.R
test_data_load
Error in BiocGenerics:::testPackage("MSnID") :
unit tests failed for package MSnID
Execution halted
MSnID.Rcheck/MSnID-Ex.timings
| name | user | system | elapsed | |
| MSnID-class | 0 | 0 | 0 | |
| MSnIDFilter-class | 1.469 | 0.012 | 1.581 | |
| accessions | 0.088 | 0.004 | 0.092 | |
| add_mod_symbol | 1.601 | 0.012 | 1.618 | |
| apply_filter | 0.268 | 0.000 | 0.246 | |
| assess_missed_cleavages | 0.149 | 0.016 | 0.166 | |
| assess_termini | 1.371 | 0.008 | 1.381 | |
| correct_peak_selection | 0.112 | 0.004 | 0.116 | |
| data | 0.119 | 0.000 | 0.109 | |
| evaluate_filter | 0.225 | 0.000 | 0.210 | |
| fetch_conversion_table | 15.095 | 1.181 | 24.229 | |
| id_quality | 0.116 | 0.001 | 0.168 | |
| infer_parsimonious_accessions | 3.393 | 0.209 | 4.751 | |
| map_mod_sites | 1.992 | 0.035 | 2.076 | |
| mass_measurement_error | 0.091 | 0.000 | 0.091 | |
| optimize_filter | 4.828 | 0.105 | 26.892 | |
| peptides | 0.088 | 0.000 | 0.089 | |
| psms | 0.090 | 0.008 | 0.098 | |
| read_mzIDs | 0 | 0 | 0 | |
| recalibrate | 0.103 | 0.004 | 0.107 | |
| remap_accessions-method | 9.668 | 0.637 | 13.212 | |
| remap_fasta_entry_names | 9.038 | 0.683 | 12.359 | |
| report_mods | 1.848 | 0.152 | 2.004 | |