| Back to Multiple platform build/check report for BioC 3.21: simplified long |
|
This page was generated on 2025-04-22 13:16 -0400 (Tue, 22 Apr 2025).
| Hostname | OS | Arch (*) | R version | Installed pkgs |
|---|---|---|---|---|
| nebbiolo1 | Linux (Ubuntu 24.04.1 LTS) | x86_64 | 4.5.0 RC (2025-04-04 r88126) -- "How About a Twenty-Six" | 4831 |
| palomino7 | Windows Server 2022 Datacenter | x64 | 4.5.0 RC (2025-04-04 r88126 ucrt) -- "How About a Twenty-Six" | 4573 |
| lconway | macOS 12.7.1 Monterey | x86_64 | 4.5.0 RC (2025-04-04 r88126) -- "How About a Twenty-Six" | 4599 |
| kjohnson3 | macOS 13.7.1 Ventura | arm64 | 4.5.0 RC (2025-04-04 r88126) -- "How About a Twenty-Six" | 4553 |
| kunpeng2 | Linux (openEuler 24.03 LTS) | aarch64 | R Under development (unstable) (2025-02-19 r87757) -- "Unsuffered Consequences" | 4570 |
| Click on any hostname to see more info about the system (e.g. compilers) (*) as reported by 'uname -p', except on Windows and Mac OS X | ||||
| Package 1301/2341 | Hostname | OS / Arch | INSTALL | BUILD | CHECK | BUILD BIN | ||||||||
| MIRit 1.4.0 (landing page) Jacopo Ronchi
| nebbiolo1 | Linux (Ubuntu 24.04.1 LTS) / x86_64 | OK | OK | OK | |||||||||
| palomino7 | Windows Server 2022 Datacenter / x64 | OK | OK | OK | OK | |||||||||
| lconway | macOS 12.7.1 Monterey / x86_64 | OK | OK | OK | OK | |||||||||
| kjohnson3 | macOS 13.7.1 Ventura / arm64 | OK | OK | OK | OK | |||||||||
| kunpeng2 | Linux (openEuler 24.03 LTS) / aarch64 | OK | OK | OK | ||||||||||
|
To the developers/maintainers of the MIRit package: - Allow up to 24 hours (and sometimes 48 hours) for your latest push to git@git.bioconductor.org:packages/MIRit.git to reflect on this report. See Troubleshooting Build Report for more information. - Use the following Renviron settings to reproduce errors and warnings. - If 'R CMD check' started to fail recently on the Linux builder(s) over a missing dependency, add the missing dependency to 'Suggests:' in your DESCRIPTION file. See Renviron.bioc for more information. |
| Package: MIRit |
| Version: 1.4.0 |
| Command: /Library/Frameworks/R.framework/Resources/bin/R CMD check --install=check:MIRit.install-out.txt --library=/Library/Frameworks/R.framework/Resources/library --no-vignettes --timings MIRit_1.4.0.tar.gz |
| StartedAt: 2025-04-21 21:55:47 -0400 (Mon, 21 Apr 2025) |
| EndedAt: 2025-04-21 22:00:08 -0400 (Mon, 21 Apr 2025) |
| EllapsedTime: 261.1 seconds |
| RetCode: 0 |
| Status: OK |
| CheckDir: MIRit.Rcheck |
| Warnings: 0 |
##############################################################################
##############################################################################
###
### Running command:
###
### /Library/Frameworks/R.framework/Resources/bin/R CMD check --install=check:MIRit.install-out.txt --library=/Library/Frameworks/R.framework/Resources/library --no-vignettes --timings MIRit_1.4.0.tar.gz
###
##############################################################################
##############################################################################
* using log directory ‘/Users/biocbuild/bbs-3.21-bioc/meat/MIRit.Rcheck’
* using R version 4.5.0 RC (2025-04-04 r88126)
* using platform: x86_64-apple-darwin20
* R was compiled by
Apple clang version 14.0.0 (clang-1400.0.29.202)
GNU Fortran (GCC) 14.2.0
* running under: macOS Monterey 12.7.6
* using session charset: UTF-8
* using option ‘--no-vignettes’
* checking for file ‘MIRit/DESCRIPTION’ ... OK
* this is package ‘MIRit’ version ‘1.4.0’
* package encoding: UTF-8
* checking package namespace information ... OK
* checking package dependencies ... OK
* checking if this is a source package ... OK
* checking if there is a namespace ... OK
* checking for hidden files and directories ... OK
* checking for portable file names ... OK
* checking for sufficient/correct file permissions ... OK
* checking whether package ‘MIRit’ can be installed ... OK
* used C++ compiler: ‘Apple clang version 14.0.0 (clang-1400.0.29.202)’
* used SDK: ‘MacOSX11.3.sdk’
* checking installed package size ... OK
* checking package directory ... OK
* checking ‘build’ directory ... OK
* checking DESCRIPTION meta-information ... OK
* checking top-level files ... OK
* checking for left-over files ... OK
* checking index information ... OK
* checking package subdirectories ... OK
* checking code files for non-ASCII characters ... OK
* checking R files for syntax errors ... OK
* checking whether the package can be loaded ... OK
* checking whether the package can be loaded with stated dependencies ... OK
* checking whether the package can be unloaded cleanly ... OK
* checking whether the namespace can be loaded with stated dependencies ... OK
* checking whether the namespace can be unloaded cleanly ... OK
* checking dependencies in R code ... NOTE
Unexported objects imported by ':::' calls:
'graphite:::convertEdges' 'graphite:::selectDb'
See the note in ?`:::` about the use of this operator.
* checking S3 generic/method consistency ... OK
* checking replacement functions ... OK
* checking foreign function calls ... OK
* checking R code for possible problems ... OK
* checking Rd files ... OK
* checking Rd metadata ... OK
* checking Rd cross-references ... NOTE
Non-topic package-anchored link(s) in Rd file 'deAnalysis.Rd':
‘[limma:ebayes]{limma::eBayes()}’
‘[limma:dupcor]{limma::duplicateCorrelation()}’
See section 'Cross-references' in the 'Writing R Extensions' manual.
Found the following Rd file(s) with Rd \link{} targets missing package
anchors:
MirnaExperiment-class.Rd: DataFrame
gseaPlot.Rd: ggplot2
Please provide package anchors for all Rd \link{} targets not in the
package itself and the base packages.
* checking for missing documentation entries ... OK
* checking for code/documentation mismatches ... OK
* checking Rd \usage sections ... OK
* checking Rd contents ... OK
* checking for unstated dependencies in examples ... OK
* checking contents of ‘data’ directory ... OK
* checking data for non-ASCII characters ... OK
* checking data for ASCII and uncompressed saves ... OK
* checking R/sysdata.rda ... OK
* checking line endings in C/C++/Fortran sources/headers ... OK
* checking compiled code ... NOTE
Note: information on .o files is not available
* checking files in ‘vignettes’ ... OK
* checking examples ... OK
* checking for unstated dependencies in ‘tests’ ... OK
* checking tests ...
Running ‘testthat.R’
OK
* checking for unstated dependencies in vignettes ... OK
* checking package vignettes ... OK
* checking running R code from vignettes ... SKIPPED
* checking re-building of vignette outputs ... SKIPPED
* checking PDF version of manual ... OK
* DONE
Status: 3 NOTEs
See
‘/Users/biocbuild/bbs-3.21-bioc/meat/MIRit.Rcheck/00check.log’
for details.
MIRit.Rcheck/00install.out
############################################################################## ############################################################################## ### ### Running command: ### ### /Library/Frameworks/R.framework/Resources/bin/R CMD INSTALL MIRit ### ############################################################################## ############################################################################## * installing to library ‘/Library/Frameworks/R.framework/Versions/4.5-x86_64/Resources/library’ * installing *source* package ‘MIRit’ ... ** this is package ‘MIRit’ version ‘1.4.0’ ** using staged installation ** libs using C++ compiler: ‘Apple clang version 14.0.0 (clang-1400.0.29.202)’ using SDK: ‘MacOSX11.3.sdk’ clang++ -arch x86_64 -std=gnu++17 -I"/Library/Frameworks/R.framework/Resources/include" -DNDEBUG -I'/Library/Frameworks/R.framework/Versions/4.5-x86_64/Resources/library/Rcpp/include' -I/opt/R/x86_64/include -fPIC -falign-functions=64 -Wall -g -O2 -c RcppExports.cpp -o RcppExports.o clang++ -arch x86_64 -std=gnu++17 -I"/Library/Frameworks/R.framework/Resources/include" -DNDEBUG -I'/Library/Frameworks/R.framework/Versions/4.5-x86_64/Resources/library/Rcpp/include' -I/opt/R/x86_64/include -fPIC -falign-functions=64 -Wall -g -O2 -c pathwayScore.cpp -o pathwayScore.o clang++ -arch x86_64 -std=gnu++17 -dynamiclib -Wl,-headerpad_max_install_names -undefined dynamic_lookup -L/Library/Frameworks/R.framework/Resources/lib -L/opt/R/x86_64/lib -o MIRit.so RcppExports.o pathwayScore.o -F/Library/Frameworks/R.framework/.. -framework R installing to /Library/Frameworks/R.framework/Versions/4.5-x86_64/Resources/library/00LOCK-MIRit/00new/MIRit/libs ** R ** data ** inst ** byte-compile and prepare package for lazy loading ** help *** installing help indices *** copying figures ** building package indices ** installing vignettes ** testing if installed package can be loaded from temporary location ** checking absolute paths in shared objects and dynamic libraries ** testing if installed package can be loaded from final location ** testing if installed package keeps a record of temporary installation path * DONE (MIRit)
MIRit.Rcheck/tests/testthat.Rout
R version 4.5.0 RC (2025-04-04 r88126) -- "How About a Twenty-Six"
Copyright (C) 2025 The R Foundation for Statistical Computing
Platform: x86_64-apple-darwin20
R is free software and comes with ABSOLUTELY NO WARRANTY.
You are welcome to redistribute it under certain conditions.
Type 'license()' or 'licence()' for distribution details.
R is a collaborative project with many contributors.
Type 'contributors()' for more information and
'citation()' on how to cite R or R packages in publications.
Type 'demo()' for some demos, 'help()' for on-line help, or
'help.start()' for an HTML browser interface to help.
Type 'q()' to quit R.
> # This file is part of the standard setup for testthat.
> # It is recommended that you do not modify it.
> #
> # Where should you do additional test configuration?
> # Learn more about the roles of various files in:
> # * https://r-pkgs.org/tests.html
> # * https://testthat.r-lib.org/reference/test_package.html#special-files
>
> library(testthat)
> library(MIRit)
Loading required package: MultiAssayExperiment
Loading required package: SummarizedExperiment
Loading required package: MatrixGenerics
Loading required package: matrixStats
Attaching package: 'MatrixGenerics'
The following objects are masked from 'package:matrixStats':
colAlls, colAnyNAs, colAnys, colAvgsPerRowSet, colCollapse,
colCounts, colCummaxs, colCummins, colCumprods, colCumsums,
colDiffs, colIQRDiffs, colIQRs, colLogSumExps, colMadDiffs,
colMads, colMaxs, colMeans2, colMedians, colMins, colOrderStats,
colProds, colQuantiles, colRanges, colRanks, colSdDiffs, colSds,
colSums2, colTabulates, colVarDiffs, colVars, colWeightedMads,
colWeightedMeans, colWeightedMedians, colWeightedSds,
colWeightedVars, rowAlls, rowAnyNAs, rowAnys, rowAvgsPerColSet,
rowCollapse, rowCounts, rowCummaxs, rowCummins, rowCumprods,
rowCumsums, rowDiffs, rowIQRDiffs, rowIQRs, rowLogSumExps,
rowMadDiffs, rowMads, rowMaxs, rowMeans2, rowMedians, rowMins,
rowOrderStats, rowProds, rowQuantiles, rowRanges, rowRanks,
rowSdDiffs, rowSds, rowSums2, rowTabulates, rowVarDiffs, rowVars,
rowWeightedMads, rowWeightedMeans, rowWeightedMedians,
rowWeightedSds, rowWeightedVars
Loading required package: GenomicRanges
Loading required package: stats4
Loading required package: BiocGenerics
Loading required package: generics
Attaching package: 'generics'
The following objects are masked from 'package:base':
as.difftime, as.factor, as.ordered, intersect, is.element, setdiff,
setequal, union
Attaching package: 'BiocGenerics'
The following objects are masked from 'package:stats':
IQR, mad, sd, var, xtabs
The following objects are masked from 'package:base':
Filter, Find, Map, Position, Reduce, anyDuplicated, aperm, append,
as.data.frame, basename, cbind, colnames, dirname, do.call,
duplicated, eval, evalq, get, grep, grepl, is.unsorted, lapply,
mapply, match, mget, order, paste, pmax, pmax.int, pmin, pmin.int,
rank, rbind, rownames, sapply, saveRDS, table, tapply, unique,
unsplit, which.max, which.min
Loading required package: S4Vectors
Attaching package: 'S4Vectors'
The following object is masked from 'package:utils':
findMatches
The following objects are masked from 'package:base':
I, expand.grid, unname
Loading required package: IRanges
Loading required package: GenomeInfoDb
Loading required package: Biobase
Welcome to Bioconductor
Vignettes contain introductory material; view with
'browseVignettes()'. To cite Bioconductor, see
'citation("Biobase")', and for packages 'citation("pkgname")'.
Attaching package: 'Biobase'
The following object is masked from 'package:MatrixGenerics':
rowMedians
The following objects are masked from 'package:matrixStats':
anyMissing, rowMedians
>
> test_check("MIRit")
Performing differential expression analysis with limma...
Differential expression analysis reported 17 significant miRNAs with p < 0.05 (correction: fdr). You can use the 'mirnaDE()' function to access results.
Performing differential expression analysis with edgeR...
Differential expression analysis reported 5 significant miRNAs with p < 0.05 (correction: fdr). You can use the 'mirnaDE()' function to access results.
Performing differential expression analysis with voom...
Differential expression analysis reported 8 significant miRNAs with p < 0.05 (correction: fdr). You can use the 'mirnaDE()' function to access results.
Performing differential expression analysis with limma...
Differential expression analysis reported 3 significant miRNAs with p < 0.05 (correction: fdr). You can use the 'mirnaDE()' function to access results.
Performing the enrichment of upregulated genes...
Performing the enrichment of downregulated genes...
The enrichment of genes reported 1 significantly enriched terms for downregulated genes and 0 for upregulated genes.
Ranking genes based on signed.pval...
Performing gene-set enrichment analysis (GSEA)...
GSEA reported 10 significantly enriched terms.
Performing Correlation Adjusted MEan RAnk gene set test (CAMERA)...
CAMERA reported 2 significantly enriched terms.
As specified by the user, a correlation will be used.
Performing Spearman's correlation analysis...
A statistically significant correlation between 3 miRNA-target pairs was found!
As specified by the user, a association will be used.
Performing One-sided Fisher's exact test...
A statistically significant association between 5 DE-miRNAs and 6 genes was found!
As specified by the user, a association will be used.
Performing One-sided Fisher's exact test with Lancaster's mid-p correction...
A statistically significant association between 5 DE-miRNAs and 6 genes was found!
As specified by the user, a association will be used.
Performing One-sided Boschloo's exact test...
A statistically significant association between 2 DE-miRNAs and 1 genes was found!
As specified by the user, a fry will be used.
Performing miRNA-gene integrative analysis using 'fry' method...
A statistically significant association between 2 DE-miRNAs and 4 genes was found!
As specified by the user, a correlation will be used.
Performing Spearman's correlation analysis...
A statistically significant correlation between 169 miRNA-target pairs was found!
Reading KEGG pathways from cache...
Adding miRNA-gene interactions to biological pathways...
Loading required namespace: graph
Performing topological sorting of pathway nodes...
Calculating pathway scores...
Generating random permutations...
Calculating p-values with 100 permutations...
Correcting p-values through the max-T procedure...
The topologically-aware integrative pathway analysis reported 3 significantly altered pathways!
As specified by the user, a association will be used.
Performing One-sided Fisher's exact test...
A statistically significant association between 3 DE-miRNAs and 5 genes was found!
As specified by the user, a fry will be used.
Performing miRNA-gene integrative analysis using 'fry' method...
A statistically significant association between 2 DE-miRNAs and 4 genes was found!
[ FAIL 0 | WARN 0 | SKIP 6 | PASS 31 ]
══ Skipped tests (6) ═══════════════════════════════════════════════════════════
• On Bioconductor (4): 'test-association.R:13:5',
'test-differential-expression.R:17:5', 'test-targets.R:3:5',
'test-targets.R:21:5'
• On CRAN (2): 'test-topological-integration.R:23:5', 'test-utils.R:20:5'
[ FAIL 0 | WARN 0 | SKIP 6 | PASS 31 ]
>
> proc.time()
user system elapsed
57.160 7.519 32.519
MIRit.Rcheck/MIRit-Ex.timings
| name | user | system | elapsed | |
| MirnaExperiment | 0.502 | 0.012 | 0.516 | |
| addDifferentialExpression | 0.526 | 0.022 | 0.551 | |
| augmentedPathways | 0.042 | 0.002 | 0.044 | |
| batchCorrection | 0.365 | 0.009 | 0.375 | |
| deAccessors | 0.001 | 0.000 | 0.002 | |
| deAnalysis | 0 | 0 | 0 | |
| enrichGenes | 0.000 | 0.000 | 0.001 | |
| enrichTargets | 2.206 | 0.117 | 2.342 | |
| enrichedFeatures | 0.017 | 0.001 | 0.018 | |
| enrichmentBarplot | 0.273 | 0.007 | 0.283 | |
| enrichmentDatabase | 0 | 0 | 0 | |
| enrichmentDotplot | 0.337 | 0.003 | 0.340 | |
| enrichmentMethod | 0 | 0 | 0 | |
| enrichmentMetric | 0.001 | 0.001 | 0.000 | |
| enrichmentResults | 0 | 0 | 0 | |
| findMirnaSNPs | 0 | 0 | 0 | |
| geneSet | 0 | 0 | 0 | |
| getEvidence | 0 | 0 | 0 | |
| getTargets | 0 | 0 | 0 | |
| gseaPlot | 0.212 | 0.011 | 0.224 | |
| gseaRidgeplot | 0.241 | 0.012 | 0.256 | |
| integratedPathways | 0 | 0 | 0 | |
| integration | 0.009 | 0.008 | 0.016 | |
| integrationDatabase | 0.000 | 0.000 | 0.001 | |
| integrationDotplot | 0.270 | 0.002 | 0.274 | |
| listPathways | 1.800 | 0.039 | 2.783 | |
| loadExamples | 0.000 | 0.000 | 0.001 | |
| mirVariantPlot | 0 | 0 | 0 | |
| mirnaIntegration | 3.538 | 0.419 | 3.436 | |
| mirnaTargets | 0.001 | 0.000 | 0.000 | |
| pairedSamples | 0.001 | 0.000 | 0.001 | |
| plotCorrelation | 0.420 | 0.063 | 0.485 | |
| plotDE | 0.324 | 0.032 | 0.358 | |
| plotDimensions | 0.211 | 0.025 | 0.237 | |
| plotVolcano | 0.176 | 0.021 | 0.199 | |
| preparePathways | 0 | 0 | 0 | |
| searchDisease | 0 | 0 | 0 | |
| significantAccessors | 0 | 0 | 0 | |
| supportedOrganisms | 0.001 | 0.001 | 0.002 | |
| topologicalAnalysis | 0 | 0 | 0 | |
| visualizeNetwork | 0.266 | 0.029 | 0.297 | |