| Back to Multiple platform build/check report for BioC 3.21: simplified long |
|
This page was generated on 2025-04-22 13:16 -0400 (Tue, 22 Apr 2025).
| Hostname | OS | Arch (*) | R version | Installed pkgs |
|---|---|---|---|---|
| nebbiolo1 | Linux (Ubuntu 24.04.1 LTS) | x86_64 | 4.5.0 RC (2025-04-04 r88126) -- "How About a Twenty-Six" | 4831 |
| palomino7 | Windows Server 2022 Datacenter | x64 | 4.5.0 RC (2025-04-04 r88126 ucrt) -- "How About a Twenty-Six" | 4573 |
| lconway | macOS 12.7.1 Monterey | x86_64 | 4.5.0 RC (2025-04-04 r88126) -- "How About a Twenty-Six" | 4599 |
| kjohnson3 | macOS 13.7.1 Ventura | arm64 | 4.5.0 RC (2025-04-04 r88126) -- "How About a Twenty-Six" | 4553 |
| kunpeng2 | Linux (openEuler 24.03 LTS) | aarch64 | R Under development (unstable) (2025-02-19 r87757) -- "Unsuffered Consequences" | 4570 |
| Click on any hostname to see more info about the system (e.g. compilers) (*) as reported by 'uname -p', except on Windows and Mac OS X | ||||
| Package 1135/2341 | Hostname | OS / Arch | INSTALL | BUILD | CHECK | BUILD BIN | ||||||||
| LiquidAssociation 1.62.0 (landing page) Yen-Yi Ho
| nebbiolo1 | Linux (Ubuntu 24.04.1 LTS) / x86_64 | OK | OK | OK | |||||||||
| palomino7 | Windows Server 2022 Datacenter / x64 | OK | OK | OK | OK | |||||||||
| lconway | macOS 12.7.1 Monterey / x86_64 | OK | OK | OK | OK | |||||||||
| kjohnson3 | macOS 13.7.1 Ventura / arm64 | OK | OK | OK | OK | |||||||||
| kunpeng2 | Linux (openEuler 24.03 LTS) / aarch64 | OK | OK | OK | ||||||||||
|
To the developers/maintainers of the LiquidAssociation package: - Allow up to 24 hours (and sometimes 48 hours) for your latest push to git@git.bioconductor.org:packages/LiquidAssociation.git to reflect on this report. See Troubleshooting Build Report for more information. - Use the following Renviron settings to reproduce errors and warnings. - If 'R CMD check' started to fail recently on the Linux builder(s) over a missing dependency, add the missing dependency to 'Suggests:' in your DESCRIPTION file. See Renviron.bioc for more information. |
| Package: LiquidAssociation |
| Version: 1.62.0 |
| Command: /Library/Frameworks/R.framework/Resources/bin/R CMD check --install=check:LiquidAssociation.install-out.txt --library=/Library/Frameworks/R.framework/Resources/library --no-vignettes --timings LiquidAssociation_1.62.0.tar.gz |
| StartedAt: 2025-04-21 21:34:38 -0400 (Mon, 21 Apr 2025) |
| EndedAt: 2025-04-21 21:36:33 -0400 (Mon, 21 Apr 2025) |
| EllapsedTime: 115.2 seconds |
| RetCode: 0 |
| Status: OK |
| CheckDir: LiquidAssociation.Rcheck |
| Warnings: 0 |
##############################################################################
##############################################################################
###
### Running command:
###
### /Library/Frameworks/R.framework/Resources/bin/R CMD check --install=check:LiquidAssociation.install-out.txt --library=/Library/Frameworks/R.framework/Resources/library --no-vignettes --timings LiquidAssociation_1.62.0.tar.gz
###
##############################################################################
##############################################################################
* using log directory ‘/Users/biocbuild/bbs-3.21-bioc/meat/LiquidAssociation.Rcheck’
* using R version 4.5.0 RC (2025-04-04 r88126)
* using platform: x86_64-apple-darwin20
* R was compiled by
Apple clang version 14.0.0 (clang-1400.0.29.202)
GNU Fortran (GCC) 14.2.0
* running under: macOS Monterey 12.7.6
* using session charset: UTF-8
* using option ‘--no-vignettes’
* checking for file ‘LiquidAssociation/DESCRIPTION’ ... OK
* checking extension type ... Package
* this is package ‘LiquidAssociation’ version ‘1.62.0’
* checking package namespace information ... OK
* checking package dependencies ... OK
* checking if this is a source package ... OK
* checking if there is a namespace ... OK
* checking for hidden files and directories ... OK
* checking for portable file names ... OK
* checking for sufficient/correct file permissions ... OK
* checking whether package ‘LiquidAssociation’ can be installed ... OK
* checking installed package size ... OK
* checking package directory ... OK
* checking ‘build’ directory ... OK
* checking DESCRIPTION meta-information ... NOTE
Package listed in more than one of Depends, Imports, Suggests, Enhances:
‘methods’
A package should be listed in only one of these fields.
* checking top-level files ... OK
* checking for left-over files ... OK
* checking index information ... OK
* checking package subdirectories ... OK
* checking code files for non-ASCII characters ... OK
* checking R files for syntax errors ... OK
* checking whether the package can be loaded ... OK
* checking whether the package can be loaded with stated dependencies ... OK
* checking whether the package can be unloaded cleanly ... OK
* checking whether the namespace can be loaded with stated dependencies ... OK
* checking whether the namespace can be unloaded cleanly ... OK
* checking dependencies in R code ... NOTE
Packages in Depends field not imported from:
‘geepack’ ‘org.Sc.sgd.db’ ‘yeastCC’
These packages need to be imported from (in the NAMESPACE file)
for when this namespace is loaded but not attached.
* checking S3 generic/method consistency ... OK
* checking replacement functions ... OK
* checking foreign function calls ... OK
* checking R code for possible problems ... NOTE
CNM.full,matrix: no visible global function definition for ‘geese’
CNM.full,matrix: no visible binding for global variable ‘groupid’
CNM.full,matrix: no visible binding for global variable ‘visit’
CNM.full,matrix: no visible global function definition for
‘geese.control’
CNM.simple,matrix: no visible global function definition for ‘geese’
CNM.simple,matrix: no visible binding for global variable ‘groupid’
CNM.simple,matrix: no visible binding for global variable ‘visit’
CNM.simple,matrix: no visible global function definition for
‘geese.control’
Undefined global functions or variables:
geese geese.control groupid visit
* checking Rd files ... OK
* checking Rd metadata ... OK
* checking Rd cross-references ... OK
* checking for missing documentation entries ... OK
* checking for code/documentation mismatches ... OK
* checking Rd \usage sections ... OK
* checking Rd contents ... OK
* checking for unstated dependencies in examples ... OK
* checking sizes of PDF files under ‘inst/doc’ ... OK
* checking files in ‘vignettes’ ... OK
* checking examples ... OK
* checking for unstated dependencies in vignettes ... OK
* checking package vignettes ... OK
* checking running R code from vignettes ... SKIPPED
* checking re-building of vignette outputs ... SKIPPED
* checking PDF version of manual ... OK
* DONE
Status: 3 NOTEs
See
‘/Users/biocbuild/bbs-3.21-bioc/meat/LiquidAssociation.Rcheck/00check.log’
for details.
LiquidAssociation.Rcheck/00install.out
############################################################################## ############################################################################## ### ### Running command: ### ### /Library/Frameworks/R.framework/Resources/bin/R CMD INSTALL LiquidAssociation ### ############################################################################## ############################################################################## * installing to library ‘/Library/Frameworks/R.framework/Versions/4.5-x86_64/Resources/library’ * installing *source* package ‘LiquidAssociation’ ... ** this is package ‘LiquidAssociation’ version ‘1.62.0’ ** using staged installation ** R ** byte-compile and prepare package for lazy loading ** help *** installing help indices ** building package indices ** installing vignettes ** testing if installed package can be loaded from temporary location ** testing if installed package can be loaded from final location ** testing if installed package keeps a record of temporary installation path * DONE (LiquidAssociation)
LiquidAssociation.Rcheck/LiquidAssociation-Ex.timings
| name | user | system | elapsed | |
| CNM-class | 0.001 | 0.000 | 0.002 | |
| CNM.full-methods | 0.030 | 0.001 | 0.030 | |
| CNM.simple-methods | 0.019 | 0.001 | 0.019 | |
| GLA-methods | 0.004 | 0.000 | 0.003 | |
| LA-methods | 0.001 | 0.000 | 0.001 | |
| LiquidAssociation-package | 0.083 | 0.002 | 0.085 | |
| getsGLA-methods | 4.189 | 0.038 | 4.250 | |
| getsLA-methods | 2.843 | 0.022 | 2.889 | |
| plotGLA-methods | 0.024 | 0.002 | 1.310 | |