| Back to Multiple platform build/check report for BioC 3.21: simplified long | 
  | 
This page was generated on 2025-10-16 11:39 -0400 (Thu, 16 Oct 2025).
| Hostname | OS | Arch (*) | R version | Installed pkgs | 
|---|---|---|---|---|
| nebbiolo1 | Linux (Ubuntu 24.04.3 LTS) | x86_64 | 4.5.1 (2025-06-13) -- "Great Square Root" | 4833 | 
| merida1 | macOS 12.7.6 Monterey | x86_64 | 4.5.1 RC (2025-06-05 r88288) -- "Great Square Root" | 4614 | 
| kjohnson1 | macOS 13.7.5 Ventura | arm64 | 4.5.1 Patched (2025-06-14 r88325) -- "Great Square Root" | 4555 | 
| kunpeng2 | Linux (openEuler 24.03 LTS) | aarch64 | R Under development (unstable) (2025-02-19 r87757) -- "Unsuffered Consequences" | 4586 | 
| Click on any hostname to see more info about the system (e.g. compilers) (*) as reported by 'uname -p', except on Windows and Mac OS X | ||||
| Package 976/2341 | Hostname | OS / Arch | INSTALL | BUILD | CHECK | BUILD BIN | ||||||||
| HiCool 1.8.0  (landing page) Jacques Serizay 
  | nebbiolo1 | Linux (Ubuntu 24.04.3 LTS) / x86_64 | OK | OK | OK | |||||||||
| merida1 | macOS 12.7.6 Monterey / x86_64 | OK | OK | OK | OK | |||||||||
| kjohnson1 | macOS 13.7.5 Ventura / arm64 | OK | ERROR | skipped | skipped | |||||||||
| kunpeng2 | Linux (openEuler 24.03 LTS) / aarch64 | OK | ERROR | skipped | ||||||||||
| 
To the developers/maintainers of the HiCool package: - Allow up to 24 hours (and sometimes 48 hours) for your latest push to git@git.bioconductor.org:packages/HiCool.git to reflect on this report. See Troubleshooting Build Report for more information. - Use the following Renviron settings to reproduce errors and warnings. - If 'R CMD check' started to fail recently on the Linux builder(s) over a missing dependency, add the missing dependency to 'Suggests:' in your DESCRIPTION file. See Renviron.bioc for more information.  | 
| Package: HiCool | 
| Version: 1.8.0 | 
| Command: /Library/Frameworks/R.framework/Resources/bin/R CMD check --install=check:HiCool.install-out.txt --library=/Library/Frameworks/R.framework/Resources/library --no-vignettes --timings HiCool_1.8.0.tar.gz | 
| StartedAt: 2025-10-14 05:06:33 -0400 (Tue, 14 Oct 2025) | 
| EndedAt: 2025-10-14 05:19:25 -0400 (Tue, 14 Oct 2025) | 
| EllapsedTime: 771.8 seconds | 
| RetCode: 0 | 
| Status: OK | 
| CheckDir: HiCool.Rcheck | 
| Warnings: 0 | 
##############################################################################
##############################################################################
###
### Running command:
###
###   /Library/Frameworks/R.framework/Resources/bin/R CMD check --install=check:HiCool.install-out.txt --library=/Library/Frameworks/R.framework/Resources/library --no-vignettes --timings HiCool_1.8.0.tar.gz
###
##############################################################################
##############################################################################
* using log directory ‘/Users/biocbuild/bbs-3.21-bioc/meat/HiCool.Rcheck’
* using R version 4.5.1 RC (2025-06-05 r88288)
* using platform: x86_64-apple-darwin20
* R was compiled by
    Apple clang version 14.0.0 (clang-1400.0.29.202)
    GNU Fortran (GCC) 14.2.0
* running under: macOS Monterey 12.7.6
* using session charset: UTF-8
* using option ‘--no-vignettes’
* checking for file ‘HiCool/DESCRIPTION’ ... OK
* this is package ‘HiCool’ version ‘1.8.0’
* package encoding: UTF-8
* checking package namespace information ... OK
* checking package dependencies ... OK
* checking if this is a source package ... OK
* checking if there is a namespace ... OK
* checking for hidden files and directories ... NOTE
Found the following hidden files and directories:
  .BBSoptions
These were most likely included in error. See section ‘Package
structure’ in the ‘Writing R Extensions’ manual.
* checking for portable file names ... OK
* checking for sufficient/correct file permissions ... OK
* checking whether package ‘HiCool’ can be installed ... NOTE
Found the following notes/warnings:
  Non-staged installation was used
See ‘/Users/biocbuild/bbs-3.21-bioc/meat/HiCool.Rcheck/00install.out’ for details.
* checking installed package size ... OK
* checking package directory ... OK
* checking ‘build’ directory ... OK
* checking DESCRIPTION meta-information ... NOTE
Package listed in more than one of Depends, Imports, Suggests, Enhances:
  ‘rmarkdown’
A package should be listed in only one of these fields.
* checking top-level files ... OK
* checking for left-over files ... OK
* checking index information ... OK
* checking package subdirectories ... OK
* checking code files for non-ASCII characters ... OK
* checking R files for syntax errors ... OK
* checking whether the package can be loaded ... OK
* checking whether the package can be loaded with stated dependencies ... OK
* checking whether the package can be unloaded cleanly ... OK
* checking whether the namespace can be loaded with stated dependencies ... OK
* checking whether the namespace can be unloaded cleanly ... OK
* checking dependencies in R code ... OK
* checking S3 generic/method consistency ... OK
* checking replacement functions ... OK
* checking foreign function calls ... OK
* checking R code for possible problems ... OK
* checking Rd files ... OK
* checking Rd metadata ... OK
* checking Rd cross-references ... OK
* checking for missing documentation entries ... OK
* checking for code/documentation mismatches ... OK
* checking Rd \usage sections ... OK
* checking Rd contents ... OK
* checking for unstated dependencies in examples ... OK
* checking line endings in shell scripts ... OK
* checking files in ‘vignettes’ ... OK
* checking examples ... OK
Examples with CPU (user + system) or elapsed time > 5s
             user system elapsed
HiCool    108.724  8.794 121.813
HiCReport  42.823  6.702  54.142
getLoops   12.460  0.931  14.311
* checking for unstated dependencies in ‘tests’ ... OK
* checking tests ...
  Running ‘testthat.R’
 OK
* checking for unstated dependencies in vignettes ... OK
* checking package vignettes ... OK
* checking running R code from vignettes ... SKIPPED
* checking re-building of vignette outputs ... SKIPPED
* checking PDF version of manual ... OK
* DONE
Status: 3 NOTEs
See
  ‘/Users/biocbuild/bbs-3.21-bioc/meat/HiCool.Rcheck/00check.log’
for details.
HiCool.Rcheck/00install.out
############################################################################## ############################################################################## ### ### Running command: ### ### /Library/Frameworks/R.framework/Resources/bin/R CMD INSTALL HiCool ### ############################################################################## ############################################################################## * installing to library ‘/Library/Frameworks/R.framework/Versions/4.5-x86_64/Resources/library’ * installing *source* package ‘HiCool’ ... ** this is package ‘HiCool’ version ‘1.8.0’ ** using non-staged installation via StagedInstall field ** R ** inst ** byte-compile and prepare package for lazy loading ** help *** installing help indices *** copying figures ** building package indices ** installing vignettes ** testing if installed package can be loaded * DONE (HiCool)
HiCool.Rcheck/tests/testthat.Rout
R version 4.5.1 RC (2025-06-05 r88288) -- "Great Square Root"
Copyright (C) 2025 The R Foundation for Statistical Computing
Platform: x86_64-apple-darwin20
R is free software and comes with ABSOLUTELY NO WARRANTY.
You are welcome to redistribute it under certain conditions.
Type 'license()' or 'licence()' for distribution details.
R is a collaborative project with many contributors.
Type 'contributors()' for more information and
'citation()' on how to cite R or R packages in publications.
Type 'demo()' for some demos, 'help()' for on-line help, or
'help.start()' for an HTML browser interface to help.
Type 'q()' to quit R.
> library(testthat)
> library(HiCool)
Loading required package: HiCExperiment
Consider using the `HiContacts` package to perform advanced genomic operations 
on `HiCExperiment` objects.
Read "Orchestrating Hi-C analysis with Bioconductor" online book to learn more:
https://js2264.github.io/OHCA/
> test_check("HiCool")
see ?HiContactsData and browseVignettes('HiContactsData') for documentation
loading from cache
see ?HiContactsData and browseVignettes('HiContactsData') for documentation
loading from cache
HiCool :: Recovering bowtie2 genome index from AWS iGenomes...
HiCool :: Initiating processing of fastq files [tmp folder: /tmp/RtmphFjq12/YX3LE1]...
HiCool :: Mapping fastq files...
[E::idx_find_and_load] Could not retrieve index file for '/tmp/RtmphFjq12/YX3LE1/tmp/a7d53fe8/temp_alignment.bam'
[E::idx_find_and_load] Could not retrieve index file for '/tmp/RtmphFjq12/YX3LE1/tmp/a7d53fe8/temp_alignment.bam'
[E::idx_find_and_load] Could not retrieve index file for '/tmp/RtmphFjq12/YX3LE1/tmp/a7d53fe8/temp_alignment.bam'
[E::idx_find_and_load] Could not retrieve index file for '/tmp/RtmphFjq12/YX3LE1/tmp/b156b83d/temp_alignment.bam'
[E::idx_find_and_load] Could not retrieve index file for '/tmp/RtmphFjq12/YX3LE1/tmp/b156b83d/temp_alignment.bam'
[E::idx_find_and_load] Could not retrieve index file for '/tmp/RtmphFjq12/YX3LE1/tmp/b156b83d/temp_alignment.bam'
[E::idx_find_and_load] Could not retrieve index file for '/tmp/RtmphFjq12/YX3LE1/tmp/f0ba737df61f_7833^mapped-R64-1-1^YX3LE1.for.bam'
[E::idx_find_and_load] Could not retrieve index file for '/tmp/RtmphFjq12/YX3LE1/tmp/f0ba737df61f_7833^mapped-R64-1-1^YX3LE1.rev.bam'
INFO:cooler.create:Writing chunk 0: /tmp/RtmphFjq12/YX3LE1/tmp6tva8i6d.multi.cool::0
INFO:cooler.create:Creating cooler at "/tmp/RtmphFjq12/YX3LE1/tmp6tva8i6d.multi.cool::/0"
INFO:cooler.create:Writing chroms
INFO:cooler.create:Writing bins
INFO:cooler.create:Writing pixels
INFO:cooler.create:Writing indexes
INFO:cooler.create:Writing info
INFO:cooler.create:Merging into /tmp/RtmphFjq12/YX3LE1/f0ba737df61f_7833^mapped-R64-1-1^YX3LE1.cool
INFO:cooler.create:Creating cooler at "/tmp/RtmphFjq12/YX3LE1/f0ba737df61f_7833^mapped-R64-1-1^YX3LE1.cool::/"
INFO:cooler.create:Writing chroms
INFO:cooler.create:Writing bins
INFO:cooler.create:Writing pixels
INFO:cooler.reduce:nnzs: [60531]
INFO:cooler.reduce:current: [60531]
INFO:cooler.create:Writing indexes
INFO:cooler.create:Writing info
HiCool :: Best-suited minimum resolution automatically inferred: 1000
HiCool :: Removing unwanted chromosomes...
HiCool :: Parsing pairs into .cool file...
HiCool :: Generating multi-resolution .mcool file...
HiCool :: Balancing .mcool file...
HiCool :: Tidying up everything for you...
HiCool :: .fastq to .mcool processing done!
HiCool :: Check ./HiCool/folder to find the generated files
HiCool :: Generating HiCool report. This might take a while.
HiCool :: Report generated and available @ /Users/biocbuild/bbs-3.21-bioc/meat/HiCool.Rcheck/tests/testthat/HiCool/f0ba737df61f_7833^mapped-R64-1-1^YX3LE1.html
HiCool :: All processing successfully achieved. Congrats!
see ?HiContactsData and browseVignettes('HiContactsData') for documentation
loading from cache
[ FAIL 0 | WARN 0 | SKIP 0 | PASS 3 ]
> 
> proc.time()
   user  system elapsed 
145.439  12.953 166.056 
HiCool.Rcheck/HiCool-Ex.timings
| name | user | system | elapsed | |
| HiCReport | 42.823 | 6.702 | 54.142 | |
| HiCool | 108.724 | 8.794 | 121.813 | |
| getLoops | 12.460 | 0.931 | 14.311 | |