| Back to Multiple platform build/check report for BioC 3.21: simplified long |
|
This page was generated on 2025-04-22 13:18 -0400 (Tue, 22 Apr 2025).
| Hostname | OS | Arch (*) | R version | Installed pkgs |
|---|---|---|---|---|
| nebbiolo1 | Linux (Ubuntu 24.04.1 LTS) | x86_64 | 4.5.0 RC (2025-04-04 r88126) -- "How About a Twenty-Six" | 4831 |
| palomino7 | Windows Server 2022 Datacenter | x64 | 4.5.0 RC (2025-04-04 r88126 ucrt) -- "How About a Twenty-Six" | 4573 |
| lconway | macOS 12.7.1 Monterey | x86_64 | 4.5.0 RC (2025-04-04 r88126) -- "How About a Twenty-Six" | 4599 |
| kjohnson3 | macOS 13.7.1 Ventura | arm64 | 4.5.0 RC (2025-04-04 r88126) -- "How About a Twenty-Six" | 4553 |
| kunpeng2 | Linux (openEuler 24.03 LTS) | aarch64 | R Under development (unstable) (2025-02-19 r87757) -- "Unsuffered Consequences" | 4570 |
| Click on any hostname to see more info about the system (e.g. compilers) (*) as reported by 'uname -p', except on Windows and Mac OS X | ||||
| Package 884/2341 | Hostname | OS / Arch | INSTALL | BUILD | CHECK | BUILD BIN | ||||||||
| GladiaTOX 1.24.0 (landing page) PMP S.A. R Support
| nebbiolo1 | Linux (Ubuntu 24.04.1 LTS) / x86_64 | OK | OK | OK | |||||||||
| palomino7 | Windows Server 2022 Datacenter / x64 | OK | OK | OK | OK | |||||||||
| lconway | macOS 12.7.1 Monterey / x86_64 | OK | OK | OK | OK | |||||||||
| kjohnson3 | macOS 13.7.1 Ventura / arm64 | OK | OK | OK | OK | |||||||||
| kunpeng2 | Linux (openEuler 24.03 LTS) / aarch64 | OK | OK | OK | ||||||||||
|
To the developers/maintainers of the GladiaTOX package: - Allow up to 24 hours (and sometimes 48 hours) for your latest push to git@git.bioconductor.org:packages/GladiaTOX.git to reflect on this report. See Troubleshooting Build Report for more information. - Use the following Renviron settings to reproduce errors and warnings. - If 'R CMD check' started to fail recently on the Linux builder(s) over a missing dependency, add the missing dependency to 'Suggests:' in your DESCRIPTION file. See Renviron.bioc for more information. |
| Package: GladiaTOX |
| Version: 1.24.0 |
| Command: /Library/Frameworks/R.framework/Resources/bin/R CMD check --install=check:GladiaTOX.install-out.txt --library=/Library/Frameworks/R.framework/Resources/library --no-vignettes --timings GladiaTOX_1.24.0.tar.gz |
| StartedAt: 2025-04-21 19:39:26 -0400 (Mon, 21 Apr 2025) |
| EndedAt: 2025-04-21 19:40:11 -0400 (Mon, 21 Apr 2025) |
| EllapsedTime: 45.6 seconds |
| RetCode: 0 |
| Status: OK |
| CheckDir: GladiaTOX.Rcheck |
| Warnings: 0 |
##############################################################################
##############################################################################
###
### Running command:
###
### /Library/Frameworks/R.framework/Resources/bin/R CMD check --install=check:GladiaTOX.install-out.txt --library=/Library/Frameworks/R.framework/Resources/library --no-vignettes --timings GladiaTOX_1.24.0.tar.gz
###
##############################################################################
##############################################################################
* using log directory ‘/Users/biocbuild/bbs-3.21-bioc/meat/GladiaTOX.Rcheck’
* using R version 4.5.0 RC (2025-04-04 r88126)
* using platform: aarch64-apple-darwin20
* R was compiled by
Apple clang version 14.0.0 (clang-1400.0.29.202)
GNU Fortran (GCC) 14.2.0
* running under: macOS Ventura 13.7.1
* using session charset: UTF-8
* using option ‘--no-vignettes’
* checking for file ‘GladiaTOX/DESCRIPTION’ ... OK
* checking extension type ... Package
* this is package ‘GladiaTOX’ version ‘1.24.0’
* checking package namespace information ... OK
* checking package dependencies ... OK
* checking if this is a source package ... OK
* checking if there is a namespace ... OK
* checking for hidden files and directories ... OK
* checking for portable file names ... OK
* checking for sufficient/correct file permissions ... OK
* checking whether package ‘GladiaTOX’ can be installed ... OK
* checking installed package size ... INFO
installed size is 5.3Mb
sub-directories of 1Mb or more:
sql 3.8Mb
* checking package directory ... OK
* checking ‘build’ directory ... OK
* checking DESCRIPTION meta-information ... OK
* checking top-level files ... OK
* checking for left-over files ... OK
* checking index information ... OK
* checking package subdirectories ... OK
* checking code files for non-ASCII characters ... OK
* checking R files for syntax errors ... OK
* checking whether the package can be loaded ... OK
* checking whether the package can be loaded with stated dependencies ... OK
* checking whether the package can be unloaded cleanly ... OK
* checking whether the namespace can be loaded with stated dependencies ... OK
* checking whether the namespace can be unloaded cleanly ... OK
* checking whether startup messages can be suppressed ... OK
* checking dependencies in R code ... OK
* checking S3 generic/method consistency ... OK
* checking replacement functions ... OK
* checking foreign function calls ... OK
* checking R code for possible problems ... NOTE
glCheckInput: no visible global function definition for ‘read.csv’
glLoadInput: no visible global function definition for ‘read.csv’
glPlotPosCtrlMEC: no visible binding for global variable ‘aenm_wrap’
glPlotPosCtrlMEC: no visible binding for global variable ‘modl_acc’
Undefined global functions or variables:
aenm_wrap modl_acc read.csv
Consider adding
importFrom("utils", "read.csv")
to your NAMESPACE file.
* checking Rd files ... OK
* checking Rd metadata ... OK
* checking Rd cross-references ... NOTE
Found the following Rd file(s) with Rd \link{} targets missing package
anchors:
gtoxLoadData.Rd: data.table
gtoxLoadUnit.Rd: data.table
Please provide package anchors for all Rd \link{} targets not in the
package itself and the base packages.
* checking for missing documentation entries ... OK
* checking for code/documentation mismatches ... OK
* checking Rd \usage sections ... OK
* checking Rd contents ... OK
* checking for unstated dependencies in examples ... OK
* checking files in ‘vignettes’ ... OK
* checking examples ... OK
Examples with CPU (user + system) or elapsed time > 5s
user system elapsed
gtoxRun 7.353 6.153 6.901
assignDefaultMthds 6.232 3.552 5.210
* checking for unstated dependencies in ‘tests’ ... OK
* checking tests ...
Running ‘testthat.R’
OK
* checking for unstated dependencies in vignettes ... OK
* checking package vignettes ... OK
* checking running R code from vignettes ... SKIPPED
* checking re-building of vignette outputs ... SKIPPED
* checking PDF version of manual ... OK
* DONE
Status: 2 NOTEs
See
‘/Users/biocbuild/bbs-3.21-bioc/meat/GladiaTOX.Rcheck/00check.log’
for details.
GladiaTOX.Rcheck/00install.out
############################################################################## ############################################################################## ### ### Running command: ### ### /Library/Frameworks/R.framework/Resources/bin/R CMD INSTALL GladiaTOX ### ############################################################################## ############################################################################## * installing to library ‘/Library/Frameworks/R.framework/Versions/4.5-arm64/Resources/library’ * installing *source* package ‘GladiaTOX’ ... ** this is package ‘GladiaTOX’ version ‘1.24.0’ ** using staged installation ** R ** inst ** byte-compile and prepare package for lazy loading ** help *** installing help indices ** building package indices ** installing vignettes ** testing if installed package can be loaded from temporary location ** testing if installed package can be loaded from final location ** testing if installed package keeps a record of temporary installation path * DONE (GladiaTOX)
GladiaTOX.Rcheck/tests/testthat.Rout
R version 4.5.0 RC (2025-04-04 r88126) -- "How About a Twenty-Six"
Copyright (C) 2025 The R Foundation for Statistical Computing
Platform: aarch64-apple-darwin20
R is free software and comes with ABSOLUTELY NO WARRANTY.
You are welcome to redistribute it under certain conditions.
Type 'license()' or 'licence()' for distribution details.
R is a collaborative project with many contributors.
Type 'contributors()' for more information and
'citation()' on how to cite R or R packages in publications.
Type 'demo()' for some demos, 'help()' for on-line help, or
'help.start()' for an HTML browser interface to help.
Type 'q()' to quit R.
> library(testthat)
> library(GladiaTOX)
Loading required package: data.table
GladiaTOX (v1.24.0) loaded with the following settings:
TCPL_DB: /Library/Frameworks/R.framework/Versions/4.5-arm64/Resources/library/GladiaTOX/sql/gladiatoxdb.sqlite
TCPL_USER: NA
TCPL_HOST: NA
TCPL_DRVR: SQLite
Default settings stored in gtox config file. See ?gtoxConf for more information.
>
> options(testthat.junit.output_file="tests-out.xml")
> test_dir("testthat")
✔ | F W S OK | Context
⠏ | 0 | assignDefaultMthds
⠋ | 1 | assignDefaultMthds
✔ | 1 | assignDefaultMthds
⠏ | 0 | exportResultTable
✔ | 2 | exportResultTable
⠏ | 0 | getsplit
⠏ | 0 | getsplit
✔ | 1 | getsplit
⠏ | 0 | glComputeToxInd
✔ | 1 | glComputeToxInd
⠏ | 0 | gtoxAICProb
✔ | 1 | gtoxAICProb
⠏ | 0 | gtoxCalcVmad
⠏ | 0 | Calculate Vmad
✔ | 1 | Calculate Vmad
⠏ | 0 | gtoxLoadAcid
⠏ | 0 | Check assay component table
✔ | 2 | Check assay component table
⠏ | 0 | gtoxLoadAeid
⠏ | 0 | Check assay endpoint table
✔ | 2 | Check assay endpoint table
⠏ | 0 | gtoxLoadAid
✔ | 1 | gtoxLoadAid
⠏ | 0 | gtoxLoadApid
⠏ | 0 | Check assay plate table
✔ | 2 | Check assay plate table
⠏ | 0 | gtoxLoadAsid
✔ | 3 | gtoxLoadAsid
⠏ | 0 | gtoxLoadChem
⠏ | 0 | Check assay chemical table
✔ | 3 | Check assay chemical table
⠏ | 0 | gtoxLoadWaid
⠏ | 0 | Check assay well table
✔ | 2 | Check assay well table
⠏ | 0 | is.odd
✔ | 2 | is.odd
⠏ | 0 | lu
✔ | 1 | lu
⠏ | 0 | lw
✔ | 1 | lw
⠏ | 0 | mc2
✔ | 1 | mc2
⠏ | 0 | mc3
✔ | 1 | mc3
⠏ | 0 | mc5
✔ | 1 | mc5
⠏ | 0 | mc6
✔ | 1 | mc6
⠏ | 0 | sc1
✔ | 1 | sc1
⠏ | 0 | sc2
✔ | 1 | sc2
══ Results ═════════════════════════════════════════════════════════════════════
[ FAIL 0 | WARN 0 | SKIP 0 | PASS 32 ]
> test_check("GladiaTOX")
[ FAIL 0 | WARN 0 | SKIP 0 | PASS 32 ]
>
> proc.time()
user system elapsed
2.270 0.190 2.064
GladiaTOX.Rcheck/GladiaTOX-Ex.timings
| name | user | system | elapsed | |
| Models | 0.038 | 0.007 | 0.048 | |
| assay_funcs | 0.108 | 0.013 | 0.121 | |
| assignDefaultMthds | 6.232 | 3.552 | 5.210 | |
| buildAssayTab | 0.007 | 0.002 | 0.009 | |
| config_funcs | 0.002 | 0.001 | 0.003 | |
| deleteStudy | 0 | 0 | 0 | |
| exportResultForToxpiGUI | 0.101 | 0.023 | 0.124 | |
| exportResultTable | 0.042 | 0.003 | 0.046 | |
| glComputeToxInd | 0.083 | 0.008 | 0.091 | |
| glPlotPie | 0.668 | 0.025 | 0.415 | |
| glPlotPieLogo | 0.223 | 0.002 | 0.227 | |
| glPlotPosCtrl | 0.479 | 0.016 | 0.265 | |
| glPlotPosCtrlMEC | 0.117 | 0.011 | 0.115 | |
| glPlotStat | 0.273 | 0.007 | 0.280 | |
| glPlotToxInd | 0.252 | 0.012 | 0.176 | |
| gtoxAICProb | 0.001 | 0.001 | 0.000 | |
| gtoxAddModel | 0.284 | 0.009 | 0.182 | |
| gtoxCalcVmad | 0.013 | 0.002 | 0.014 | |
| gtoxCode2CASN | 0.001 | 0.000 | 0.000 | |
| gtoxFit | 0.136 | 0.001 | 0.137 | |
| gtoxImportThermoDB | 0.000 | 0.000 | 0.001 | |
| gtoxListFlds | 0.002 | 0.000 | 0.002 | |
| gtoxLoadApid | 0.002 | 0.000 | 0.003 | |
| gtoxLoadChem | 0.017 | 0.003 | 0.021 | |
| gtoxLoadClib | 0.002 | 0.001 | 0.002 | |
| gtoxLoadData | 0.022 | 0.003 | 0.025 | |
| gtoxLoadVehicle | 0.002 | 0.000 | 0.002 | |
| gtoxLoadVmad | 0.002 | 0.000 | 0.002 | |
| gtoxLoadWaid | 0.008 | 0.001 | 0.008 | |
| gtoxMakeAeidPlts | 0.127 | 0.010 | 0.137 | |
| gtoxPlotErrBar | 0.150 | 0.007 | 0.107 | |
| gtoxPlotFitc | 0.168 | 0.006 | 0.087 | |
| gtoxPlotFits | 0.081 | 0.006 | 0.043 | |
| gtoxPlotM4ID | 0.165 | 0.015 | 0.165 | |
| gtoxPlotPie | 0.037 | 0.003 | 0.041 | |
| gtoxPlotPieLgnd | 0.002 | 0.001 | 0.003 | |
| gtoxPlotPlate | 0.060 | 0.005 | 0.066 | |
| gtoxPlotWin | 0 | 0 | 0 | |
| gtoxPrepOtpt | 0.064 | 0.006 | 0.044 | |
| gtoxReport | 0 | 0 | 0 | |
| gtoxRun | 7.353 | 6.153 | 6.901 | |
| gtoxSetWllq | 0.024 | 0.012 | 0.037 | |
| gtoxSubsetChid | 0.031 | 0.010 | 0.041 | |
| gtoxWriteData | 0 | 0 | 0 | |
| hill_utils | 0.001 | 0.000 | 0.000 | |
| loadAnnot | 0 | 0 | 0 | |
| lu | 0 | 0 | 0 | |
| lw | 0 | 0 | 0 | |
| mthd_funcs | 0.004 | 0.001 | 0.006 | |
| prepareDatForDB | 0 | 0 | 0 | |
| query_funcs | 0.004 | 0.001 | 0.006 | |
| rgstr_funcs | 0.087 | 0.019 | 0.106 | |