| Back to Multiple platform build/check report for BioC 3.21: simplified long |
|
This page was generated on 2025-04-22 13:18 -0400 (Tue, 22 Apr 2025).
| Hostname | OS | Arch (*) | R version | Installed pkgs |
|---|---|---|---|---|
| nebbiolo1 | Linux (Ubuntu 24.04.1 LTS) | x86_64 | 4.5.0 RC (2025-04-04 r88126) -- "How About a Twenty-Six" | 4831 |
| palomino7 | Windows Server 2022 Datacenter | x64 | 4.5.0 RC (2025-04-04 r88126 ucrt) -- "How About a Twenty-Six" | 4573 |
| lconway | macOS 12.7.1 Monterey | x86_64 | 4.5.0 RC (2025-04-04 r88126) -- "How About a Twenty-Six" | 4599 |
| kjohnson3 | macOS 13.7.1 Ventura | arm64 | 4.5.0 RC (2025-04-04 r88126) -- "How About a Twenty-Six" | 4553 |
| kunpeng2 | Linux (openEuler 24.03 LTS) | aarch64 | R Under development (unstable) (2025-02-19 r87757) -- "Unsuffered Consequences" | 4570 |
| Click on any hostname to see more info about the system (e.g. compilers) (*) as reported by 'uname -p', except on Windows and Mac OS X | ||||
| Package 805/2341 | Hostname | OS / Arch | INSTALL | BUILD | CHECK | BUILD BIN | ||||||||
| GeneBreak 1.38.0 (landing page) Evert van den Broek
| nebbiolo1 | Linux (Ubuntu 24.04.1 LTS) / x86_64 | OK | OK | OK | |||||||||
| palomino7 | Windows Server 2022 Datacenter / x64 | OK | OK | OK | OK | |||||||||
| lconway | macOS 12.7.1 Monterey / x86_64 | OK | OK | OK | OK | |||||||||
| kjohnson3 | macOS 13.7.1 Ventura / arm64 | OK | OK | OK | OK | |||||||||
| kunpeng2 | Linux (openEuler 24.03 LTS) / aarch64 | OK | OK | OK | ||||||||||
|
To the developers/maintainers of the GeneBreak package: - Allow up to 24 hours (and sometimes 48 hours) for your latest push to git@git.bioconductor.org:packages/GeneBreak.git to reflect on this report. See Troubleshooting Build Report for more information. - Use the following Renviron settings to reproduce errors and warnings. - If 'R CMD check' started to fail recently on the Linux builder(s) over a missing dependency, add the missing dependency to 'Suggests:' in your DESCRIPTION file. See Renviron.bioc for more information. |
| Package: GeneBreak |
| Version: 1.38.0 |
| Command: /Library/Frameworks/R.framework/Resources/bin/R CMD check --install=check:GeneBreak.install-out.txt --library=/Library/Frameworks/R.framework/Resources/library --no-vignettes --timings GeneBreak_1.38.0.tar.gz |
| StartedAt: 2025-04-21 19:30:42 -0400 (Mon, 21 Apr 2025) |
| EndedAt: 2025-04-21 19:31:47 -0400 (Mon, 21 Apr 2025) |
| EllapsedTime: 64.9 seconds |
| RetCode: 0 |
| Status: OK |
| CheckDir: GeneBreak.Rcheck |
| Warnings: 0 |
##############################################################################
##############################################################################
###
### Running command:
###
### /Library/Frameworks/R.framework/Resources/bin/R CMD check --install=check:GeneBreak.install-out.txt --library=/Library/Frameworks/R.framework/Resources/library --no-vignettes --timings GeneBreak_1.38.0.tar.gz
###
##############################################################################
##############################################################################
* using log directory ‘/Users/biocbuild/bbs-3.21-bioc/meat/GeneBreak.Rcheck’
* using R version 4.5.0 RC (2025-04-04 r88126)
* using platform: aarch64-apple-darwin20
* R was compiled by
Apple clang version 14.0.0 (clang-1400.0.29.202)
GNU Fortran (GCC) 14.2.0
* running under: macOS Ventura 13.7.1
* using session charset: UTF-8
* using option ‘--no-vignettes’
* checking for file ‘GeneBreak/DESCRIPTION’ ... OK
* checking extension type ... Package
* this is package ‘GeneBreak’ version ‘1.38.0’
* checking package namespace information ... OK
* checking package dependencies ... OK
* checking if this is a source package ... OK
* checking if there is a namespace ... OK
* checking for hidden files and directories ... OK
* checking for portable file names ... OK
* checking for sufficient/correct file permissions ... OK
* checking whether package ‘GeneBreak’ can be installed ... OK
* checking installed package size ... OK
* checking package directory ... OK
* checking ‘build’ directory ... OK
* checking DESCRIPTION meta-information ... OK
* checking top-level files ... OK
* checking for left-over files ... OK
* checking index information ... OK
* checking package subdirectories ... OK
* checking code files for non-ASCII characters ... OK
* checking R files for syntax errors ... OK
* checking whether the package can be loaded ... OK
* checking whether the package can be loaded with stated dependencies ... OK
* checking whether the package can be unloaded cleanly ... OK
* checking whether the namespace can be loaded with stated dependencies ... OK
* checking whether the namespace can be unloaded cleanly ... OK
* checking dependencies in R code ... OK
* checking S3 generic/method consistency ... OK
* checking replacement functions ... OK
* checking foreign function calls ... OK
* checking R code for possible problems ... NOTE
.glmbreak: no visible global function definition for ‘glm’
.glmbreak: no visible global function definition for ‘predict’
addGeneAnnotation,CopyNumberBreakPoints: no visible global function
definition for ‘head’
bpStats,CopyNumberBreakPoints: no visible global function definition
for ‘sd’
bpStats,CopyNumberBreakPoints: no visible global function definition
for ‘p.adjust’
Undefined global functions or variables:
glm head p.adjust predict sd
Consider adding
importFrom("stats", "glm", "p.adjust", "predict", "sd")
importFrom("utils", "head")
to your NAMESPACE file.
* checking Rd files ... OK
* checking Rd metadata ... OK
* checking Rd cross-references ... OK
* checking for missing documentation entries ... OK
* checking for code/documentation mismatches ... OK
* checking Rd \usage sections ... OK
* checking Rd contents ... OK
* checking for unstated dependencies in examples ... OK
* checking contents of ‘data’ directory ... OK
* checking data for non-ASCII characters ... OK
* checking data for ASCII and uncompressed saves ... OK
* checking sizes of PDF files under ‘inst/doc’ ... OK
* checking files in ‘vignettes’ ... OK
* checking examples ... OK
* checking for unstated dependencies in vignettes ... OK
* checking package vignettes ... OK
* checking running R code from vignettes ... SKIPPED
* checking re-building of vignette outputs ... SKIPPED
* checking PDF version of manual ... OK
* DONE
Status: 1 NOTE
See
‘/Users/biocbuild/bbs-3.21-bioc/meat/GeneBreak.Rcheck/00check.log’
for details.
GeneBreak.Rcheck/00install.out
############################################################################## ############################################################################## ### ### Running command: ### ### /Library/Frameworks/R.framework/Resources/bin/R CMD INSTALL GeneBreak ### ############################################################################## ############################################################################## * installing to library ‘/Library/Frameworks/R.framework/Versions/4.5-arm64/Resources/library’ * installing *source* package ‘GeneBreak’ ... ** this is package ‘GeneBreak’ version ‘1.38.0’ ** using staged installation ** R ** data ** byte-compile and prepare package for lazy loading Creating a new generic function for ‘segmentData’ in package ‘GeneBreak’ ** help *** installing help indices ** building package indices ** installing vignettes ** testing if installed package can be loaded from temporary location ** testing if installed package can be loaded from final location ** testing if installed package keeps a record of temporary installation path * DONE (GeneBreak)
GeneBreak.Rcheck/GeneBreak-Ex.timings
| name | user | system | elapsed | |
| CopyNumberBreakPointGenes-class | 2.465 | 0.319 | 2.788 | |
| CopyNumberBreakPoints-class | 0.521 | 0.099 | 0.620 | |
| accessOptions-CopyNumberBreakPoints-method | 0.420 | 0.047 | 0.469 | |
| addGeneAnnotation-CopyNumberBreakPoints-method | 0.775 | 0.077 | 0.852 | |
| bpFilter-CopyNumberBreakPoints-method | 0.621 | 0.066 | 0.687 | |
| bpGenes-CopyNumberBreakPointGenes-method | 0.836 | 0.084 | 0.920 | |
| bpPlot-CopyNumberBreakPoints-method | 1.768 | 0.290 | 2.067 | |
| bpStats-CopyNumberBreakPoints-method | 1.882 | 0.365 | 2.249 | |
| breakpointData-CopyNumberBreakPoints-method | 0.444 | 0.200 | 0.649 | |
| breakpointsPerGene-CopyNumberBreakPointGenes-method | 0.721 | 0.240 | 0.965 | |
| callData-CopyNumberBreakPoints-method | 0.461 | 0.203 | 0.667 | |
| featureChromosomes-CopyNumberBreakPoints-method | 0.197 | 0.035 | 0.232 | |
| featureInfo-CopyNumberBreakPoints-method | 0.904 | 0.149 | 1.054 | |
| featuresPerGene-CopyNumberBreakPointGenes-method | 0.693 | 0.094 | 0.789 | |
| geneChromosomes-CopyNumberBreakPointGenes-method | 0.698 | 0.100 | 0.810 | |
| geneInfo-CopyNumberBreakPointGenes-method | 0.616 | 0.107 | 0.742 | |
| getBreakpoints | 0.490 | 0.097 | 0.594 | |
| namesFeatures-CopyNumberBreakPoints-method | 0.329 | 0.035 | 0.363 | |
| recurrentGenes-CopyNumberBreakPointGenes-method | 1.777 | 0.297 | 2.078 | |
| sampleNames-CopyNumberBreakPoints-method | 0.351 | 0.044 | 0.395 | |
| segmentData-CopyNumberBreakPoints-method | 0.434 | 0.194 | 0.635 | |