| Back to Multiple platform build/check report for BioC 3.21: simplified long |
|
This page was generated on 2025-10-16 11:40 -0400 (Thu, 16 Oct 2025).
| Hostname | OS | Arch (*) | R version | Installed pkgs |
|---|---|---|---|---|
| nebbiolo1 | Linux (Ubuntu 24.04.3 LTS) | x86_64 | 4.5.1 (2025-06-13) -- "Great Square Root" | 4833 |
| merida1 | macOS 12.7.6 Monterey | x86_64 | 4.5.1 RC (2025-06-05 r88288) -- "Great Square Root" | 4614 |
| kjohnson1 | macOS 13.7.5 Ventura | arm64 | 4.5.1 Patched (2025-06-14 r88325) -- "Great Square Root" | 4555 |
| kunpeng2 | Linux (openEuler 24.03 LTS) | aarch64 | R Under development (unstable) (2025-02-19 r87757) -- "Unsuffered Consequences" | 4586 |
| Click on any hostname to see more info about the system (e.g. compilers) (*) as reported by 'uname -p', except on Windows and Mac OS X | ||||
| Package 930/2341 | Hostname | OS / Arch | INSTALL | BUILD | CHECK | BUILD BIN | ||||||||
| GSEABenchmarkeR 1.28.1 (landing page) Ludwig Geistlinger
| nebbiolo1 | Linux (Ubuntu 24.04.3 LTS) / x86_64 | OK | OK | OK | |||||||||
| merida1 | macOS 12.7.6 Monterey / x86_64 | OK | OK | OK | OK | |||||||||
| kjohnson1 | macOS 13.7.5 Ventura / arm64 | OK | OK | OK | OK | |||||||||
| kunpeng2 | Linux (openEuler 24.03 LTS) / aarch64 | OK | OK | OK | ||||||||||
|
To the developers/maintainers of the GSEABenchmarkeR package: - Allow up to 24 hours (and sometimes 48 hours) for your latest push to git@git.bioconductor.org:packages/GSEABenchmarkeR.git to reflect on this report. See Troubleshooting Build Report for more information. - Use the following Renviron settings to reproduce errors and warnings. - If 'R CMD check' started to fail recently on the Linux builder(s) over a missing dependency, add the missing dependency to 'Suggests:' in your DESCRIPTION file. See Renviron.bioc for more information. |
| Package: GSEABenchmarkeR |
| Version: 1.28.1 |
| Command: /Library/Frameworks/R.framework/Resources/bin/R CMD check --install=check:GSEABenchmarkeR.install-out.txt --library=/Library/Frameworks/R.framework/Resources/library --no-vignettes --timings GSEABenchmarkeR_1.28.1.tar.gz |
| StartedAt: 2025-10-14 23:54:51 -0400 (Tue, 14 Oct 2025) |
| EndedAt: 2025-10-15 00:00:20 -0400 (Wed, 15 Oct 2025) |
| EllapsedTime: 328.8 seconds |
| RetCode: 0 |
| Status: OK |
| CheckDir: GSEABenchmarkeR.Rcheck |
| Warnings: 0 |
##############################################################################
##############################################################################
###
### Running command:
###
### /Library/Frameworks/R.framework/Resources/bin/R CMD check --install=check:GSEABenchmarkeR.install-out.txt --library=/Library/Frameworks/R.framework/Resources/library --no-vignettes --timings GSEABenchmarkeR_1.28.1.tar.gz
###
##############################################################################
##############################################################################
* using log directory ‘/Users/biocbuild/bbs-3.21-bioc/meat/GSEABenchmarkeR.Rcheck’
* using R version 4.5.1 Patched (2025-06-14 r88325)
* using platform: aarch64-apple-darwin20
* R was compiled by
Apple clang version 16.0.0 (clang-1600.0.26.6)
GNU Fortran (GCC) 14.2.0
* running under: macOS Ventura 13.7.5
* using session charset: UTF-8
* using option ‘--no-vignettes’
* checking for file ‘GSEABenchmarkeR/DESCRIPTION’ ... OK
* checking extension type ... Package
* this is package ‘GSEABenchmarkeR’ version ‘1.28.1’
* package encoding: UTF-8
* checking package namespace information ... OK
* checking package dependencies ... OK
* checking if this is a source package ... OK
* checking if there is a namespace ... OK
* checking for hidden files and directories ... OK
* checking for portable file names ... OK
* checking for sufficient/correct file permissions ... OK
* checking whether package ‘GSEABenchmarkeR’ can be installed ... OK
* checking installed package size ... OK
* checking package directory ... OK
* checking ‘build’ directory ... OK
* checking DESCRIPTION meta-information ... OK
* checking top-level files ... OK
* checking for left-over files ... OK
* checking index information ... OK
* checking package subdirectories ... OK
* checking code files for non-ASCII characters ... OK
* checking R files for syntax errors ... OK
* checking whether the package can be loaded ... OK
* checking whether the package can be loaded with stated dependencies ... OK
* checking whether the package can be unloaded cleanly ... OK
* checking whether the namespace can be loaded with stated dependencies ... OK
* checking whether the namespace can be unloaded cleanly ... OK
* checking dependencies in R code ... OK
* checking S3 generic/method consistency ... OK
* checking replacement functions ... OK
* checking foreign function calls ... OK
* checking R code for possible problems ... NOTE
evalRelevance: no visible binding for global variable ‘REL.SCORE’
Undefined global functions or variables:
REL.SCORE
* checking Rd files ... OK
* checking Rd metadata ... OK
* checking Rd cross-references ... NOTE
Found the following Rd file(s) with Rd \link{} targets missing package
anchors:
cacheResource.Rd: BiocFileCache-class
evalRandomGS.Rd: sbeaMethods, nbeaMethods,
SummarizedExperiment-class, sbea, nbea, BiocParallelParam-class,
register
evalRelevance.Rd: DataFrame-class, gsRanking
evalTypeIError.Rd: sbeaMethods, nbeaMethods,
SummarizedExperiment-class, sbea, nbea, BiocParallelParam-class,
register
loadEData.Rd: SummarizedExperiment-class, ExpressionSet-class
maPreproc.Rd: ExpressionSet-class, BiocParallelParam-class,
SummarizedExperiment-class
readResults.Rd: sbeaMethods, nbeaMethods
runDE.Rd: SummarizedExperiment-class, deAna, BiocParallelParam-class,
rowData
runEA.Rd: SummarizedExperiment-class, sbea, sbeaMethods, nbeaMethods,
BiocParallelParam-class, nbea, register
Please provide package anchors for all Rd \link{} targets not in the
package itself and the base packages.
* checking for missing documentation entries ... OK
* checking for code/documentation mismatches ... OK
* checking Rd \usage sections ... OK
* checking Rd contents ... OK
* checking for unstated dependencies in examples ... OK
* checking files in ‘vignettes’ ... OK
* checking examples ... OK
Examples with CPU (user + system) or elapsed time > 5s
user system elapsed
evalTypeIError 34.195 24.142 69.035
loadEData 28.235 2.813 33.642
runEA 13.726 10.047 14.544
evalRandomGS 13.108 3.768 19.294
* checking for unstated dependencies in vignettes ... OK
* checking package vignettes ... OK
* checking running R code from vignettes ... SKIPPED
* checking re-building of vignette outputs ... SKIPPED
* checking PDF version of manual ... OK
* DONE
Status: 2 NOTEs
See
‘/Users/biocbuild/bbs-3.21-bioc/meat/GSEABenchmarkeR.Rcheck/00check.log’
for details.
GSEABenchmarkeR.Rcheck/00install.out
############################################################################## ############################################################################## ### ### Running command: ### ### /Library/Frameworks/R.framework/Resources/bin/R CMD INSTALL GSEABenchmarkeR ### ############################################################################## ############################################################################## * installing to library ‘/Library/Frameworks/R.framework/Versions/4.5-arm64/Resources/library’ * installing *source* package ‘GSEABenchmarkeR’ ... ** this is package ‘GSEABenchmarkeR’ version ‘1.28.1’ ** using staged installation ** R ** inst ** byte-compile and prepare package for lazy loading ** help *** installing help indices ** building package indices ** installing vignettes ** testing if installed package can be loaded from temporary location ** testing if installed package can be loaded from final location ** testing if installed package keeps a record of temporary installation path * DONE (GSEABenchmarkeR)
GSEABenchmarkeR.Rcheck/GSEABenchmarkeR-Ex.timings
| name | user | system | elapsed | |
| bpPlot | 0.032 | 0.004 | 0.036 | |
| cacheResource | 2.441 | 0.235 | 2.703 | |
| evalNrSigSets | 2.865 | 0.084 | 3.160 | |
| evalRandomGS | 13.108 | 3.768 | 19.294 | |
| evalRelevance | 0.413 | 0.092 | 0.644 | |
| evalTypeIError | 34.195 | 24.142 | 69.035 | |
| loadEData | 28.235 | 2.813 | 33.642 | |
| maPreproc | 2.184 | 0.392 | 2.593 | |
| readDataId2diseaseCodeMap | 0.003 | 0.013 | 0.017 | |
| readResults | 0.167 | 0.095 | 0.261 | |
| runDE | 2.032 | 0.936 | 2.749 | |
| runEA | 13.726 | 10.047 | 14.544 | |