| Back to Multiple platform build/check report for BioC 3.21: simplified long |
|
This page was generated on 2025-04-22 13:16 -0400 (Tue, 22 Apr 2025).
| Hostname | OS | Arch (*) | R version | Installed pkgs |
|---|---|---|---|---|
| nebbiolo1 | Linux (Ubuntu 24.04.1 LTS) | x86_64 | 4.5.0 RC (2025-04-04 r88126) -- "How About a Twenty-Six" | 4831 |
| palomino7 | Windows Server 2022 Datacenter | x64 | 4.5.0 RC (2025-04-04 r88126 ucrt) -- "How About a Twenty-Six" | 4573 |
| lconway | macOS 12.7.1 Monterey | x86_64 | 4.5.0 RC (2025-04-04 r88126) -- "How About a Twenty-Six" | 4599 |
| kjohnson3 | macOS 13.7.1 Ventura | arm64 | 4.5.0 RC (2025-04-04 r88126) -- "How About a Twenty-Six" | 4553 |
| kunpeng2 | Linux (openEuler 24.03 LTS) | aarch64 | R Under development (unstable) (2025-02-19 r87757) -- "Unsuffered Consequences" | 4570 |
| Click on any hostname to see more info about the system (e.g. compilers) (*) as reported by 'uname -p', except on Windows and Mac OS X | ||||
| Package 913/2341 | Hostname | OS / Arch | INSTALL | BUILD | CHECK | BUILD BIN | ||||||||
| GRaNIE 1.12.0 (landing page) Christian Arnold
| nebbiolo1 | Linux (Ubuntu 24.04.1 LTS) / x86_64 | OK | OK | OK | |||||||||
| palomino7 | Windows Server 2022 Datacenter / x64 | OK | OK | WARNINGS | OK | |||||||||
| lconway | macOS 12.7.1 Monterey / x86_64 | OK | OK | OK | OK | |||||||||
| kjohnson3 | macOS 13.7.1 Ventura / arm64 | OK | OK | OK | OK | |||||||||
| kunpeng2 | Linux (openEuler 24.03 LTS) / aarch64 | OK | OK | OK | ||||||||||
|
To the developers/maintainers of the GRaNIE package: - Allow up to 24 hours (and sometimes 48 hours) for your latest push to git@git.bioconductor.org:packages/GRaNIE.git to reflect on this report. See Troubleshooting Build Report for more information. - Use the following Renviron settings to reproduce errors and warnings. - If 'R CMD check' started to fail recently on the Linux builder(s) over a missing dependency, add the missing dependency to 'Suggests:' in your DESCRIPTION file. See Renviron.bioc for more information. |
| Package: GRaNIE |
| Version: 1.12.0 |
| Command: /Library/Frameworks/R.framework/Resources/bin/R CMD check --install=check:GRaNIE.install-out.txt --library=/Library/Frameworks/R.framework/Resources/library --no-vignettes --timings GRaNIE_1.12.0.tar.gz |
| StartedAt: 2025-04-21 21:06:44 -0400 (Mon, 21 Apr 2025) |
| EndedAt: 2025-04-21 21:15:01 -0400 (Mon, 21 Apr 2025) |
| EllapsedTime: 497.1 seconds |
| RetCode: 0 |
| Status: OK |
| CheckDir: GRaNIE.Rcheck |
| Warnings: 0 |
##############################################################################
##############################################################################
###
### Running command:
###
### /Library/Frameworks/R.framework/Resources/bin/R CMD check --install=check:GRaNIE.install-out.txt --library=/Library/Frameworks/R.framework/Resources/library --no-vignettes --timings GRaNIE_1.12.0.tar.gz
###
##############################################################################
##############################################################################
* using log directory ‘/Users/biocbuild/bbs-3.21-bioc/meat/GRaNIE.Rcheck’
* using R version 4.5.0 RC (2025-04-04 r88126)
* using platform: x86_64-apple-darwin20
* R was compiled by
Apple clang version 14.0.0 (clang-1400.0.29.202)
GNU Fortran (GCC) 14.2.0
* running under: macOS Monterey 12.7.6
* using session charset: UTF-8
* using option ‘--no-vignettes’
* checking for file ‘GRaNIE/DESCRIPTION’ ... OK
* this is package ‘GRaNIE’ version ‘1.12.0’
* package encoding: UTF-8
* checking package namespace information ... OK
* checking package dependencies ... INFO
Imports includes 37 non-default packages.
Importing from so many packages makes the package vulnerable to any of
them becoming unavailable. Move as many as possible to Suggests and
use conditionally.
* checking if this is a source package ... OK
* checking if there is a namespace ... OK
* checking for hidden files and directories ... OK
* checking for portable file names ... OK
* checking for sufficient/correct file permissions ... OK
* checking whether package ‘GRaNIE’ can be installed ... OK
* checking installed package size ... OK
* checking package directory ... OK
* checking ‘build’ directory ... OK
* checking DESCRIPTION meta-information ... OK
* checking top-level files ... OK
* checking for left-over files ... OK
* checking index information ... OK
* checking package subdirectories ... OK
* checking code files for non-ASCII characters ... OK
* checking R files for syntax errors ... OK
* checking whether the package can be loaded ... OK
* checking whether the package can be loaded with stated dependencies ... OK
* checking whether the package can be unloaded cleanly ... OK
* checking whether the namespace can be loaded with stated dependencies ... OK
* checking whether the namespace can be unloaded cleanly ... OK
* checking whether startup messages can be suppressed ... OK
* checking dependencies in R code ... OK
* checking S3 generic/method consistency ... OK
* checking replacement functions ... OK
* checking foreign function calls ... OK
* checking R code for possible problems ... NOTE
.performIHW: no visible binding for global variable 'adj_pvalue'
Undefined global functions or variables:
adj_pvalue
* checking Rd files ... OK
* checking Rd metadata ... OK
* checking Rd cross-references ... OK
* checking for missing documentation entries ... OK
* checking for code/documentation mismatches ... OK
* checking Rd \usage sections ... OK
* checking Rd contents ... OK
* checking for unstated dependencies in examples ... OK
* checking files in ‘vignettes’ ... OK
* checking examples ... OK
Examples with CPU (user + system) or elapsed time > 5s
user system elapsed
generateStatsSummary 8.173 0.166 8.816
addConnections_TF_peak 5.513 1.061 8.080
addSNPData 4.932 0.371 7.459
* checking for unstated dependencies in vignettes ... OK
* checking package vignettes ... OK
* checking running R code from vignettes ... SKIPPED
* checking re-building of vignette outputs ... SKIPPED
* checking PDF version of manual ... OK
* DONE
Status: 1 NOTE
See
‘/Users/biocbuild/bbs-3.21-bioc/meat/GRaNIE.Rcheck/00check.log’
for details.
GRaNIE.Rcheck/00install.out
############################################################################## ############################################################################## ### ### Running command: ### ### /Library/Frameworks/R.framework/Resources/bin/R CMD INSTALL GRaNIE ### ############################################################################## ############################################################################## * installing to library ‘/Library/Frameworks/R.framework/Versions/4.5-x86_64/Resources/library’ * installing *source* package ‘GRaNIE’ ... ** this is package ‘GRaNIE’ version ‘1.12.0’ ** using staged installation ** R ** byte-compile and prepare package for lazy loading ** help *** installing help indices *** copying figures ** building package indices ** installing vignettes ** testing if installed package can be loaded from temporary location ** testing if installed package can be loaded from final location ** testing if installed package keeps a record of temporary installation path * DONE (GRaNIE)
GRaNIE.Rcheck/GRaNIE-Ex.timings
| name | user | system | elapsed | |
| AR_classification_wrapper | 0 | 0 | 0 | |
| addConnections_TF_peak | 5.513 | 1.061 | 8.080 | |
| addConnections_peak_gene | 2.824 | 0.076 | 3.374 | |
| addData | 0.000 | 0.001 | 0.000 | |
| addSNPData | 4.932 | 0.371 | 7.459 | |
| addTFBS | 0 | 0 | 0 | |
| add_TF_gene_correlation | 2.752 | 0.084 | 3.289 | |
| add_featureVariation | 0 | 0 | 0 | |
| build_eGRN_graph | 1.786 | 0.053 | 2.278 | |
| calculateCommunitiesEnrichment | 3.707 | 0.141 | 4.295 | |
| calculateCommunitiesStats | 1.912 | 0.051 | 2.441 | |
| calculateGeneralEnrichment | 2.294 | 0.071 | 2.775 | |
| calculateTFEnrichment | 2.425 | 0.068 | 2.926 | |
| changeOutputDirectory | 2.002 | 0.055 | 2.522 | |
| deleteIntermediateData | 2.081 | 0.058 | 2.583 | |
| filterConnectionsForPlotting | 2.238 | 0.068 | 2.761 | |
| filterData | 2.468 | 0.066 | 2.981 | |
| filterGRNAndConnectGenes | 2.144 | 0.069 | 2.638 | |
| generateStatsSummary | 8.173 | 0.166 | 8.816 | |
| getCounts | 2.032 | 0.057 | 2.545 | |
| getGRNConnections | 1.957 | 0.077 | 2.649 | |
| getGRNSummary | 2.636 | 0.079 | 3.197 | |
| getParameters | 1.900 | 0.056 | 2.390 | |
| getTopNodes | 2.007 | 0.066 | 2.513 | |
| initializeGRN | 0.017 | 0.002 | 0.018 | |
| loadExampleObject | 1.867 | 0.053 | 2.368 | |
| nGenes | 1.980 | 0.053 | 2.486 | |
| nPeaks | 1.887 | 0.054 | 2.409 | |
| nTFs | 2.801 | 0.070 | 3.295 | |
| overlapPeaksAndTFBS | 1.823 | 0.052 | 2.269 | |
| performAllNetworkAnalyses | 0.000 | 0.001 | 0.000 | |
| plotCommunitiesEnrichment | 3.155 | 0.128 | 3.678 | |
| plotCommunitiesStats | 2.932 | 0.064 | 3.406 | |
| plotCorrelations | 3.245 | 0.098 | 3.798 | |
| plotDiagnosticPlots_TFPeaks | 3.398 | 0.097 | 3.947 | |
| plotDiagnosticPlots_peakGene | 4.137 | 0.104 | 4.695 | |
| plotGeneralEnrichment | 2.224 | 0.059 | 2.728 | |
| plotGeneralGraphStats | 3.976 | 0.105 | 4.492 | |
| plotPCA_all | 2.647 | 0.115 | 3.228 | |
| plotTFEnrichment | 2.655 | 0.069 | 3.155 | |
| plot_stats_connectionSummary | 2.633 | 0.122 | 3.198 | |
| visualizeGRN | 2.611 | 0.094 | 3.161 | |