| Back to Multiple platform build/check report for BioC 3.21: simplified long |
|
This page was generated on 2025-10-16 11:39 -0400 (Thu, 16 Oct 2025).
| Hostname | OS | Arch (*) | R version | Installed pkgs |
|---|---|---|---|---|
| nebbiolo1 | Linux (Ubuntu 24.04.3 LTS) | x86_64 | 4.5.1 (2025-06-13) -- "Great Square Root" | 4833 |
| merida1 | macOS 12.7.6 Monterey | x86_64 | 4.5.1 RC (2025-06-05 r88288) -- "Great Square Root" | 4614 |
| kjohnson1 | macOS 13.7.5 Ventura | arm64 | 4.5.1 Patched (2025-06-14 r88325) -- "Great Square Root" | 4555 |
| kunpeng2 | Linux (openEuler 24.03 LTS) | aarch64 | R Under development (unstable) (2025-02-19 r87757) -- "Unsuffered Consequences" | 4586 |
| Click on any hostname to see more info about the system (e.g. compilers) (*) as reported by 'uname -p', except on Windows and Mac OS X | ||||
| Package 756/2341 | Hostname | OS / Arch | INSTALL | BUILD | CHECK | BUILD BIN | ||||||||
| FlowSOM 2.16.0 (landing page) Sofie Van Gassen
| nebbiolo1 | Linux (Ubuntu 24.04.3 LTS) / x86_64 | OK | OK | OK | |||||||||
| merida1 | macOS 12.7.6 Monterey / x86_64 | OK | OK | OK | OK | |||||||||
| kjohnson1 | macOS 13.7.5 Ventura / arm64 | OK | OK | OK | OK | |||||||||
| kunpeng2 | Linux (openEuler 24.03 LTS) / aarch64 | OK | OK | OK | ||||||||||
|
To the developers/maintainers of the FlowSOM package: - Allow up to 24 hours (and sometimes 48 hours) for your latest push to git@git.bioconductor.org:packages/FlowSOM.git to reflect on this report. See Troubleshooting Build Report for more information. - Use the following Renviron settings to reproduce errors and warnings. - If 'R CMD check' started to fail recently on the Linux builder(s) over a missing dependency, add the missing dependency to 'Suggests:' in your DESCRIPTION file. See Renviron.bioc for more information. |
| Package: FlowSOM |
| Version: 2.16.0 |
| Command: /Library/Frameworks/R.framework/Resources/bin/R CMD check --install=check:FlowSOM.install-out.txt --library=/Library/Frameworks/R.framework/Resources/library --no-vignettes --timings FlowSOM_2.16.0.tar.gz |
| StartedAt: 2025-10-14 03:56:51 -0400 (Tue, 14 Oct 2025) |
| EndedAt: 2025-10-14 04:16:15 -0400 (Tue, 14 Oct 2025) |
| EllapsedTime: 1163.5 seconds |
| RetCode: 0 |
| Status: OK |
| CheckDir: FlowSOM.Rcheck |
| Warnings: 0 |
##############################################################################
##############################################################################
###
### Running command:
###
### /Library/Frameworks/R.framework/Resources/bin/R CMD check --install=check:FlowSOM.install-out.txt --library=/Library/Frameworks/R.framework/Resources/library --no-vignettes --timings FlowSOM_2.16.0.tar.gz
###
##############################################################################
##############################################################################
* using log directory ‘/Users/biocbuild/bbs-3.21-bioc/meat/FlowSOM.Rcheck’
* using R version 4.5.1 RC (2025-06-05 r88288)
* using platform: x86_64-apple-darwin20
* R was compiled by
Apple clang version 14.0.0 (clang-1400.0.29.202)
GNU Fortran (GCC) 14.2.0
* running under: macOS Monterey 12.7.6
* using session charset: UTF-8
* using option ‘--no-vignettes’
* checking for file ‘FlowSOM/DESCRIPTION’ ... OK
* this is package ‘FlowSOM’ version ‘2.16.0’
* package encoding: UTF-8
* checking package namespace information ... OK
* checking package dependencies ... OK
* checking if this is a source package ... OK
* checking if there is a namespace ... OK
* checking for hidden files and directories ... OK
* checking for portable file names ... OK
* checking for sufficient/correct file permissions ... OK
* checking whether package ‘FlowSOM’ can be installed ... OK
* used C compiler: ‘Apple clang version 14.0.0 (clang-1400.0.29.202)’
* used SDK: ‘MacOSX11.3.sdk’
* checking installed package size ... OK
* checking package directory ... OK
* checking ‘build’ directory ... OK
* checking DESCRIPTION meta-information ... OK
* checking top-level files ... OK
* checking for left-over files ... OK
* checking index information ... OK
* checking package subdirectories ... OK
* checking code files for non-ASCII characters ... OK
* checking R files for syntax errors ... OK
* checking whether the package can be loaded ... OK
* checking whether the package can be loaded with stated dependencies ... OK
* checking whether the package can be unloaded cleanly ... OK
* checking whether the namespace can be loaded with stated dependencies ... OK
* checking whether the namespace can be unloaded cleanly ... OK
* checking whether startup messages can be suppressed ... OK
* checking dependencies in R code ... OK
* checking S3 generic/method consistency ... OK
* checking replacement functions ... OK
* checking foreign function calls ... OK
* checking R code for possible problems ... OK
* checking Rd files ... NOTE
checkRd: (-1) PlotDimRed.Rd:55: Lost braces
55 | of the dimred default = function(dimred){dimred$Y}.}
| ^
* checking Rd metadata ... OK
* checking Rd cross-references ... NOTE
Non-topic package-anchored link(s) in Rd file 'pipe.Rd':
‘[magrittr:pipe]{%>%}’
See section 'Cross-references' in the 'Writing R Extensions' manual.
* checking for missing documentation entries ... OK
* checking for code/documentation mismatches ... OK
* checking Rd \usage sections ... OK
* checking Rd contents ... OK
* checking for unstated dependencies in examples ... OK
* checking line endings in C/C++/Fortran sources/headers ... OK
* checking compiled code ... NOTE
Note: information on .o files is not available
* checking sizes of PDF files under ‘inst/doc’ ... OK
* checking files in ‘vignettes’ ... OK
* checking examples ... OK
Examples with CPU (user + system) or elapsed time > 5s
user system elapsed
FlowSOMmary 98.935 2.548 110.173
PlotDimRed 73.653 2.692 80.878
PlotOutliers 70.646 1.079 78.752
PlotMarker 36.896 1.286 40.811
UpdateMetaclusters 34.924 1.333 39.033
PlotStars 30.212 0.963 34.039
GroupStats 27.564 0.858 30.385
FlowSOM 23.164 1.614 25.292
PlotGroups 23.352 0.969 25.743
Plot2DScatters 20.982 0.823 23.069
QueryMultiple 20.818 0.532 22.867
query_multiple 20.705 0.579 22.554
AddAnnotation 18.002 0.685 21.253
PlotManualBars 17.730 0.781 19.791
GetFlowJoLabels 14.642 0.811 16.025
QueryStarPlot 14.627 0.376 15.448
PlotNode 13.727 0.757 15.250
UpdateNodeSize 13.955 0.362 15.289
PlotNumbers 13.140 0.710 14.513
PlotVariable 12.849 0.839 15.152
PlotPies 12.537 0.795 13.822
GetFeatures 11.925 0.515 12.791
CountGroups 11.445 0.553 12.493
PlotFlowSOM 10.765 0.728 12.173
SaveClustersToFCS 9.673 1.072 10.964
NClusters 9.717 0.801 11.761
PlotLabels 9.865 0.639 10.861
PlotOverview2D 9.739 0.730 10.655
NMetaclusters 9.217 0.796 10.744
MetaclusterMFIs 9.234 0.762 10.996
TestOutliers 8.896 0.888 9.986
GetMetaclusterMFIs 8.442 0.712 10.177
FlowSOMSubset 8.414 0.532 9.247
MetaclusterCVs 7.925 0.869 9.110
GetMetaclusters 8.043 0.742 9.307
GetMetaclusterPercentagesPositive 8.131 0.587 9.467
GetClusterMFIs 8.184 0.530 9.448
GetMetaclusterCVs 8.084 0.616 9.147
GetMFIs 8.017 0.646 9.111
print.FlowSOM 7.905 0.746 8.797
GetPercentages 8.035 0.561 9.502
GetCounts 7.781 0.693 9.039
GetClusters 7.726 0.522 8.839
GetClusterPercentagesPositive 7.711 0.432 8.761
NewData 7.419 0.508 8.529
MetaClustering 6.870 0.686 7.820
ReadInput 6.558 0.734 7.610
metaClustering_consensus 5.001 0.568 5.758
* checking for unstated dependencies in vignettes ... OK
* checking package vignettes ... OK
* checking running R code from vignettes ... SKIPPED
* checking re-building of vignette outputs ... SKIPPED
* checking PDF version of manual ... OK
* DONE
Status: 3 NOTEs
See
‘/Users/biocbuild/bbs-3.21-bioc/meat/FlowSOM.Rcheck/00check.log’
for details.
FlowSOM.Rcheck/00install.out
############################################################################## ############################################################################## ### ### Running command: ### ### /Library/Frameworks/R.framework/Resources/bin/R CMD INSTALL FlowSOM ### ############################################################################## ############################################################################## * installing to library ‘/Library/Frameworks/R.framework/Versions/4.5-x86_64/Resources/library’ * installing *source* package ‘FlowSOM’ ... ** this is package ‘FlowSOM’ version ‘2.16.0’ ** using staged installation ** libs using C compiler: ‘Apple clang version 14.0.0 (clang-1400.0.29.202)’ using SDK: ‘MacOSX11.3.sdk’ clang -arch x86_64 -I"/Library/Frameworks/R.framework/Resources/include" -DNDEBUG -I/opt/R/x86_64/include -fPIC -falign-functions=64 -Wall -g -O2 -c som.c -o som.o clang -arch x86_64 -dynamiclib -Wl,-headerpad_max_install_names -undefined dynamic_lookup -L/Library/Frameworks/R.framework/Resources/lib -L/opt/R/x86_64/lib -o FlowSOM.so som.o -F/Library/Frameworks/R.framework/.. -framework R installing to /Library/Frameworks/R.framework/Versions/4.5-x86_64/Resources/library/00LOCK-FlowSOM/00new/FlowSOM/libs ** R ** inst ** byte-compile and prepare package for lazy loading ** help *** installing help indices ** building package indices ** installing vignettes ** testing if installed package can be loaded from temporary location ** checking absolute paths in shared objects and dynamic libraries ** testing if installed package can be loaded from final location ** testing if installed package keeps a record of temporary installation path * DONE (FlowSOM)
FlowSOM.Rcheck/FlowSOM-Ex.timings
| name | user | system | elapsed | |
| AddAnnotation | 18.002 | 0.685 | 21.253 | |
| AggregateFlowFrames | 0.179 | 0.012 | 0.205 | |
| BuildMST | 2.748 | 0.079 | 3.008 | |
| BuildSOM | 2.567 | 0.094 | 2.906 | |
| CountGroups | 11.445 | 0.553 | 12.493 | |
| FMeasure | 0.004 | 0.001 | 0.005 | |
| FlowSOM | 23.164 | 1.614 | 25.292 | |
| FlowSOMSubset | 8.414 | 0.532 | 9.247 | |
| FlowSOMmary | 98.935 | 2.548 | 110.173 | |
| GetChannels | 0.069 | 0.005 | 0.081 | |
| GetClusterMFIs | 8.184 | 0.530 | 9.448 | |
| GetClusterPercentagesPositive | 7.711 | 0.432 | 8.761 | |
| GetClusters | 7.726 | 0.522 | 8.839 | |
| GetCounts | 7.781 | 0.693 | 9.039 | |
| GetFeatures | 11.925 | 0.515 | 12.791 | |
| GetFlowJoLabels | 14.642 | 0.811 | 16.025 | |
| GetMFIs | 8.017 | 0.646 | 9.111 | |
| GetMarkers | 0.071 | 0.005 | 0.079 | |
| GetMetaclusterCVs | 8.084 | 0.616 | 9.147 | |
| GetMetaclusterMFIs | 8.442 | 0.712 | 10.177 | |
| GetMetaclusterPercentagesPositive | 8.131 | 0.587 | 9.467 | |
| GetMetaclusters | 8.043 | 0.742 | 9.307 | |
| GetPercentages | 8.035 | 0.561 | 9.502 | |
| GroupStats | 27.564 | 0.858 | 30.385 | |
| Initialize_KWSP | 0.013 | 0.000 | 0.014 | |
| Initialize_PCA | 0.002 | 0.001 | 0.002 | |
| MetaClustering | 6.870 | 0.686 | 7.820 | |
| MetaclusterCVs | 7.925 | 0.869 | 9.110 | |
| MetaclusterMFIs | 9.234 | 0.762 | 10.996 | |
| NClusters | 9.717 | 0.801 | 11.761 | |
| NMetaclusters | 9.217 | 0.796 | 10.744 | |
| NewData | 7.419 | 0.508 | 8.529 | |
| Plot2DScatters | 20.982 | 0.823 | 23.069 | |
| PlotCenters | 2.588 | 0.148 | 2.823 | |
| PlotClusters2D | 2.323 | 0.117 | 2.484 | |
| PlotDimRed | 73.653 | 2.692 | 80.878 | |
| PlotFileScatters | 2.769 | 0.046 | 2.991 | |
| PlotFlowSOM | 10.765 | 0.728 | 12.173 | |
| PlotGroups | 23.352 | 0.969 | 25.743 | |
| PlotLabels | 9.865 | 0.639 | 10.861 | |
| PlotManualBars | 17.730 | 0.781 | 19.791 | |
| PlotMarker | 36.896 | 1.286 | 40.811 | |
| PlotNode | 13.727 | 0.757 | 15.250 | |
| PlotNumbers | 13.140 | 0.710 | 14.513 | |
| PlotOutliers | 70.646 | 1.079 | 78.752 | |
| PlotOverview2D | 9.739 | 0.730 | 10.655 | |
| PlotPies | 12.537 | 0.795 | 13.822 | |
| PlotSD | 4.386 | 0.123 | 4.797 | |
| PlotStars | 30.212 | 0.963 | 34.039 | |
| PlotVariable | 12.849 | 0.839 | 15.152 | |
| Purity | 0.001 | 0.001 | 0.003 | |
| QueryMultiple | 20.818 | 0.532 | 22.867 | |
| QueryStarPlot | 14.627 | 0.376 | 15.448 | |
| ReadInput | 6.558 | 0.734 | 7.610 | |
| SaveClustersToFCS | 9.673 | 1.072 | 10.964 | |
| TestOutliers | 8.896 | 0.888 | 9.986 | |
| UpdateMetaclusters | 34.924 | 1.333 | 39.033 | |
| UpdateNodeSize | 13.955 | 0.362 | 15.289 | |
| get_channels | 0.071 | 0.005 | 0.075 | |
| get_markers | 0.066 | 0.004 | 0.071 | |
| metaClustering_consensus | 5.001 | 0.568 | 5.758 | |
| plotStarLegend | 1.037 | 0.008 | 1.072 | |
| print.FlowSOM | 7.905 | 0.746 | 8.797 | |
| query_multiple | 20.705 | 0.579 | 22.554 | |