| Back to Multiple platform build/check report for BioC 3.21: simplified long |
|
This page was generated on 2025-10-16 11:39 -0400 (Thu, 16 Oct 2025).
| Hostname | OS | Arch (*) | R version | Installed pkgs |
|---|---|---|---|---|
| nebbiolo1 | Linux (Ubuntu 24.04.3 LTS) | x86_64 | 4.5.1 (2025-06-13) -- "Great Square Root" | 4833 |
| merida1 | macOS 12.7.6 Monterey | x86_64 | 4.5.1 RC (2025-06-05 r88288) -- "Great Square Root" | 4614 |
| kjohnson1 | macOS 13.7.5 Ventura | arm64 | 4.5.1 Patched (2025-06-14 r88325) -- "Great Square Root" | 4555 |
| kunpeng2 | Linux (openEuler 24.03 LTS) | aarch64 | R Under development (unstable) (2025-02-19 r87757) -- "Unsuffered Consequences" | 4586 |
| Click on any hostname to see more info about the system (e.g. compilers) (*) as reported by 'uname -p', except on Windows and Mac OS X | ||||
| Package 730/2341 | Hostname | OS / Arch | INSTALL | BUILD | CHECK | BUILD BIN | ||||||||
| FindIT2 1.14.0 (landing page) Guandong Shang
| nebbiolo1 | Linux (Ubuntu 24.04.3 LTS) / x86_64 | OK | OK | OK | |||||||||
| merida1 | macOS 12.7.6 Monterey / x86_64 | OK | OK | OK | OK | |||||||||
| kjohnson1 | macOS 13.7.5 Ventura / arm64 | OK | OK | OK | OK | |||||||||
| kunpeng2 | Linux (openEuler 24.03 LTS) / aarch64 | OK | OK | OK | ||||||||||
|
To the developers/maintainers of the FindIT2 package: - Allow up to 24 hours (and sometimes 48 hours) for your latest push to git@git.bioconductor.org:packages/FindIT2.git to reflect on this report. See Troubleshooting Build Report for more information. - Use the following Renviron settings to reproduce errors and warnings. - If 'R CMD check' started to fail recently on the Linux builder(s) over a missing dependency, add the missing dependency to 'Suggests:' in your DESCRIPTION file. See Renviron.bioc for more information. |
| Package: FindIT2 |
| Version: 1.14.0 |
| Command: /Library/Frameworks/R.framework/Resources/bin/R CMD check --install=check:FindIT2.install-out.txt --library=/Library/Frameworks/R.framework/Resources/library --no-vignettes --timings FindIT2_1.14.0.tar.gz |
| StartedAt: 2025-10-14 03:49:08 -0400 (Tue, 14 Oct 2025) |
| EndedAt: 2025-10-14 04:01:43 -0400 (Tue, 14 Oct 2025) |
| EllapsedTime: 755.2 seconds |
| RetCode: 0 |
| Status: OK |
| CheckDir: FindIT2.Rcheck |
| Warnings: 0 |
##############################################################################
##############################################################################
###
### Running command:
###
### /Library/Frameworks/R.framework/Resources/bin/R CMD check --install=check:FindIT2.install-out.txt --library=/Library/Frameworks/R.framework/Resources/library --no-vignettes --timings FindIT2_1.14.0.tar.gz
###
##############################################################################
##############################################################################
* using log directory ‘/Users/biocbuild/bbs-3.21-bioc/meat/FindIT2.Rcheck’
* using R version 4.5.1 RC (2025-06-05 r88288)
* using platform: x86_64-apple-darwin20
* R was compiled by
Apple clang version 14.0.0 (clang-1400.0.29.202)
GNU Fortran (GCC) 14.2.0
* running under: macOS Monterey 12.7.6
* using session charset: UTF-8
* using option ‘--no-vignettes’
* checking for file ‘FindIT2/DESCRIPTION’ ... OK
* this is package ‘FindIT2’ version ‘1.14.0’
* package encoding: UTF-8
* checking package namespace information ... OK
* checking package dependencies ... INFO
Imports includes 22 non-default packages.
Importing from so many packages makes the package vulnerable to any of
them becoming unavailable. Move as many as possible to Suggests and
use conditionally.
* checking if this is a source package ... OK
* checking if there is a namespace ... OK
* checking for hidden files and directories ... OK
* checking for portable file names ... OK
* checking for sufficient/correct file permissions ... OK
* checking whether package ‘FindIT2’ can be installed ... OK
* checking installed package size ... OK
* checking package directory ... OK
* checking ‘build’ directory ... OK
* checking DESCRIPTION meta-information ... OK
* checking top-level files ... OK
* checking for left-over files ... OK
* checking index information ... OK
* checking package subdirectories ... OK
* checking code files for non-ASCII characters ... OK
* checking R files for syntax errors ... OK
* checking whether the package can be loaded ... OK
* checking whether the package can be loaded with stated dependencies ... OK
* checking whether the package can be unloaded cleanly ... OK
* checking whether the namespace can be loaded with stated dependencies ... OK
* checking whether the namespace can be unloaded cleanly ... OK
* checking dependencies in R code ... OK
* checking S3 generic/method consistency ... OK
* checking replacement functions ... OK
* checking foreign function calls ... OK
* checking R code for possible problems ... OK
* checking Rd files ... OK
* checking Rd metadata ... OK
* checking Rd cross-references ... OK
* checking for missing documentation entries ... OK
* checking for code/documentation mismatches ... OK
* checking Rd \usage sections ... OK
* checking Rd contents ... OK
* checking for unstated dependencies in examples ... OK
* checking contents of ‘data’ directory ... OK
* checking data for non-ASCII characters ... OK
* checking data for ASCII and uncompressed saves ... OK
* checking files in ‘vignettes’ ... OK
* checking examples ... OK
Examples with CPU (user + system) or elapsed time > 5s
user system elapsed
findIT_regionRP 12.135 0.144 13.062
calcRP_region 9.959 0.180 10.914
plot_peakGeneCor 8.477 0.322 9.170
calcRP_coverage 6.005 0.661 7.780
calcRP_TFHit 6.260 0.234 6.835
peakGeneCor 5.486 0.074 6.229
enhancerPromoterCor 5.233 0.092 5.553
* checking for unstated dependencies in ‘tests’ ... OK
* checking tests ...
Running ‘testthat.R’
OK
* checking for unstated dependencies in vignettes ... OK
* checking package vignettes ... OK
* checking running R code from vignettes ... SKIPPED
* checking re-building of vignette outputs ... SKIPPED
* checking PDF version of manual ... OK
* DONE
Status: OK
FindIT2.Rcheck/00install.out
############################################################################## ############################################################################## ### ### Running command: ### ### /Library/Frameworks/R.framework/Resources/bin/R CMD INSTALL FindIT2 ### ############################################################################## ############################################################################## * installing to library ‘/Library/Frameworks/R.framework/Versions/4.5-x86_64/Resources/library’ * installing *source* package ‘FindIT2’ ... ** this is package ‘FindIT2’ version ‘1.14.0’ ** using staged installation ** R ** data ** inst ** byte-compile and prepare package for lazy loading ** help *** installing help indices ** building package indices ** installing vignettes ** testing if installed package can be loaded from temporary location ** testing if installed package can be loaded from final location ** testing if installed package keeps a record of temporary installation path * DONE (FindIT2)
FindIT2.Rcheck/tests/testthat.Rout
R version 4.5.1 RC (2025-06-05 r88288) -- "Great Square Root"
Copyright (C) 2025 The R Foundation for Statistical Computing
Platform: x86_64-apple-darwin20
R is free software and comes with ABSOLUTELY NO WARRANTY.
You are welcome to redistribute it under certain conditions.
Type 'license()' or 'licence()' for distribution details.
R is a collaborative project with many contributors.
Type 'contributors()' for more information and
'citation()' on how to cite R or R packages in publications.
Type 'demo()' for some demos, 'help()' for on-line help, or
'help.start()' for an HTML browser interface to help.
Type 'q()' to quit R.
> library(testthat)
> library(FindIT2)
Loading required package: GenomicRanges
Loading required package: stats4
Loading required package: BiocGenerics
Loading required package: generics
Attaching package: 'generics'
The following objects are masked from 'package:base':
as.difftime, as.factor, as.ordered, intersect, is.element, setdiff,
setequal, union
Attaching package: 'BiocGenerics'
The following objects are masked from 'package:stats':
IQR, mad, sd, var, xtabs
The following objects are masked from 'package:base':
Filter, Find, Map, Position, Reduce, anyDuplicated, aperm, append,
as.data.frame, basename, cbind, colnames, dirname, do.call,
duplicated, eval, evalq, get, grep, grepl, is.unsorted, lapply,
mapply, match, mget, order, paste, pmax, pmax.int, pmin, pmin.int,
rank, rbind, rownames, sapply, saveRDS, table, tapply, unique,
unsplit, which.max, which.min
Loading required package: S4Vectors
Attaching package: 'S4Vectors'
The following object is masked from 'package:utils':
findMatches
The following objects are masked from 'package:base':
I, expand.grid, unname
Loading required package: IRanges
Loading required package: GenomeInfoDb
> if (!requireNamespace("TxDb.Athaliana.BioMart.plantsmart28")) {
+ stop("unable to load TxDb.Athaliana.BioMart.plantsmart28")
+ }
Loading required namespace: TxDb.Athaliana.BioMart.plantsmart28
>
> test_check("FindIT2")
>> preparing gene features information... 2025-10-14 03:59:36
>> some scan range may cross Chr bound, trimming... 2025-10-14 03:59:39
>> preparing weight info... 2025-10-14 03:59:39
>> loading E50h_sampleChr5.bw info... 2025-10-14 03:59:39
------------
>> extracting and calcluating Chr5 signal... 2025-10-14 03:59:40
>> dealing with Chr5 left gene signal... 2025-10-14 03:59:45
>> norming Chr5RP accoring to the whole Chr RP... 2025-10-14 03:59:45
>> merging all Chr RP together... 2025-10-14 03:59:45
>> done 2025-10-14 03:59:45
>> checking seqlevels match... 2025-10-14 03:59:46
>> your peak_GR seqlevel:Chr5...
>> your Txdb seqlevel:Chr1 Chr2 Chr3 Chr4 Chr5 ChrM ChrC...
Good, your Chrs in peak_GR is all in Txdb
------------
annotatePeak using geneScan mode begins
>> preparing gene features information and scan region... 2025-10-14 03:59:46
>> some scan range may cross Chr bound, trimming... 2025-10-14 03:59:47
>> finding overlap peak in gene scan region... 2025-10-14 03:59:47
>> dealing with left peak not your gene scan region... 2025-10-14 03:59:47
>> merging two set peaks... 2025-10-14 03:59:48
>> calculating distance and dealing with gene strand... 2025-10-14 03:59:48
>> merging all info together ... 2025-10-14 03:59:48
>> done 2025-10-14 03:59:48
>> calculating peakCenter to TSS using peak-gene pair... 2025-10-14 03:59:48
>> pre-filling 1356 noAssoc peak gene's RP with 0... 2025-10-14 03:59:50
>> calculating RP using centerToTSS and peak score2025-10-14 03:59:50
>> merging all info together 2025-10-14 03:59:55
>> done 2025-10-14 03:59:57
>> calculating peakCenter to TSS using peak-gene pair... 2025-10-14 03:59:57
>> pre-filling 1356 noAssoc peak gene's RP with 0... 2025-10-14 03:59:59
>> calculating RP using centerToTSS and peak score2025-10-14 03:59:59
>> merging all info together 2025-10-14 04:00:05
>> done 2025-10-14 04:00:06
>> checking seqlevels match... 2025-10-14 04:00:06
>> your peak_GR seqlevel:Chr5...
>> your Txdb seqlevel:Chr1 Chr2 Chr3 Chr4 Chr5 ChrM ChrC...
Good, your Chrs in peak_GR is all in Txdb
------------
annotatePeak using geneScan mode begins
>> preparing gene features information and scan region... 2025-10-14 04:00:06
>> some scan range may cross Chr bound, trimming... 2025-10-14 04:00:08
>> finding overlap peak in gene scan region... 2025-10-14 04:00:08
>> dealing with left peak not your gene scan region... 2025-10-14 04:00:08
>> merging two set peaks... 2025-10-14 04:00:08
>> calculating distance and dealing with gene strand... 2025-10-14 04:00:09
>> merging all info together ... 2025-10-14 04:00:09
>> done 2025-10-14 04:00:09
>> calculating peakCenter to TSS using peak-gene pair... 2025-10-14 04:00:09
>> calculating RP using centerToTSS and TF hit 2025-10-14 04:00:10
>> merging all info together 2025-10-14 04:00:10
>> done 2025-10-14 04:00:10
>> calculating peakCenter to TSS using peak-gene pair... 2025-10-14 04:00:10
>> calculating RP using centerToTSS and TF hit 2025-10-14 04:00:12
>> merging all info together 2025-10-14 04:00:12
>> done 2025-10-14 04:00:12
>> checking seqlevels match... 2025-10-14 04:00:14
>> your peak_GR seqlevel:Chr5...
>> your Txdb seqlevel:Chr1 Chr2 Chr3 Chr4 Chr5 ChrM ChrC...
Good, your Chrs in peak_GR is all in Txdb
------------
annotatePeak using geneScan mode begins
>> preparing gene features information and scan region... 2025-10-14 04:00:14
>> some scan range may cross Chr bound, trimming... 2025-10-14 04:00:16
>> finding overlap peak in gene scan region... 2025-10-14 04:00:16
>> dealing with left peak not your gene scan region... 2025-10-14 04:00:16
>> merging two set peaks... 2025-10-14 04:00:17
>> calculating distance and dealing with gene strand... 2025-10-14 04:00:17
>> merging all info together ... 2025-10-14 04:00:17
>> done 2025-10-14 04:00:17
>> calculating peakCenter to TSS using peak-gene pair... 2025-10-14 04:00:17
>> pre-filling 1356 noAssoc peak gene's RP with 0... 2025-10-14 04:00:19
>> calculating RP using centerToTSS and peak score2025-10-14 04:00:19
>> merging all info together 2025-10-14 04:00:23
>> done 2025-10-14 04:00:24
>> extracting RP info from regionRP... 2025-10-14 04:00:25
>> dealing with TF_GR_databse... 2025-10-14 04:00:25
>> calculating percent and p-value... 2025-10-14 04:00:25
>> dealing withE5_0h_R1... 2025-10-14 04:00:25
>> dealing withE5_0h_R2... 2025-10-14 04:00:26
>> dealing withE5_4h_R1... 2025-10-14 04:00:26
>> dealing withE5_4h_R2... 2025-10-14 04:00:26
>> dealing withE5_8h_R1... 2025-10-14 04:00:26
>> dealing withE5_8h_R2... 2025-10-14 04:00:26
>> dealing withE5_16h_R1... 2025-10-14 04:00:26
>> dealing withE5_16h_R2... 2025-10-14 04:00:26
>> dealing withE5_24h_R1... 2025-10-14 04:00:26
>> dealing withE5_24h_R2... 2025-10-14 04:00:26
>> dealing withE5_48h_R1... 2025-10-14 04:00:26
>> dealing withE5_48h_R2... 2025-10-14 04:00:26
>> dealing withE5_48h_R3... 2025-10-14 04:00:27
>> dealing withE5_72h_R1... 2025-10-14 04:00:27
>> dealing withE5_72h_R2... 2025-10-14 04:00:27
>> dealing withE5_72h_R3... 2025-10-14 04:00:27
>> merging all info together... 2025-10-14 04:00:27
>> done 2025-10-14 04:00:27
>> preparing gene features information... 2025-10-14 04:00:28
>> some scan range may cross Chr bound, trimming... 2025-10-14 04:00:29
>> calculating p-value for each TF, which may be time consuming... 2025-10-14 04:00:29
>> merging all info together... 2025-10-14 04:00:29
>> done 2025-10-14 04:00:29
>> dealing with TF_GR_database... 2025-10-14 04:00:29
>> calculating coef and converting into z-score using INT... 2025-10-14 04:00:30
>> dealing with E5_0h_R1... 2025-10-14 04:00:30
>> dealing with E5_0h_R2... 2025-10-14 04:00:30
>> dealing with E5_4h_R1... 2025-10-14 04:00:30
>> dealing with E5_4h_R2... 2025-10-14 04:00:30
>> dealing with E5_8h_R1... 2025-10-14 04:00:31
>> dealing with E5_8h_R2... 2025-10-14 04:00:31
>> dealing with E5_16h_R1... 2025-10-14 04:00:31
>> dealing with E5_16h_R2... 2025-10-14 04:00:31
>> dealing with E5_24h_R1... 2025-10-14 04:00:31
>> dealing with E5_24h_R2... 2025-10-14 04:00:31
>> dealing with E5_48h_R1... 2025-10-14 04:00:32
>> dealing with E5_48h_R2... 2025-10-14 04:00:32
>> dealing with E5_48h_R3... 2025-10-14 04:00:32
>> dealing with E5_72h_R1... 2025-10-14 04:00:32
>> dealing with E5_72h_R2... 2025-10-14 04:00:32
>> dealing with E5_72h_R3... 2025-10-14 04:00:32
>> merging all info together... 2025-10-14 04:00:33
>> done 2025-10-14 04:00:33
>> checking seqlevels match... 2025-10-14 04:00:33
>> your peak_GR seqlevel:Chr5...
>> your Txdb seqlevel:Chr1 Chr2 Chr3 Chr4 Chr5 ChrM ChrC...
Good, your Chrs in peak_GR is all in Txdb
------------
annotatePeak using geneScan mode begins
>> preparing gene features information and scan region... 2025-10-14 04:00:33
>> some scan range may cross Chr bound, trimming... 2025-10-14 04:00:35
>> finding overlap peak in gene scan region... 2025-10-14 04:00:35
>> dealing with left peak not your gene scan region... 2025-10-14 04:00:35
>> merging two set peaks... 2025-10-14 04:00:35
>> calculating distance and dealing with gene strand... 2025-10-14 04:00:35
>> merging all info together ... 2025-10-14 04:00:35
>> done 2025-10-14 04:00:35
>> calculating peakCenter to TSS using peak-gene pair... 2025-10-14 04:00:35
>> calculating RP using centerToTSS and TF hit 2025-10-14 04:00:38
>> merging all info together 2025-10-14 04:00:38
>> done 2025-10-14 04:00:38
>> checking seqlevels match... 2025-10-14 04:00:39
>> your peak_GR seqlevel:5...
>> your Txdb seqlevel:Chr1 Chr2 Chr3 Chr4 Chr5 ChrM ChrC...
>> checking seqlevels match... 2025-10-14 04:00:39
>> your peak_GR seqlevel:Chr5 Chr6...
>> your Txdb seqlevel:Chr1 Chr2 Chr3 Chr4 Chr5 ChrM ChrC...
>> checking seqlevels match... 2025-10-14 04:00:45
>> your peak_GR seqlevel:Chr5...
>> your Txdb seqlevel:Chr1 Chr2 Chr3 Chr4 Chr5 ChrM ChrC...
Good, your Chrs in peak_GR is all in Txdb
>> checking seqlevels match... 2025-10-14 04:00:45
>> your peak_GR seqlevel:Chr5...
>> your Txdb seqlevel:Chr1 Chr2 Chr3 Chr4 Chr5 ChrM ChrC...
Good, your Chrs in peak_GR is all in Txdb
------------
annotating Peak using nearest gene mode begins
>> preparing gene features information... 2025-10-14 04:00:45
>> finding nearest gene and calculating distance... 2025-10-14 04:00:46
>> dealing with gene strand ... 2025-10-14 04:00:46
>> merging all info together ... 2025-10-14 04:00:47
>> done 2025-10-14 04:00:47
>> checking seqlevels match... 2025-10-14 04:00:47
>> your peak_GR seqlevel:Chr5...
>> your Txdb seqlevel:Chr1 Chr2 Chr3 Chr4 Chr5 ChrM ChrC...
Good, your Chrs in peak_GR is all in Txdb
>> checking seqlevels match... 2025-10-14 04:00:47
>> your peak_GR seqlevel:Chr5...
>> your Txdb seqlevel:Chr1 Chr2 Chr3 Chr4 Chr5 ChrM ChrC...
Good, your Chrs in peak_GR is all in Txdb
------------
annotating Peak using nearest gene mode begins
>> preparing gene features information... 2025-10-14 04:00:47
>> finding nearest gene and calculating distance... 2025-10-14 04:00:48
>> dealing with gene strand ... 2025-10-14 04:00:49
>> merging all info together ... 2025-10-14 04:00:49
>> done 2025-10-14 04:00:49
>> checking seqlevels match... 2025-10-14 04:00:50
>> your peak_GR seqlevel:Chr5...
>> your Txdb seqlevel:Chr1 Chr2 Chr3 Chr4 Chr5 ChrM ChrC...
Good, your Chrs in peak_GR is all in Txdb
>> checking seqlevels match... 2025-10-14 04:00:50
>> your peak_GR seqlevel:Chr5...
>> your Txdb seqlevel:Chr1 Chr2 Chr3 Chr4 Chr5 ChrM ChrC...
Good, your Chrs in peak_GR is all in Txdb
------------
annotating Peak using nearest gene mode begins
>> preparing gene features information... 2025-10-14 04:00:50
>> finding nearest gene and calculating distance... 2025-10-14 04:00:51
>> dealing with gene strand ... 2025-10-14 04:00:52
>> merging all info together ... 2025-10-14 04:00:52
>> done 2025-10-14 04:00:52
>> checking seqlevels match... 2025-10-14 04:00:53
>> your peak_GR seqlevel:Chr5...
>> your Txdb seqlevel:Chr1 Chr2 Chr3 Chr4 Chr5 ChrM ChrC...
Good, your Chrs in peak_GR is all in Txdb
>> checking seqlevels match... 2025-10-14 04:00:53
>> your peak_GR seqlevel:Chr5...
>> your Txdb seqlevel:Chr1 Chr2 Chr3 Chr4 Chr5 ChrM ChrC...
Good, your Chrs in peak_GR is all in Txdb
------------
annotating Peak using nearest gene mode begins
>> preparing gene features information... 2025-10-14 04:00:53
>> finding nearest gene and calculating distance... 2025-10-14 04:00:55
>> dealing with gene strand ... 2025-10-14 04:00:55
>> merging all info together ... 2025-10-14 04:00:55
>> done 2025-10-14 04:00:55
It seems that there 1 genes have not been annotated by nearestGene mode
>> checking seqlevels match... 2025-10-14 04:00:57
>> your peak_GR seqlevel:Chr5...
>> your Txdb seqlevel:Chr1 Chr2 Chr3 Chr4 Chr5 ChrM ChrC...
Good, your Chrs in peak_GR is all in Txdb
>> checking seqlevels match... 2025-10-14 04:00:57
>> your peak_GR seqlevel:Chr5...
>> your Txdb seqlevel:Chr1 Chr2 Chr3 Chr4 Chr5 ChrM ChrC...
Good, your Chrs in peak_GR is all in Txdb
------------
annotating Peak using nearest gene mode begins
>> preparing gene features information... 2025-10-14 04:00:57
>> finding nearest gene and calculating distance... 2025-10-14 04:00:58
>> dealing with gene strand ... 2025-10-14 04:00:58
>> merging all info together ... 2025-10-14 04:00:59
>> done 2025-10-14 04:00:59
It seems that there 1 genes have not been annotated by nearestGene mode
>> checking seqlevels match... 2025-10-14 04:01:00
>> your peak_GR seqlevel:Chr5...
>> your Txdb seqlevel:Chr1 Chr2 Chr3 Chr4 Chr5 ChrM ChrC...
Good, your Chrs in peak_GR is all in Txdb
>> checking seqlevels match... 2025-10-14 04:01:02
>> your peak_GR seqlevel:Chr5...
>> your Txdb seqlevel:Chr1 Chr2 Chr3 Chr4 Chr5 ChrM ChrC...
Good, your Chrs in peak_GR is all in Txdb
>> some scan range may cross Chr bound, trimming... 2025-10-14 04:01:03
>> checking seqlevels match... 2025-10-14 04:01:05
>> your peak_GR seqlevel:Chr5...
>> your Txdb seqlevel:Chr1 Chr2 Chr3 Chr4 Chr5 ChrM ChrC...
Good, your Chrs in peak_GR is all in Txdb
>> some scan range may cross Chr bound, trimming... 2025-10-14 04:01:07
Good, your two matrix colnames matchs
>> calculating cor and pvalue, which may be time consuming... 2025-10-14 04:01:10
>> merging all info together... 2025-10-14 04:01:10
>> done 2025-10-14 04:01:10
>> checking seqlevels match... 2025-10-14 04:01:11
>> your peak_GR seqlevel:Chr5...
>> your Txdb seqlevel:Chr1 Chr2 Chr3 Chr4 Chr5 ChrM ChrC...
Good, your Chrs in peak_GR is all in Txdb
>> using scanPromoter parameter to scan promoter for each gene... 2025-10-14 04:01:11
>> checking seqlevels match... 2025-10-14 04:01:11
>> your peak_GR seqlevel:Chr5...
>> your Txdb seqlevel:Chr1 Chr2 Chr3 Chr4 Chr5 ChrM ChrC...
Good, your Chrs in peak_GR is all in Txdb
>> some scan range may cross Chr bound, trimming... 2025-10-14 04:01:12
>> there are 85 gene have scaned promoter
>> using scanEnhancer parameter to scan Enhancer for each gene... 2025-10-14 04:01:13
>> checking seqlevels match... 2025-10-14 04:01:13
>> your peak_GR seqlevel:Chr5...
>> your Txdb seqlevel:Chr1 Chr2 Chr3 Chr4 Chr5 ChrM ChrC...
Good, your Chrs in peak_GR is all in Txdb
>> some scan range may cross Chr bound, trimming... 2025-10-14 04:01:14
>> calculating cor and pvalue, which may be time consuming... 2025-10-14 04:01:15
>> merging all info together... 2025-10-14 04:01:15
>> done 2025-10-14 04:01:15
Good, your two matrix colnames matchs
>> calculating cor and pvalue, which may be time consuming... 2025-10-14 04:01:15
>> merging all info together... 2025-10-14 04:01:15
>> done 2025-10-14 04:01:16
>> checking seqlevels match... 2025-10-14 04:01:16
>> your peak_GR seqlevel:Chr5...
>> your Txdb seqlevel:Chr1 Chr2 Chr3 Chr4 Chr5 ChrM ChrC...
Good, your Chrs in peak_GR is all in Txdb
------------
annotatePeak using geneScan mode begins
>> preparing gene features information and scan region... 2025-10-14 04:01:16
>> some scan range may cross Chr bound, trimming... 2025-10-14 04:01:17
>> finding overlap peak in gene scan region... 2025-10-14 04:01:17
>> dealing with left peak not your gene scan region... 2025-10-14 04:01:18
>> merging two set peaks... 2025-10-14 04:01:18
>> calculating distance and dealing with gene strand... 2025-10-14 04:01:18
>> merging all info together ... 2025-10-14 04:01:18
>> done 2025-10-14 04:01:18
Good, your two matrix colnames matchs
>> calculating cor and pvalue, which may be time consuming... 2025-10-14 04:01:21
>> merging all info together... 2025-10-14 04:01:21
>> done 2025-10-14 04:01:21
>> checking seqlevels match... 2025-10-14 04:01:21
>> your peak_GR seqlevel:Chr5...
>> your Txdb seqlevel:Chr1 Chr2 Chr3 Chr4 Chr5 ChrM ChrC...
Good, your Chrs in peak_GR is all in Txdb
>> using scanPromoter parameter to scan promoter for each gene... 2025-10-14 04:01:21
>> checking seqlevels match... 2025-10-14 04:01:21
>> your peak_GR seqlevel:Chr5...
>> your Txdb seqlevel:Chr1 Chr2 Chr3 Chr4 Chr5 ChrM ChrC...
Good, your Chrs in peak_GR is all in Txdb
>> some scan range may cross Chr bound, trimming... 2025-10-14 04:01:23
>> there are 85 gene have scaned promoter
>> using scanEnhancer parameter to scan Enhancer for each gene... 2025-10-14 04:01:24
>> checking seqlevels match... 2025-10-14 04:01:24
>> your peak_GR seqlevel:Chr5...
>> your Txdb seqlevel:Chr1 Chr2 Chr3 Chr4 Chr5 ChrM ChrC...
Good, your Chrs in peak_GR is all in Txdb
>> some scan range may cross Chr bound, trimming... 2025-10-14 04:01:25
>> calculating cor and pvalue, which may be time consuming... 2025-10-14 04:01:25
>> merging all info together... 2025-10-14 04:01:26
>> done 2025-10-14 04:01:26
Joining with `by = join_by(feature_id)`
Joining with `by = join_by(feature_id)`
`geom_smooth()` using formula = 'y ~ x'
Joining with `by = join_by(feature_id)`
Joining with `by = join_by(feature_id)`
`geom_smooth()` using formula = 'y ~ x'
[ FAIL 0 | WARN 0 | SKIP 0 | PASS 65 ]
>
> proc.time()
user system elapsed
126.714 3.510 138.796
FindIT2.Rcheck/FindIT2-Ex.timings
| name | user | system | elapsed | |
| TF_target_database | 0.001 | 0.002 | 0.001 | |
| calcRP_TFHit | 6.260 | 0.234 | 6.835 | |
| calcRP_coverage | 6.005 | 0.661 | 7.780 | |
| calcRP_region | 9.959 | 0.180 | 10.914 | |
| enhancerPromoterCor | 5.233 | 0.092 | 5.553 | |
| findIT_MARA | 0.933 | 0.018 | 0.993 | |
| findIT_TFHit | 1.820 | 0.032 | 2.072 | |
| findIT_TTPair | 0.269 | 0.031 | 0.333 | |
| findIT_enrichFisher | 0.346 | 0.006 | 0.398 | |
| findIT_enrichWilcox | 0.383 | 0.006 | 0.447 | |
| findIT_regionRP | 12.135 | 0.144 | 13.062 | |
| getAssocPairNumber | 2.318 | 0.041 | 2.487 | |
| integrate_ChIP_RNA | 4.098 | 0.078 | 4.434 | |
| integrate_replicates | 0.004 | 0.002 | 0.009 | |
| jaccard_findIT_TTpair | 0.216 | 0.010 | 0.292 | |
| jaccard_findIT_enrichFisher | 0.442 | 0.009 | 0.466 | |
| loadPeakFile | 0.131 | 0.004 | 0.144 | |
| mm_geneBound | 2.366 | 0.036 | 2.497 | |
| mm_geneScan | 2.445 | 0.040 | 2.601 | |
| mm_nearestGene | 2.176 | 0.046 | 2.601 | |
| peakGeneCor | 5.486 | 0.074 | 6.229 | |
| plot_annoDistance | 3.595 | 0.047 | 3.975 | |
| plot_peakGeneAlias_summary | 2.855 | 0.047 | 3.427 | |
| plot_peakGeneCor | 8.477 | 0.322 | 9.170 | |
| test_geneSet | 0.001 | 0.002 | 0.002 | |