| Back to Multiple platform build/check report for BioC 3.21: simplified long |
|
This page was generated on 2025-08-18 11:41 -0400 (Mon, 18 Aug 2025).
| Hostname | OS | Arch (*) | R version | Installed pkgs |
|---|---|---|---|---|
| nebbiolo1 | Linux (Ubuntu 24.04.3 LTS) | x86_64 | 4.5.1 (2025-06-13) -- "Great Square Root" | 4824 |
| palomino7 | Windows Server 2022 Datacenter | x64 | 4.5.1 (2025-06-13 ucrt) -- "Great Square Root" | 4566 |
| merida1 | macOS 12.7.5 Monterey | x86_64 | 4.5.1 RC (2025-06-05 r88288) -- "Great Square Root" | 4604 |
| kjohnson1 | macOS 13.6.6 Ventura | arm64 | 4.5.1 Patched (2025-06-14 r88325) -- "Great Square Root" | 4545 |
| kunpeng2 | Linux (openEuler 24.03 LTS) | aarch64 | R Under development (unstable) (2025-02-19 r87757) -- "Unsuffered Consequences" | 4579 |
| Click on any hostname to see more info about the system (e.g. compilers) (*) as reported by 'uname -p', except on Windows and Mac OS X | ||||
| Package 658/2341 | Hostname | OS / Arch | INSTALL | BUILD | CHECK | BUILD BIN | ||||||||
| EnMCB 1.20.0 (landing page) Xin Yu
| nebbiolo1 | Linux (Ubuntu 24.04.3 LTS) / x86_64 | OK | OK | OK | |||||||||
| palomino7 | Windows Server 2022 Datacenter / x64 | OK | OK | OK | OK | |||||||||
| merida1 | macOS 12.7.5 Monterey / x86_64 | OK | OK | OK | OK | |||||||||
| kjohnson1 | macOS 13.6.6 Ventura / arm64 | OK | OK | OK | OK | |||||||||
| kunpeng2 | Linux (openEuler 24.03 LTS) / aarch64 | OK | OK | OK | ||||||||||
|
To the developers/maintainers of the EnMCB package: - Allow up to 24 hours (and sometimes 48 hours) for your latest push to git@git.bioconductor.org:packages/EnMCB.git to reflect on this report. See Troubleshooting Build Report for more information. - Use the following Renviron settings to reproduce errors and warnings. - If 'R CMD check' started to fail recently on the Linux builder(s) over a missing dependency, add the missing dependency to 'Suggests:' in your DESCRIPTION file. See Renviron.bioc for more information. |
| Package: EnMCB |
| Version: 1.20.0 |
| Command: E:\biocbuild\bbs-3.21-bioc\R\bin\R.exe CMD check --no-multiarch --install=check:EnMCB.install-out.txt --library=E:\biocbuild\bbs-3.21-bioc\R\library --no-vignettes --timings EnMCB_1.20.0.tar.gz |
| StartedAt: 2025-08-15 01:51:06 -0400 (Fri, 15 Aug 2025) |
| EndedAt: 2025-08-15 01:54:51 -0400 (Fri, 15 Aug 2025) |
| EllapsedTime: 224.3 seconds |
| RetCode: 0 |
| Status: OK |
| CheckDir: EnMCB.Rcheck |
| Warnings: 0 |
##############################################################################
##############################################################################
###
### Running command:
###
### E:\biocbuild\bbs-3.21-bioc\R\bin\R.exe CMD check --no-multiarch --install=check:EnMCB.install-out.txt --library=E:\biocbuild\bbs-3.21-bioc\R\library --no-vignettes --timings EnMCB_1.20.0.tar.gz
###
##############################################################################
##############################################################################
* using log directory 'E:/biocbuild/bbs-3.21-bioc/meat/EnMCB.Rcheck'
* using R version 4.5.1 (2025-06-13 ucrt)
* using platform: x86_64-w64-mingw32
* R was compiled by
gcc.exe (GCC) 14.2.0
GNU Fortran (GCC) 14.2.0
* running under: Windows Server 2022 x64 (build 20348)
* using session charset: UTF-8
* using option '--no-vignettes'
* checking for file 'EnMCB/DESCRIPTION' ... OK
* checking extension type ... Package
* this is package 'EnMCB' version '1.20.0'
* package encoding: UTF-8
* checking package namespace information ... OK
* checking package dependencies ... OK
* checking if this is a source package ... OK
* checking if there is a namespace ... OK
* checking for hidden files and directories ... OK
* checking for portable file names ... OK
* checking whether package 'EnMCB' can be installed ... OK
* checking installed package size ... INFO
installed size is 5.1Mb
sub-directories of 1Mb or more:
data 4.9Mb
* checking package directory ... OK
* checking 'build' directory ... OK
* checking DESCRIPTION meta-information ... OK
* checking top-level files ... OK
* checking for left-over files ... OK
* checking index information ... OK
* checking package subdirectories ... OK
* checking code files for non-ASCII characters ... OK
* checking R files for syntax errors ... OK
* checking whether the package can be loaded ... OK
* checking whether the package can be loaded with stated dependencies ... OK
* checking whether the package can be unloaded cleanly ... OK
* checking whether the namespace can be loaded with stated dependencies ... OK
* checking whether the namespace can be unloaded cleanly ... OK
* checking dependencies in R code ... OK
* checking S3 generic/method consistency ... OK
* checking replacement functions ... OK
* checking foreign function calls ... OK
* checking R code for possible problems ... OK
* checking Rd files ... OK
* checking Rd metadata ... OK
* checking Rd cross-references ... OK
* checking for missing documentation entries ... OK
* checking for code/documentation mismatches ... OK
* checking Rd \usage sections ... OK
* checking Rd contents ... OK
* checking for unstated dependencies in examples ... OK
* checking contents of 'data' directory ... OK
* checking data for non-ASCII characters ... OK
* checking data for ASCII and uncompressed saves ... OK
* checking files in 'vignettes' ... OK
* checking examples ... OK
Examples with CPU (user + system) or elapsed time > 5s
user system elapsed
metricMCB.cv 16.36 6.28 22.64
fast_roc_calculation 6.47 2.48 8.95
ensemble_model 7.32 0.39 7.71
pre_process_methylation 6.04 1.60 7.64
ensemble_prediction 6.54 0.29 6.83
IdentifyMCB 5.87 0.20 6.08
IdentifyMCB_parallel 5.24 0.13 5.36
* checking for unstated dependencies in 'tests' ... OK
* checking tests ...
Running 'testthat.R'
OK
* checking for unstated dependencies in vignettes ... OK
* checking package vignettes ... OK
* checking running R code from vignettes ... SKIPPED
* checking re-building of vignette outputs ... SKIPPED
* checking PDF version of manual ... OK
* DONE
Status: OK
EnMCB.Rcheck/00install.out
############################################################################## ############################################################################## ### ### Running command: ### ### E:\biocbuild\bbs-3.21-bioc\R\bin\R.exe CMD INSTALL EnMCB ### ############################################################################## ############################################################################## * installing to library 'E:/biocbuild/bbs-3.21-bioc/R/library' * installing *source* package 'EnMCB' ... ** this is package 'EnMCB' version '1.20.0' ** using staged installation ** R ** data ** inst ** byte-compile and prepare package for lazy loading ** help *** installing help indices ** building package indices ** installing vignettes ** testing if installed package can be loaded from temporary location ** testing if installed package can be loaded from final location ** testing if installed package keeps a record of temporary installation path * DONE (EnMCB)
EnMCB.Rcheck/tests/testthat.Rout
R version 4.5.1 (2025-06-13 ucrt) -- "Great Square Root"
Copyright (C) 2025 The R Foundation for Statistical Computing
Platform: x86_64-w64-mingw32/x64
R is free software and comes with ABSOLUTELY NO WARRANTY.
You are welcome to redistribute it under certain conditions.
Type 'license()' or 'licence()' for distribution details.
R is a collaborative project with many contributors.
Type 'contributors()' for more information and
'citation()' on how to cite R or R packages in publications.
Type 'demo()' for some demos, 'help()' for on-line help, or
'help.start()' for an HTML browser interface to help.
Type 'q()' to quit R.
> library(testthat)
> library(EnMCB)
>
> test_check("EnMCB")
Start calculating the correlation, this may take a while...
(or you can try to use IdentifyMCB_parallel function instead)
|
| | 0%
|
|################## | 25%
|
|################################### | 50%
|
|#################################################### | 75%
|
|######################################################################| 100%
Now gathering the results, please wait ...
Statistics ( 4 MCBs in total):
chr2 : total MCBs: 1 Mean Length: 167 (Range: 167 167 )
chr6 : total MCBs: 1 Mean Length: 129 (Range: 129 129 )
chr8 : total MCBs: 2 Mean Length: 303.5 (Range: 181 426 )
[ FAIL 0 | WARN 0 | SKIP 0 | PASS 1 ]
>
> proc.time()
user system elapsed
9.40 0.60 11.56
EnMCB.Rcheck/EnMCB-Ex.timings
| name | user | system | elapsed | |
| CompareMCB | 0.03 | 0.06 | 0.10 | |
| DiffMCB | 0.24 | 0.06 | 0.29 | |
| IdentifyMCB | 5.87 | 0.20 | 6.08 | |
| IdentifyMCB_parallel | 5.24 | 0.13 | 5.36 | |
| create_demo | 0.95 | 0.09 | 1.04 | |
| draw_survival_curve | 2.23 | 0.34 | 2.78 | |
| ensemble_model | 7.32 | 0.39 | 7.71 | |
| ensemble_prediction | 6.54 | 0.29 | 6.83 | |
| fast_roc_calculation | 6.47 | 2.48 | 8.95 | |
| metricMCB | 0.72 | 0.11 | 0.83 | |
| metricMCB.cv | 16.36 | 6.28 | 22.64 | |
| multi_coxph | 0.03 | 0.06 | 0.19 | |
| pre_process_methylation | 6.04 | 1.60 | 7.64 | |
| univ_coxph | 0.11 | 0.09 | 0.21 | |