| Back to Multiple platform build/check report for BioC 3.21: simplified long |
|
This page was generated on 2024-11-25 11:39 -0500 (Mon, 25 Nov 2024).
| Hostname | OS | Arch (*) | R version | Installed pkgs |
|---|---|---|---|---|
| nebbiolo1 | Linux (Ubuntu 24.04.1 LTS) | x86_64 | R Under development (unstable) (2024-10-21 r87258) -- "Unsuffered Consequences" | 4748 |
| palomino7 | Windows Server 2022 Datacenter | x64 | R Under development (unstable) (2024-10-26 r87273 ucrt) -- "Unsuffered Consequences" | 4459 |
| lconway | macOS 12.7.1 Monterey | x86_64 | R Under development (unstable) (2024-11-20 r87352) -- "Unsuffered Consequences" | 4349 |
| Click on any hostname to see more info about the system (e.g. compilers) (*) as reported by 'uname -p', except on Windows and Mac OS X | ||||
| Package 516/2272 | Hostname | OS / Arch | INSTALL | BUILD | CHECK | BUILD BIN | ||||||||
| DeepPINCS 1.15.0 (landing page) Dongmin Jung
| nebbiolo1 | Linux (Ubuntu 24.04.1 LTS) / x86_64 | OK | OK | OK | |||||||||
| palomino7 | Windows Server 2022 Datacenter / x64 | OK | ERROR | skipped | skipped | |||||||||
| lconway | macOS 12.7.1 Monterey / x86_64 | OK | OK | OK | OK | |||||||||
|
To the developers/maintainers of the DeepPINCS package: - Allow up to 24 hours (and sometimes 48 hours) for your latest push to git@git.bioconductor.org:packages/DeepPINCS.git to reflect on this report. See Troubleshooting Build Report for more information. - Use the following Renviron settings to reproduce errors and warnings. - If 'R CMD check' started to fail recently on the Linux builder(s) over a missing dependency, add the missing dependency to 'Suggests:' in your DESCRIPTION file. See Renviron.bioc for more information. |
| Package: DeepPINCS |
| Version: 1.15.0 |
| Command: /Library/Frameworks/R.framework/Resources/bin/R CMD check --install=check:DeepPINCS.install-out.txt --library=/Library/Frameworks/R.framework/Resources/library --no-vignettes --timings DeepPINCS_1.15.0.tar.gz |
| StartedAt: 2024-11-24 21:10:18 -0500 (Sun, 24 Nov 2024) |
| EndedAt: 2024-11-24 21:16:39 -0500 (Sun, 24 Nov 2024) |
| EllapsedTime: 380.7 seconds |
| RetCode: 0 |
| Status: OK |
| CheckDir: DeepPINCS.Rcheck |
| Warnings: 0 |
##############################################################################
##############################################################################
###
### Running command:
###
### /Library/Frameworks/R.framework/Resources/bin/R CMD check --install=check:DeepPINCS.install-out.txt --library=/Library/Frameworks/R.framework/Resources/library --no-vignettes --timings DeepPINCS_1.15.0.tar.gz
###
##############################################################################
##############################################################################
* using log directory ‘/Users/biocbuild/bbs-3.21-bioc/meat/DeepPINCS.Rcheck’
* using R Under development (unstable) (2024-11-20 r87352)
* using platform: x86_64-apple-darwin20
* R was compiled by
Apple clang version 14.0.0 (clang-1400.0.29.202)
GNU Fortran (GCC) 12.2.0
* running under: macOS Monterey 12.7.6
* using session charset: UTF-8
* using option ‘--no-vignettes’
* checking for file ‘DeepPINCS/DESCRIPTION’ ... OK
* checking extension type ... Package
* this is package ‘DeepPINCS’ version ‘1.15.0’
* checking package namespace information ... OK
* checking package dependencies ...Warning: unable to access index for repository https://CRAN.R-project.org/src/contrib:
cannot open URL 'https://CRAN.R-project.org/src/contrib/PACKAGES'
OK
* checking if this is a source package ... OK
* checking if there is a namespace ... OK
* checking for hidden files and directories ... OK
* checking for portable file names ... OK
* checking for sufficient/correct file permissions ... OK
* checking whether package ‘DeepPINCS’ can be installed ... OK
* checking installed package size ... OK
* checking package directory ... OK
* checking ‘build’ directory ... OK
* checking DESCRIPTION meta-information ... OK
* checking top-level files ... OK
* checking for left-over files ... OK
* checking index information ... OK
* checking package subdirectories ... OK
* checking code files for non-ASCII characters ... OK
* checking R files for syntax errors ... OK
* checking whether the package can be loaded ... OK
* checking whether the package can be loaded with stated dependencies ... OK
* checking whether the package can be unloaded cleanly ... OK
* checking whether the namespace can be loaded with stated dependencies ... OK
* checking whether the namespace can be unloaded cleanly ... OK
* checking dependencies in R code ... OK
* checking S3 generic/method consistency ... OK
* checking replacement functions ... OK
* checking foreign function calls ... OK
* checking R code for possible problems ... NOTE
fit_cpi: no visible binding for global variable ‘compound’
fit_cpi: no visible binding for global variable ‘compound_args’
fit_cpi: no visible binding for global variable ‘protein’
fit_cpi: no visible binding for global variable ‘protein_args’
fit_cpi: no visible binding for global variable ‘max_atoms’
gcn_in_out : initialize: no visible global function definition for
‘super’
gcn_in_out : call: no visible binding for global variable ‘self’
gcn_in_out : <anonymous>: no visible binding for global variable ‘self’
gcn_in_out: no visible binding for global variable ‘temp_units’
multiple_sampling_generator : <anonymous>: no visible binding for
global variable ‘batch_start’
Undefined global functions or variables:
batch_start compound compound_args max_atoms protein protein_args
self super temp_units
* checking Rd files ... OK
* checking Rd metadata ... OK
* checking Rd cross-references ... OK
* checking for missing documentation entries ... OK
* checking for code/documentation mismatches ... OK
* checking Rd \usage sections ... OK
* checking Rd contents ... OK
* checking for unstated dependencies in examples ... OK
* checking contents of ‘data’ directory ... OK
* checking data for non-ASCII characters ... OK
* checking LazyData ... OK
* checking data for ASCII and uncompressed saves ... OK
* checking files in ‘vignettes’ ... OK
* checking examples ... OK
Examples with CPU (user + system) or elapsed time > 5s
user system elapsed
cpi_model 15.861 3.164 18.844
* checking for unstated dependencies in ‘tests’ ... OK
* checking tests ...
Running ‘testthat.R’
OK
* checking for unstated dependencies in vignettes ... OK
* checking package vignettes ... OK
* checking running R code from vignettes ... SKIPPED
* checking re-building of vignette outputs ... SKIPPED
* checking PDF version of manual ... OK
* DONE
Status: 1 NOTE
See
‘/Users/biocbuild/bbs-3.21-bioc/meat/DeepPINCS.Rcheck/00check.log’
for details.
DeepPINCS.Rcheck/00install.out
############################################################################## ############################################################################## ### ### Running command: ### ### /Library/Frameworks/R.framework/Resources/bin/R CMD INSTALL DeepPINCS ### ############################################################################## ############################################################################## * installing to library ‘/Library/Frameworks/R.framework/Versions/4.5-x86_64/Resources/library’ * installing *source* package ‘DeepPINCS’ ... ** using staged installation ** R ** data *** moving datasets to lazyload DB ** byte-compile and prepare package for lazy loading ** help *** installing help indices ** building package indices ** installing vignettes ** testing if installed package can be loaded from temporary location ** testing if installed package can be loaded from final location ** testing if installed package keeps a record of temporary installation path * DONE (DeepPINCS)
DeepPINCS.Rcheck/tests/testthat.Rout
R Under development (unstable) (2024-11-20 r87352) -- "Unsuffered Consequences"
Copyright (C) 2024 The R Foundation for Statistical Computing
Platform: x86_64-apple-darwin20
R is free software and comes with ABSOLUTELY NO WARRANTY.
You are welcome to redistribute it under certain conditions.
Type 'license()' or 'licence()' for distribution details.
R is a collaborative project with many contributors.
Type 'contributors()' for more information and
'citation()' on how to cite R or R packages in publications.
Type 'demo()' for some demos, 'help()' for on-line help, or
'help.start()' for an HTML browser interface to help.
Type 'q()' to quit R.
> library(testthat)
> library(DeepPINCS)
Loading required package: keras
>
> test_check("DeepPINCS")
2024-11-24 21:15:32.981422: I tensorflow/core/platform/cpu_feature_guard.cc:182] This TensorFlow binary is optimized to use available CPU instructions in performance-critical operations.
To enable the following instructions: AVX2 AVX512F AVX512_VNNI FMA, in other operations, rebuild TensorFlow with the appropriate compiler flags.
/Library/Python/3.9/site-packages/urllib3/__init__.py:34: NotOpenSSLWarning: urllib3 v2 only supports OpenSSL 1.1.1+, currently the 'ssl' module is compiled with 'LibreSSL 2.8.3'. See: https://github.com/urllib3/urllib3/issues/3020
warnings.warn(
1/7 [===>..........................] - ETA: 8s - loss: 0.6972 - accuracy: 0.3125
7/7 [==============================] - 2s 56ms/step - loss: 0.6926 - accuracy: 0.5200 - val_loss: 0.6879 - val_accuracy: 0.5200
1/7 [===>..........................] - ETA: 8s - loss: 0.6888 - accuracy: 0.6250
7/7 [==============================] - 2s 49ms/step - loss: 0.6945 - accuracy: 0.5300 - val_loss: 0.6886 - val_accuracy: 0.4800
1/7 [===>..........................] - ETA: 9s - loss: 0.7047 - accuracy: 0.4375
7/7 [==============================] - 2s 52ms/step - loss: 0.6897 - accuracy: 0.5200 - val_loss: 0.6918 - val_accuracy: 0.4800
1/1 [==============================] - ETA: 0s
1/1 [==============================] - 0s 167ms/step
[ FAIL 0 | WARN 1 | SKIP 0 | PASS 11 ]
[ FAIL 0 | WARN 1 | SKIP 0 | PASS 11 ]
>
> proc.time()
user system elapsed
64.883 3.762 62.890
DeepPINCS.Rcheck/DeepPINCS-Ex.timings
| name | user | system | elapsed | |
| cpi_model | 15.861 | 3.164 | 18.844 | |
| encoder_in_out | 0.126 | 0.004 | 0.130 | |
| get_canonical_smiles | 0.002 | 0.001 | 0.003 | |
| get_fingerprint | 0.406 | 0.048 | 0.167 | |
| get_graph_structure_node_feature | 0.073 | 0.006 | 0.034 | |
| get_seq_encode_pad | 0.007 | 0.001 | 0.008 | |
| metric_concordance_index | 2.469 | 0.211 | 2.454 | |
| metric_f1_score | 2.198 | 0.181 | 1.831 | |
| multiple_sampling_generator | 0.000 | 0.000 | 0.002 | |
| seq_check | 0.002 | 0.000 | 0.003 | |
| seq_preprocessing | 0.029 | 0.009 | 0.016 | |