| Back to Multiple platform build/check report for BioC 3.21: simplified long |
|
This page was generated on 2025-08-18 11:41 -0400 (Mon, 18 Aug 2025).
| Hostname | OS | Arch (*) | R version | Installed pkgs |
|---|---|---|---|---|
| nebbiolo1 | Linux (Ubuntu 24.04.3 LTS) | x86_64 | 4.5.1 (2025-06-13) -- "Great Square Root" | 4824 |
| palomino7 | Windows Server 2022 Datacenter | x64 | 4.5.1 (2025-06-13 ucrt) -- "Great Square Root" | 4566 |
| merida1 | macOS 12.7.5 Monterey | x86_64 | 4.5.1 RC (2025-06-05 r88288) -- "Great Square Root" | 4604 |
| kjohnson1 | macOS 13.6.6 Ventura | arm64 | 4.5.1 Patched (2025-06-14 r88325) -- "Great Square Root" | 4545 |
| kunpeng2 | Linux (openEuler 24.03 LTS) | aarch64 | R Under development (unstable) (2025-02-19 r87757) -- "Unsuffered Consequences" | 4579 |
| Click on any hostname to see more info about the system (e.g. compilers) (*) as reported by 'uname -p', except on Windows and Mac OS X | ||||
| Package 284/2341 | Hostname | OS / Arch | INSTALL | BUILD | CHECK | BUILD BIN | ||||||||
| CausalR 1.40.0 (landing page) Glyn Bradley
| nebbiolo1 | Linux (Ubuntu 24.04.3 LTS) / x86_64 | OK | OK | OK | |||||||||
| palomino7 | Windows Server 2022 Datacenter / x64 | OK | OK | OK | OK | |||||||||
| merida1 | macOS 12.7.5 Monterey / x86_64 | OK | OK | OK | OK | |||||||||
| kjohnson1 | macOS 13.6.6 Ventura / arm64 | OK | OK | OK | OK | |||||||||
| kunpeng2 | Linux (openEuler 24.03 LTS) / aarch64 | OK | OK | OK | ||||||||||
|
To the developers/maintainers of the CausalR package: - Allow up to 24 hours (and sometimes 48 hours) for your latest push to git@git.bioconductor.org:packages/CausalR.git to reflect on this report. See Troubleshooting Build Report for more information. - Use the following Renviron settings to reproduce errors and warnings. - If 'R CMD check' started to fail recently on the Linux builder(s) over a missing dependency, add the missing dependency to 'Suggests:' in your DESCRIPTION file. See Renviron.bioc for more information. |
| Package: CausalR |
| Version: 1.40.0 |
| Command: E:\biocbuild\bbs-3.21-bioc\R\bin\R.exe CMD check --no-multiarch --install=check:CausalR.install-out.txt --library=E:\biocbuild\bbs-3.21-bioc\R\library --no-vignettes --timings CausalR_1.40.0.tar.gz |
| StartedAt: 2025-08-15 00:19:20 -0400 (Fri, 15 Aug 2025) |
| EndedAt: 2025-08-15 00:20:20 -0400 (Fri, 15 Aug 2025) |
| EllapsedTime: 59.9 seconds |
| RetCode: 0 |
| Status: OK |
| CheckDir: CausalR.Rcheck |
| Warnings: 0 |
##############################################################################
##############################################################################
###
### Running command:
###
### E:\biocbuild\bbs-3.21-bioc\R\bin\R.exe CMD check --no-multiarch --install=check:CausalR.install-out.txt --library=E:\biocbuild\bbs-3.21-bioc\R\library --no-vignettes --timings CausalR_1.40.0.tar.gz
###
##############################################################################
##############################################################################
* using log directory 'E:/biocbuild/bbs-3.21-bioc/meat/CausalR.Rcheck'
* using R version 4.5.1 (2025-06-13 ucrt)
* using platform: x86_64-w64-mingw32
* R was compiled by
gcc.exe (GCC) 14.2.0
GNU Fortran (GCC) 14.2.0
* running under: Windows Server 2022 x64 (build 20348)
* using session charset: UTF-8
* using option '--no-vignettes'
* checking for file 'CausalR/DESCRIPTION' ... OK
* checking extension type ... Package
* this is package 'CausalR' version '1.40.0'
* checking package namespace information ... OK
* checking package dependencies ... OK
* checking if this is a source package ... OK
* checking if there is a namespace ... OK
* checking for hidden files and directories ... OK
* checking for portable file names ... OK
* checking whether package 'CausalR' can be installed ... OK
* checking installed package size ... OK
* checking package directory ... OK
* checking 'build' directory ... OK
* checking DESCRIPTION meta-information ... OK
* checking top-level files ... OK
* checking for left-over files ... OK
* checking index information ... OK
* checking package subdirectories ... OK
* checking code files for non-ASCII characters ... OK
* checking R files for syntax errors ... OK
* checking whether the package can be loaded ... OK
* checking whether the package can be loaded with stated dependencies ... OK
* checking whether the package can be unloaded cleanly ... OK
* checking whether the namespace can be loaded with stated dependencies ... OK
* checking whether the namespace can be unloaded cleanly ... OK
* checking dependencies in R code ... OK
* checking S3 generic/method consistency ... OK
* checking replacement functions ... OK
* checking foreign function calls ... OK
* checking R code for possible problems ... OK
* checking Rd files ... OK
* checking Rd metadata ... OK
* checking Rd cross-references ... OK
* checking for missing documentation entries ... OK
* checking for code/documentation mismatches ... OK
* checking Rd \usage sections ... OK
* checking Rd contents ... OK
* checking for unstated dependencies in examples ... OK
* checking sizes of PDF files under 'inst/doc' ... OK
* checking files in 'vignettes' ... NOTE
The following directory looks like a leftover from 'knitr':
'figure'
Please remove from your package.
* checking examples ... OK
* checking for unstated dependencies in 'tests' ... OK
* checking tests ...
Running 'runTests.R'
OK
* checking for unstated dependencies in vignettes ... OK
* checking package vignettes ... OK
* checking running R code from vignettes ... SKIPPED
* checking re-building of vignette outputs ... SKIPPED
* checking PDF version of manual ... OK
* DONE
Status: 1 NOTE
See
'E:/biocbuild/bbs-3.21-bioc/meat/CausalR.Rcheck/00check.log'
for details.
CausalR.Rcheck/00install.out
############################################################################## ############################################################################## ### ### Running command: ### ### E:\biocbuild\bbs-3.21-bioc\R\bin\R.exe CMD INSTALL CausalR ### ############################################################################## ############################################################################## * installing to library 'E:/biocbuild/bbs-3.21-bioc/R/library' * installing *source* package 'CausalR' ... ** this is package 'CausalR' version '1.40.0' ** using staged installation ** R ** inst ** byte-compile and prepare package for lazy loading ** help *** installing help indices ** building package indices ** installing vignettes ** testing if installed package can be loaded from temporary location ** testing if installed package can be loaded from final location ** testing if installed package keeps a record of temporary installation path * DONE (CausalR)
CausalR.Rcheck/tests/runTests.Rout
R version 4.5.1 (2025-06-13 ucrt) -- "Great Square Root"
Copyright (C) 2025 The R Foundation for Statistical Computing
Platform: x86_64-w64-mingw32/x64
R is free software and comes with ABSOLUTELY NO WARRANTY.
You are welcome to redistribute it under certain conditions.
Type 'license()' or 'licence()' for distribution details.
R is a collaborative project with many contributors.
Type 'contributors()' for more information and
'citation()' on how to cite R or R packages in publications.
Type 'demo()' for some demos, 'help()' for on-line help, or
'help.start()' for an HTML browser interface to help.
Type 'q()' to quit R.
> # Make sure that the igraph package has been loaded
>
> library(igraph)
Attaching package: 'igraph'
The following objects are masked from 'package:stats':
decompose, spectrum
The following object is masked from 'package:base':
union
>
> BiocGenerics:::testPackage("CausalR")
[1] "File read complete - read in 3 lines. Now constructing network"
[1] "Network has been created - now adding edge properties"
[1] "Added weights to edges"
[1] "File read complete - read in 2 lines. Now constructing network"
[1] "Network has been created - now adding edge properties"
[1] "Added weights to edges"
[1] "File read complete - read in 2 lines. Now constructing network"
[1] "Network has been created - now adding edge properties"
[1] "Added weights to edges"
[1] "File read complete - read in 4 lines. Now constructing network"
[1] "Network has been created - now adding edge properties"
[1] "Added weights to edges"
[1] "File read complete - read in 4 lines. Now constructing network"
[1] "Network has been created - now adding edge properties"
[1] "Added weights to edges"
[1] "The values in the second column do not match what is expected. They should be (+)1, 0 or -1"
[1] "The experimental data read in didn't have two columns"
Number of Nodes to analyse: 3
Number of Nodes to analyse: 1
Number of Nodes to analyse: 1
Parallel processing. Number of cores: 2
Number of Nodes to analyse: 3
Number of Nodes to analyse: 3
Parallel processing. Number of cores: 2
Number of Nodes to analyse: 3
Number of Nodes to analyse: 3
Parallel processing. Number of cores: 2
Number of Nodes to analyse: 3
Number of Nodes to analyse: 3
Number of Nodes to analyse: 3
Parallel processing. Number of cores: 2
Number of Nodes to analyse: 3
Number of Nodes to analyse: 3
Parallel processing. Number of cores: 2
Number of Nodes to analyse: 3
Number of Nodes to analyse: 3
Parallel processing. Number of cores: 2
Number of Nodes to analyse: 1
Number of Nodes to analyse: 1
Parallel processing. Number of cores: 2
Number of Nodes to analyse: 1
Number of Nodes to analyse: 1
Parallel processing. Number of cores: 2
Number of Nodes to analyse: 2
Number of Nodes to analyse: 2
Parallel processing. Number of cores: 2
Number of Nodes to analyse: 1
Number of Nodes to analyse: 1
Parallel processing. Number of cores: 2
Number of Nodes to analyse: 1
Number of Nodes to analyse: 1
Parallel processing. Number of cores: 2
Number of Nodes to analyse: 2
Number of Nodes to analyse: 2
Parallel processing. Number of cores: 2
Number of Nodes to analyse: 2
Number of Nodes to analyse: 2
Parallel processing. Number of cores: 2
Number of Nodes to analyse: 1
Number of Nodes to analyse: 1
Parallel processing. Number of cores: 2
Number of Nodes to analyse: 1
Number of Nodes to analyse: 1
Parallel processing. Number of cores: 2
Number of Nodes to analyse: 3
Number of Nodes to analyse: 3
Parallel processing. Number of cores: 2
[1] "File read complete - read in 2 lines. Now constructing network"
[1] "Network has been created - now adding edge properties"
[1] "Added weights to edges"
Writing sif file to: E:/biocbuild/bbs-3.21-bioc/tmpdir/RtmpCQuZSn-254546020/corExplainedNodes-file15fa0791366df.sif
Writing annotation file to: E:/biocbuild/bbs-3.21-bioc/tmpdir/RtmpCQuZSn-254546020/corExplainedNodes-file15fa0791366df_anno.txt
corExplainedNodes
Node0 Activates Node1
Node0 Inhibits Node2
Node1 Activates Node3
Node2 Activates Node6
Node2 Activates Node7
Writing sif file to: E:/biocbuild/bbs-3.21-bioc/tmpdir/RtmpCQuZSn-17115206/corExplainedNodes-testNetwork1-testData1-delta2-Node0+.sif
Writing annotation file to: E:/biocbuild/bbs-3.21-bioc/tmpdir/RtmpCQuZSn-17115206/corExplainedNodes-testNetwork1-testData1-delta2-Node0+_anno.txt
corExplainedNodes
Node0 Activates Node1
Node0 Inhibits Node2
Node1 Activates Node3
Node2 Activates Node6
Node2 Activates Node7
Writing sif file to: E:/biocbuild/bbs-3.21-bioc/tmpdir/RtmpCQuZSn-141889734/corExplainedNodes-testNetwork1-testData1-delta2-Node0+.sif
Writing annotation file to: E:/biocbuild/bbs-3.21-bioc/tmpdir/RtmpCQuZSn-141889734/corExplainedNodes-testNetwork1-testData1-delta2-Node0+_anno.txt
corExplainedNodes
Node0 Activates Node1
Node0 Inhibits Node2
Node1 Activates Node3
Node2 Activates Node6
Node2 Activates Node7
Writing sif file to: E:/biocbuild/bbs-3.21-bioc/tmpdir/RtmpCQuZSn-141889734/incorExplainedNodes-testNetwork1-testData1-delta2-Node0+.sif
Writing annotation file to: E:/biocbuild/bbs-3.21-bioc/tmpdir/RtmpCQuZSn-141889734/incorExplainedNodes-testNetwork1-testData1-delta2-Node0+_anno.txt
incorExplainedNodes
Node0 Inhibits Node2
Writing sif file to: E:/biocbuild/bbs-3.21-bioc/tmpdir/RtmpCQuZSn-141889734/ambExplainedNodes-testNetwork1-testData1-delta2-Node0+.sif
Writing annotation file to: E:/biocbuild/bbs-3.21-bioc/tmpdir/RtmpCQuZSn-141889734/ambExplainedNodes-testNetwork1-testData1-delta2-Node0+_anno.txt
ambExplainedNodes
Node0 Activates Node1
Node0 Inhibits Node2
Node1 Inhibits Node5
Node2 Inhibits Node5
Writing sif file to: E:/biocbuild/bbs-3.21-bioc/tmpdir/RtmpCQuZSn/corExplainedNodes-file15fa01dea4e0.sif
Writing annotation file to: E:/biocbuild/bbs-3.21-bioc/tmpdir/RtmpCQuZSn/corExplainedNodes-file15fa01dea4e0_anno.txt
corExplainedNodes
Node0 Activates Node1
Writing sif file to: E:/biocbuild/bbs-3.21-bioc/tmpdir/RtmpCQuZSn/incorExplainedNodes-file15fa01dea4e0.sif
Writing annotation file to: E:/biocbuild/bbs-3.21-bioc/tmpdir/RtmpCQuZSn/incorExplainedNodes-file15fa01dea4e0_anno.txt
incorExplainedNodes
Node0 Inhibits Node2
Writing sif file to: E:/biocbuild/bbs-3.21-bioc/tmpdir/RtmpCQuZSn/ambExplainedNodes-file15fa01dea4e0.sif
Writing annotation file to: E:/biocbuild/bbs-3.21-bioc/tmpdir/RtmpCQuZSn/ambExplainedNodes-file15fa01dea4e0_anno.txt
ambExplainedNodes
Writing sif file to: E:/biocbuild/bbs-3.21-bioc/tmpdir/RtmpCQuZSn/corExplainedNodes-file15fa0b705414.sif
Writing annotation file to: E:/biocbuild/bbs-3.21-bioc/tmpdir/RtmpCQuZSn/corExplainedNodes-file15fa0b705414_anno.txt
corExplainedNodes
Node0 Activates Node1
Node0 Inhibits Node2
Node1 Activates Node3
Node2 Activates Node6
Node2 Activates Node7
Writing sif file to: E:/biocbuild/bbs-3.21-bioc/tmpdir/RtmpCQuZSn/incorExplainedNodes-file15fa0b705414.sif
Writing annotation file to: E:/biocbuild/bbs-3.21-bioc/tmpdir/RtmpCQuZSn/incorExplainedNodes-file15fa0b705414_anno.txt
incorExplainedNodes
Node0 Inhibits Node2
Writing sif file to: E:/biocbuild/bbs-3.21-bioc/tmpdir/RtmpCQuZSn/ambExplainedNodes-file15fa0b705414.sif
Writing annotation file to: E:/biocbuild/bbs-3.21-bioc/tmpdir/RtmpCQuZSn/ambExplainedNodes-file15fa0b705414_anno.txt
ambExplainedNodes
Node0 Activates Node1
Node0 Inhibits Node2
Node1 Inhibits Node5
Node2 Inhibits Node5
Writing sif file to: E:/biocbuild/bbs-3.21-bioc/tmpdir/RtmpCQuZSn-291181567/corExplainedNodes-file15fa0791c115a.sif
Writing annotation file to: E:/biocbuild/bbs-3.21-bioc/tmpdir/RtmpCQuZSn-291181567/corExplainedNodes-file15fa0791c115a_anno.txt
corExplainedNodes
Node0 Activates Node1
Node0 Inhibits Node2
Node1 Activates Node3
Node2 Activates Node6
Node2 Activates Node7
Writing sif file to: E:/biocbuild/bbs-3.21-bioc/tmpdir/RtmpCQuZSn-963498371/corExplainedNodes-testNetwork1-testData1-delta2-Node0+.sif
Writing annotation file to: E:/biocbuild/bbs-3.21-bioc/tmpdir/RtmpCQuZSn-963498371/corExplainedNodes-testNetwork1-testData1-delta2-Node0+_anno.txt
corExplainedNodes
Node0 Activates Node1
Node0 Inhibits Node2
Node1 Activates Node3
Node2 Activates Node6
Node2 Activates Node7
Writing sif file to: E:/biocbuild/bbs-3.21-bioc/tmpdir/RtmpCQuZSn-892685450/corExplainedNodes-testNetwork1-testData1-delta2-Node0+.sif
Writing annotation file to: E:/biocbuild/bbs-3.21-bioc/tmpdir/RtmpCQuZSn-892685450/corExplainedNodes-testNetwork1-testData1-delta2-Node0+_anno.txt
corExplainedNodes
Node0 Activates Node1
Node0 Inhibits Node2
Node1 Activates Node3
Node2 Activates Node6
Node2 Activates Node7
Writing sif file to: E:/biocbuild/bbs-3.21-bioc/tmpdir/RtmpCQuZSn-892685450/incorExplainedNodes-testNetwork1-testData1-delta2-Node0+.sif
Writing annotation file to: E:/biocbuild/bbs-3.21-bioc/tmpdir/RtmpCQuZSn-892685450/incorExplainedNodes-testNetwork1-testData1-delta2-Node0+_anno.txt
incorExplainedNodes
Node0 Inhibits Node2
Writing sif file to: E:/biocbuild/bbs-3.21-bioc/tmpdir/RtmpCQuZSn-892685450/ambExplainedNodes-testNetwork1-testData1-delta2-Node0+.sif
Writing annotation file to: E:/biocbuild/bbs-3.21-bioc/tmpdir/RtmpCQuZSn-892685450/ambExplainedNodes-testNetwork1-testData1-delta2-Node0+_anno.txt
ambExplainedNodes
Node0 Activates Node1
Node0 Inhibits Node2
Node1 Inhibits Node5
Node2 Inhibits Node5
RUNIT TEST PROTOCOL -- Fri Aug 15 00:20:08 2025
***********************************************
Number of test functions: 129
Number of errors: 0
Number of failures: 0
1 Test Suite :
CausalR RUnit Tests - 129 test functions, 0 errors, 0 failures
Number of test functions: 129
Number of errors: 0
Number of failures: 0
Warning messages:
1: In file(file, "rt") :
cannot open file 'nonExistentFile.sif': No such file or directory
2: In file(file, "rt") :
cannot open file 'nonExistentFile.sif': No such file or directory
>
> proc.time()
user system elapsed
2.17 0.50 12.93
CausalR.Rcheck/CausalR-Ex.timings
| name | user | system | elapsed | |
| AnalysePredictionsList | 0.04 | 0.00 | 0.04 | |
| CalculateEnrichmentPValue | 0 | 0 | 0 | |
| CalculateSignificance | 0.04 | 0.00 | 0.05 | |
| CalculateSignificanceUsingCubicAlgorithm | 0.04 | 0.00 | 0.03 | |
| CalculateSignificanceUsingCubicAlgorithm1b | 0.04 | 0.00 | 0.04 | |
| CalculateSignificanceUsingQuarticAlgorithm | 0.07 | 0.00 | 0.07 | |
| CompareHypothesis | 0 | 0 | 0 | |
| CreateCCG | 0.01 | 0.00 | 0.01 | |
| CreateCG | 0 | 0 | 0 | |
| GetNodeName | 0.00 | 0.01 | 0.02 | |
| GetNumberOfPositiveAndNegativeEntries | 0 | 0 | 0 | |
| GetShortestPathsFromCCG | 0.02 | 0.00 | 0.01 | |
| MakePredictions | 0.01 | 0.00 | 0.02 | |
| MakePredictionsFromCCG | 0 | 0 | 0 | |
| MakePredictionsFromCG | 0.05 | 0.02 | 0.06 | |
| PlotGraphWithNodeNames | 0.09 | 0.00 | 0.16 | |
| RankTheHypotheses | 0.13 | 0.05 | 0.81 | |
| ReadExperimentalData | 0.06 | 0.00 | 0.06 | |
| ScoreHypothesis | 0 | 0 | 0 | |
| WriteAllExplainedNodesToSifFile | 0.03 | 0.01 | 1.22 | |
| WriteExplainedNodesToSifFile | 0.05 | 0.02 | 0.06 | |
| runSCANR | 0.30 | 0.07 | 1.61 | |