| Back to Multiple platform build/check report for BioC 3.21: simplified long |
|
This page was generated on 2025-08-18 11:41 -0400 (Mon, 18 Aug 2025).
| Hostname | OS | Arch (*) | R version | Installed pkgs |
|---|---|---|---|---|
| nebbiolo1 | Linux (Ubuntu 24.04.3 LTS) | x86_64 | 4.5.1 (2025-06-13) -- "Great Square Root" | 4824 |
| palomino7 | Windows Server 2022 Datacenter | x64 | 4.5.1 (2025-06-13 ucrt) -- "Great Square Root" | 4566 |
| merida1 | macOS 12.7.5 Monterey | x86_64 | 4.5.1 RC (2025-06-05 r88288) -- "Great Square Root" | 4604 |
| kjohnson1 | macOS 13.6.6 Ventura | arm64 | 4.5.1 Patched (2025-06-14 r88325) -- "Great Square Root" | 4545 |
| kunpeng2 | Linux (openEuler 24.03 LTS) | aarch64 | R Under development (unstable) (2025-02-19 r87757) -- "Unsuffered Consequences" | 4579 |
| Click on any hostname to see more info about the system (e.g. compilers) (*) as reported by 'uname -p', except on Windows and Mac OS X | ||||
| Package 395/2341 | Hostname | OS / Arch | INSTALL | BUILD | CHECK | BUILD BIN | ||||||||
| CNEr 1.44.0 (landing page) Ge Tan
| nebbiolo1 | Linux (Ubuntu 24.04.3 LTS) / x86_64 | ERROR | ERROR | skipped | |||||||||
| palomino7 | Windows Server 2022 Datacenter / x64 | ERROR | ERROR | skipped | skipped | |||||||||
| merida1 | macOS 12.7.5 Monterey / x86_64 | OK | OK | WARNINGS | OK | |||||||||
| kjohnson1 | macOS 13.6.6 Ventura / arm64 | ERROR | ERROR | skipped | skipped | |||||||||
| kunpeng2 | Linux (openEuler 24.03 LTS) / aarch64 | ERROR | ERROR | skipped | ||||||||||
|
To the developers/maintainers of the CNEr package: - Allow up to 24 hours (and sometimes 48 hours) for your latest push to git@git.bioconductor.org:packages/CNEr.git to reflect on this report. See Troubleshooting Build Report for more information. - Use the following Renviron settings to reproduce errors and warnings. - If 'R CMD check' started to fail recently on the Linux builder(s) over a missing dependency, add the missing dependency to 'Suggests:' in your DESCRIPTION file. See Renviron.bioc for more information. |
| Package: CNEr |
| Version: 1.44.0 |
| Command: chmod a+r CNEr -R && E:\biocbuild\bbs-3.21-bioc\R\bin\R.exe CMD build --keep-empty-dirs --no-resave-data CNEr |
| StartedAt: 2025-08-14 18:08:37 -0400 (Thu, 14 Aug 2025) |
| EndedAt: 2025-08-14 18:08:56 -0400 (Thu, 14 Aug 2025) |
| EllapsedTime: 19.0 seconds |
| RetCode: 1 |
| Status: ERROR |
| PackageFile: None |
| PackageFileSize: NA |
##############################################################################
##############################################################################
###
### Running command:
###
### chmod a+r CNEr -R && E:\biocbuild\bbs-3.21-bioc\R\bin\R.exe CMD build --keep-empty-dirs --no-resave-data CNEr
###
##############################################################################
##############################################################################
* checking for file 'CNEr/DESCRIPTION' ... OK
* preparing 'CNEr':
* checking DESCRIPTION meta-information ... OK
* cleaning src
* installing the package to build vignettes
-----------------------------------
* installing *source* package 'CNEr' ...
** this is package 'CNEr' version '1.44.0'
** using staged installation
** libs
using C compiler: 'gcc.exe (GCC) 14.2.0'
gcc -I"E:/biocbuild/bbs-3.21-bioc/R/include" -DNDEBUG -I'E:/biocbuild/bbs-3.21-bioc/R/library/S4Vectors/include' -I'E:/biocbuild/bbs-3.21-bioc/R/library/IRanges/include' -I'E:/biocbuild/bbs-3.21-bioc/R/library/XVector/include' -I"C:/rtools45/x86_64-w64-mingw32.static.posix/include" -g -O2 -Wall -std=gnu2x -mfpmath=sse -msse2 -mstackrealign -c S4Vectors_stubs.c -o S4Vectors_stubs.o
gcc -I"E:/biocbuild/bbs-3.21-bioc/R/include" -DNDEBUG -I'E:/biocbuild/bbs-3.21-bioc/R/library/S4Vectors/include' -I'E:/biocbuild/bbs-3.21-bioc/R/library/IRanges/include' -I'E:/biocbuild/bbs-3.21-bioc/R/library/XVector/include' -I"C:/rtools45/x86_64-w64-mingw32.static.posix/include" -g -O2 -Wall -std=gnu2x -mfpmath=sse -msse2 -mstackrealign -c IRanges_stubs.c -o IRanges_stubs.o
gcc -I"E:/biocbuild/bbs-3.21-bioc/R/include" -DNDEBUG -I'E:/biocbuild/bbs-3.21-bioc/R/library/S4Vectors/include' -I'E:/biocbuild/bbs-3.21-bioc/R/library/IRanges/include' -I'E:/biocbuild/bbs-3.21-bioc/R/library/XVector/include' -I"C:/rtools45/x86_64-w64-mingw32.static.posix/include" -g -O2 -Wall -std=gnu2x -mfpmath=sse -msse2 -mstackrealign -c XVector_stubs.c -o XVector_stubs.o
gcc -I"E:/biocbuild/bbs-3.21-bioc/R/include" -DNDEBUG -I'E:/biocbuild/bbs-3.21-bioc/R/library/S4Vectors/include' -I'E:/biocbuild/bbs-3.21-bioc/R/library/IRanges/include' -I'E:/biocbuild/bbs-3.21-bioc/R/library/XVector/include' -I"C:/rtools45/x86_64-w64-mingw32.static.posix/include" -g -O2 -Wall -std=gnu2x -mfpmath=sse -msse2 -mstackrealign -c R_init_CNEr.c -o R_init_CNEr.o
gcc -I"E:/biocbuild/bbs-3.21-bioc/R/include" -DNDEBUG -I'E:/biocbuild/bbs-3.21-bioc/R/library/S4Vectors/include' -I'E:/biocbuild/bbs-3.21-bioc/R/library/IRanges/include' -I'E:/biocbuild/bbs-3.21-bioc/R/library/XVector/include' -I"C:/rtools45/x86_64-w64-mingw32.static.posix/include" -g -O2 -Wall -std=gnu2x -mfpmath=sse -msse2 -mstackrealign -c utils.c -o utils.o
utils.c: In function 'bin_ranges_from_coord_range_standard':
utils.c:50:7: warning: unused variable '_binNextShift' [-Wunused-variable]
50 | int _binNextShift = binNextShift();
| ^~~~~~~~~~~~~
utils.c:49:7: warning: unused variable '_binFirstShift' [-Wunused-variable]
49 | int _binFirstShift = binFirstShift();
| ^~~~~~~~~~~~~~
gcc -I"E:/biocbuild/bbs-3.21-bioc/R/include" -DNDEBUG -I'E:/biocbuild/bbs-3.21-bioc/R/library/S4Vectors/include' -I'E:/biocbuild/bbs-3.21-bioc/R/library/IRanges/include' -I'E:/biocbuild/bbs-3.21-bioc/R/library/XVector/include' -I"C:/rtools45/x86_64-w64-mingw32.static.posix/include" -g -O2 -Wall -std=gnu2x -mfpmath=sse -msse2 -mstackrealign -c io.c -o io.o
io.c: In function 'myReadAxt':
io.c:94:26: warning: unused variable 'curAxt' [-Wunused-variable]
94 | struct axt *axt=NULL, *curAxt;
| ^~~~~~
gcc -I"E:/biocbuild/bbs-3.21-bioc/R/include" -DNDEBUG -I'E:/biocbuild/bbs-3.21-bioc/R/library/S4Vectors/include' -I'E:/biocbuild/bbs-3.21-bioc/R/library/IRanges/include' -I'E:/biocbuild/bbs-3.21-bioc/R/library/XVector/include' -I"C:/rtools45/x86_64-w64-mingw32.static.posix/include" -g -O2 -Wall -std=gnu2x -mfpmath=sse -msse2 -mstackrealign -c ceScan.c -o ceScan.o
ceScan.c: In function 'ceScan':
ceScan.c:615:8: warning: unused variable 'rest' [-Wunused-variable]
615 | char rest, path[PATH_LEN];
| ^~~~
ceScan.c:613:10: warning: unused variable 'n' [-Wunused-variable]
613 | int i, n;
| ^
ceScan.c: In function 'freeSlThreshold':
ceScan.c:674:17: warning: unused variable 'CNE' [-Wunused-variable]
674 | struct slCNE *CNE, *nextCNE, *el_CNE;
| ^~~
ceScan.c:673:23: warning: unused variable 'thresholds' [-Wunused-variable]
673 | struct slThreshold *thresholds, *nextThreshold, *el_threshold;
| ^~~~~~~~~~
ceScan.c: In function 'myCeScan':
ceScan.c:868:28: warning: unused variable 'i' [-Wunused-variable]
868 | int nrCNE[nrThresholds], i;
| ^
ceScan.c:868:7: warning: unused variable 'nrCNE' [-Wunused-variable]
868 | int nrCNE[nrThresholds], i;
| ^~~~~
ceScan.c:865:17: warning: unused variable 'CNE' [-Wunused-variable]
865 | struct slCNE *CNE;
| ^~~
ceScan.c: In function 'myCeScanFile':
ceScan.c:898:7: warning: unused variable 'nrThresholds' [-Wunused-variable]
898 | int nrThresholds = GET_LENGTH(winSize);
| ^~~~~~~~~~~~
gcc -I"E:/biocbuild/bbs-3.21-bioc/R/include" -DNDEBUG -I'E:/biocbuild/bbs-3.21-bioc/R/library/S4Vectors/include' -I'E:/biocbuild/bbs-3.21-bioc/R/library/IRanges/include' -I'E:/biocbuild/bbs-3.21-bioc/R/library/XVector/include' -I"C:/rtools45/x86_64-w64-mingw32.static.posix/include" -g -O2 -Wall -std=gnu2x -mfpmath=sse -msse2 -mstackrealign -c ucsc/axt.c -o ucsc/axt.o
gcc -I"E:/biocbuild/bbs-3.21-bioc/R/include" -DNDEBUG -I'E:/biocbuild/bbs-3.21-bioc/R/library/S4Vectors/include' -I'E:/biocbuild/bbs-3.21-bioc/R/library/IRanges/include' -I'E:/biocbuild/bbs-3.21-bioc/R/library/XVector/include' -I"C:/rtools45/x86_64-w64-mingw32.static.posix/include" -g -O2 -Wall -std=gnu2x -mfpmath=sse -msse2 -mstackrealign -c ucsc/base64.c -o ucsc/base64.o
gcc -I"E:/biocbuild/bbs-3.21-bioc/R/include" -DNDEBUG -I'E:/biocbuild/bbs-3.21-bioc/R/library/S4Vectors/include' -I'E:/biocbuild/bbs-3.21-bioc/R/library/IRanges/include' -I'E:/biocbuild/bbs-3.21-bioc/R/library/XVector/include' -I"C:/rtools45/x86_64-w64-mingw32.static.posix/include" -g -O2 -Wall -std=gnu2x -mfpmath=sse -msse2 -mstackrealign -c ucsc/binRange.c -o ucsc/binRange.o
gcc -I"E:/biocbuild/bbs-3.21-bioc/R/include" -DNDEBUG -I'E:/biocbuild/bbs-3.21-bioc/R/library/S4Vectors/include' -I'E:/biocbuild/bbs-3.21-bioc/R/library/IRanges/include' -I'E:/biocbuild/bbs-3.21-bioc/R/library/XVector/include' -I"C:/rtools45/x86_64-w64-mingw32.static.posix/include" -g -O2 -Wall -std=gnu2x -mfpmath=sse -msse2 -mstackrealign -c ucsc/bits.c -o ucsc/bits.o
gcc -I"E:/biocbuild/bbs-3.21-bioc/R/include" -DNDEBUG -I'E:/biocbuild/bbs-3.21-bioc/R/library/S4Vectors/include' -I'E:/biocbuild/bbs-3.21-bioc/R/library/IRanges/include' -I'E:/biocbuild/bbs-3.21-bioc/R/library/XVector/include' -I"C:/rtools45/x86_64-w64-mingw32.static.posix/include" -g -O2 -Wall -std=gnu2x -mfpmath=sse -msse2 -mstackrealign -c ucsc/chain.c -o ucsc/chain.o
gcc -I"E:/biocbuild/bbs-3.21-bioc/R/include" -DNDEBUG -I'E:/biocbuild/bbs-3.21-bioc/R/library/S4Vectors/include' -I'E:/biocbuild/bbs-3.21-bioc/R/library/IRanges/include' -I'E:/biocbuild/bbs-3.21-bioc/R/library/XVector/include' -I"C:/rtools45/x86_64-w64-mingw32.static.posix/include" -g -O2 -Wall -std=gnu2x -mfpmath=sse -msse2 -mstackrealign -c ucsc/_cheapcgi.c -o ucsc/_cheapcgi.o
gcc -I"E:/biocbuild/bbs-3.21-bioc/R/include" -DNDEBUG -I'E:/biocbuild/bbs-3.21-bioc/R/library/S4Vectors/include' -I'E:/biocbuild/bbs-3.21-bioc/R/library/IRanges/include' -I'E:/biocbuild/bbs-3.21-bioc/R/library/XVector/include' -I"C:/rtools45/x86_64-w64-mingw32.static.posix/include" -g -O2 -Wall -std=gnu2x -mfpmath=sse -msse2 -mstackrealign -c ucsc/cirTree.c -o ucsc/cirTree.o
gcc -I"E:/biocbuild/bbs-3.21-bioc/R/include" -DNDEBUG -I'E:/biocbuild/bbs-3.21-bioc/R/library/S4Vectors/include' -I'E:/biocbuild/bbs-3.21-bioc/R/library/IRanges/include' -I'E:/biocbuild/bbs-3.21-bioc/R/library/XVector/include' -I"C:/rtools45/x86_64-w64-mingw32.static.posix/include" -g -O2 -Wall -std=gnu2x -mfpmath=sse -msse2 -mstackrealign -c ucsc/common.c -o ucsc/common.o
ucsc/common.c: In function 'slUniqify':
ucsc/common.c:360:9: error: too many arguments to function 'free'
360 | free(el);
| ^~~~
make: *** [Makevars.win:11: ucsc/common.o] Error 1
ERROR: compilation failed for package 'CNEr'
* removing 'E:/biocbuild/bbs-3.21-bioc/tmpdir/RtmpwvRoe0/Rinst3ce843e563bc/CNEr'
-----------------------------------
ERROR: package installation failed