Back to Multiple platform build/check report for BioC 3.21:   simplified   long
AB[C]DEFGHIJKLMNOPQRSTUVWXYZ

This page was generated on 2025-10-16 11:38 -0400 (Thu, 16 Oct 2025).

HostnameOSArch (*)R versionInstalled pkgs
nebbiolo1Linux (Ubuntu 24.04.3 LTS)x86_644.5.1 (2025-06-13) -- "Great Square Root" 4833
merida1macOS 12.7.6 Montereyx86_644.5.1 RC (2025-06-05 r88288) -- "Great Square Root" 4614
kjohnson1macOS 13.7.5 Venturaarm644.5.1 Patched (2025-06-14 r88325) -- "Great Square Root" 4555
kunpeng2Linux (openEuler 24.03 LTS)aarch64R Under development (unstable) (2025-02-19 r87757) -- "Unsuffered Consequences" 4586
Click on any hostname to see more info about the system (e.g. compilers)      (*) as reported by 'uname -p', except on Windows and Mac OS X

Package 280/2341HostnameOS / ArchINSTALLBUILDCHECKBUILD BIN
CATALYST 1.32.1  (landing page)
Helena L. Crowell
Snapshot Date: 2025-10-13 13:40 -0400 (Mon, 13 Oct 2025)
git_url: https://git.bioconductor.org/packages/CATALYST
git_branch: RELEASE_3_21
git_last_commit: 0328eff
git_last_commit_date: 2025-10-05 16:27:34 -0400 (Sun, 05 Oct 2025)
nebbiolo1Linux (Ubuntu 24.04.3 LTS) / x86_64  OK    OK    OK  UNNEEDED, same version is already published
merida1macOS 12.7.6 Monterey / x86_64  OK    OK    OK    OK  UNNEEDED, same version is already published
kjohnson1macOS 13.7.5 Ventura / arm64  OK    OK    OK    OK  UNNEEDED, same version is already published
kunpeng2Linux (openEuler 24.03 LTS) / aarch64  OK    OK    OK  


CHECK results for CATALYST on merida1

To the developers/maintainers of the CATALYST package:
- Allow up to 24 hours (and sometimes 48 hours) for your latest push to git@git.bioconductor.org:packages/CATALYST.git to reflect on this report. See Troubleshooting Build Report for more information.
- Use the following Renviron settings to reproduce errors and warnings.
- If 'R CMD check' started to fail recently on the Linux builder(s) over a missing dependency, add the missing dependency to 'Suggests:' in your DESCRIPTION file. See Renviron.bioc for more information.

raw results


Summary

Package: CATALYST
Version: 1.32.1
Command: /Library/Frameworks/R.framework/Resources/bin/R CMD check --install=check:CATALYST.install-out.txt --library=/Library/Frameworks/R.framework/Resources/library --no-vignettes --timings CATALYST_1.32.1.tar.gz
StartedAt: 2025-10-14 01:04:42 -0400 (Tue, 14 Oct 2025)
EndedAt: 2025-10-14 01:27:33 -0400 (Tue, 14 Oct 2025)
EllapsedTime: 1371.3 seconds
RetCode: 0
Status:   OK  
CheckDir: CATALYST.Rcheck
Warnings: 0

Command output

##############################################################################
##############################################################################
###
### Running command:
###
###   /Library/Frameworks/R.framework/Resources/bin/R CMD check --install=check:CATALYST.install-out.txt --library=/Library/Frameworks/R.framework/Resources/library --no-vignettes --timings CATALYST_1.32.1.tar.gz
###
##############################################################################
##############################################################################


* using log directory ‘/Users/biocbuild/bbs-3.21-bioc/meat/CATALYST.Rcheck’
* using R version 4.5.1 RC (2025-06-05 r88288)
* using platform: x86_64-apple-darwin20
* R was compiled by
    Apple clang version 14.0.0 (clang-1400.0.29.202)
    GNU Fortran (GCC) 14.2.0
* running under: macOS Monterey 12.7.6
* using session charset: UTF-8
* using option ‘--no-vignettes’
* checking for file ‘CATALYST/DESCRIPTION’ ... OK
* checking extension type ... Package
* this is package ‘CATALYST’ version ‘1.32.1’
* package encoding: UTF-8
* checking package namespace information ... OK
* checking package dependencies ... INFO
Imports includes 24 non-default packages.
Importing from so many packages makes the package vulnerable to any of
them becoming unavailable.  Move as many as possible to Suggests and
use conditionally.
* checking if this is a source package ... OK
* checking if there is a namespace ... OK
* checking for hidden files and directories ... OK
* checking for portable file names ... OK
* checking for sufficient/correct file permissions ... OK
* checking whether package ‘CATALYST’ can be installed ... OK
* checking installed package size ... OK
* checking package directory ... OK
* checking ‘build’ directory ... OK
* checking DESCRIPTION meta-information ... OK
* checking top-level files ... OK
* checking for left-over files ... OK
* checking index information ... OK
* checking package subdirectories ... OK
* checking code files for non-ASCII characters ... OK
* checking R files for syntax errors ... OK
* checking whether the package can be loaded ... OK
* checking whether the package can be loaded with stated dependencies ... OK
* checking whether the package can be unloaded cleanly ... OK
* checking whether the namespace can be loaded with stated dependencies ... OK
* checking whether the namespace can be unloaded cleanly ... OK
* checking dependencies in R code ... OK
* checking S3 generic/method consistency ... OK
* checking replacement functions ... OK
* checking foreign function calls ... OK
* checking R code for possible problems ... NOTE
plotExprs: no visible binding for global variable ‘ndensity’
Undefined global functions or variables:
  ndensity
* checking Rd files ... NOTE
checkRd: (-1) plotDiffHeatmap.Rd:87: Lost braces in \itemize; meant \describe ?
checkRd: (-1) plotDiffHeatmap.Rd:88: Lost braces in \itemize; meant \describe ?
* checking Rd metadata ... OK
* checking Rd cross-references ... NOTE
Found the following Rd file(s) with Rd \link{} targets missing package
anchors:
  SCE-accessors.Rd: SingleCellExperiment, FlowSOM, ConsensusClusterPlus
  cluster.Rd: ggplot
  compCytof.Rd: flowFrame
  data.Rd: flowSet, flowFrame
  plotClusterExprs.Rd: ggplot
  plotCounts.Rd: ggplot
  plotExprs.Rd: ggplot
  plotPbExprs.Rd: SingleCellExperiment
  prepData.Rd: read.FCS
Please provide package anchors for all Rd \link{} targets not in the
package itself and the base packages.
* checking for missing documentation entries ... OK
* checking for code/documentation mismatches ... OK
* checking Rd \usage sections ... OK
* checking Rd contents ... OK
* checking for unstated dependencies in examples ... OK
* checking contents of ‘data’ directory ... OK
* checking data for non-ASCII characters ... OK
* checking LazyData ... OK
* checking data for ASCII and uncompressed saves ... OK
* checking files in ‘vignettes’ ... OK
* checking examples ... OK
Examples with CPU (user + system) or elapsed time > 5s
                   user system elapsed
plotPbExprs      34.263  1.140  35.950
plotMultiHeatmap 30.380  1.236  31.964
plotDiffHeatmap  26.616  1.800  28.508
plotDR           22.844  1.653  24.846
sce2fcs          21.356  1.638  23.422
plotExprHeatmap  21.032  1.186  22.367
plotClusterExprs 17.125  1.084  18.958
plotAbundances   15.419  1.169  16.823
pbMDS            14.589  1.167  16.081
mergeClusters    14.041  1.187  15.464
plotMahal        14.801  0.250  15.397
plotCodes        14.179  0.868  15.746
clrDR            13.793  0.705  15.292
plotFreqHeatmap  13.159  1.246  14.895
SCE-accessors    12.484  1.284  14.183
filterSCE        10.981  1.057  12.205
compCytof        11.174  0.383  11.963
cluster          10.709  0.619  11.819
extractClusters  10.263  0.927  11.472
plotSpillmat     10.283  0.419  11.239
plotScatter      10.477  0.195  10.947
plotExprs         9.929  0.124  10.157
plotYields        9.740  0.219  10.030
estCutoffs        9.403  0.151  10.028
computeSpillmat   9.080  0.217   9.589
adaptSpillmat     8.374  0.271   8.710
applyCutoffs      7.559  0.204   8.154
runDR             6.317  0.082   6.484
normCytof         5.794  0.081   6.294
plotEvents        5.118  0.041   5.195
* checking for unstated dependencies in ‘tests’ ... OK
* checking tests ...
  Running ‘testthat.R’
 OK
* checking for unstated dependencies in vignettes ... OK
* checking package vignettes ... OK
* checking running R code from vignettes ... SKIPPED
* checking re-building of vignette outputs ... SKIPPED
* checking PDF version of manual ... OK
* DONE

Status: 3 NOTEs
See
  ‘/Users/biocbuild/bbs-3.21-bioc/meat/CATALYST.Rcheck/00check.log’
for details.


Installation output

CATALYST.Rcheck/00install.out

##############################################################################
##############################################################################
###
### Running command:
###
###   /Library/Frameworks/R.framework/Resources/bin/R CMD INSTALL CATALYST
###
##############################################################################
##############################################################################


* installing to library ‘/Library/Frameworks/R.framework/Versions/4.5-x86_64/Resources/library’
* installing *source* package ‘CATALYST’ ...
** this is package ‘CATALYST’ version ‘1.32.1’
** using staged installation
** R
** data
*** moving datasets to lazyload DB
** inst
** byte-compile and prepare package for lazy loading
** help
*** installing help indices
** building package indices
** installing vignettes
** testing if installed package can be loaded from temporary location
** testing if installed package can be loaded from final location
** testing if installed package keeps a record of temporary installation path
* DONE (CATALYST)

Tests output

CATALYST.Rcheck/tests/testthat.Rout


R version 4.5.1 RC (2025-06-05 r88288) -- "Great Square Root"
Copyright (C) 2025 The R Foundation for Statistical Computing
Platform: x86_64-apple-darwin20

R is free software and comes with ABSOLUTELY NO WARRANTY.
You are welcome to redistribute it under certain conditions.
Type 'license()' or 'licence()' for distribution details.

R is a collaborative project with many contributors.
Type 'contributors()' for more information and
'citation()' on how to cite R or R packages in publications.

Type 'demo()' for some demos, 'help()' for on-line help, or
'help.start()' for an HTML browser interface to help.
Type 'q()' to quit R.

> library(testthat)
> library(CATALYST)
Loading required package: SingleCellExperiment
Loading required package: SummarizedExperiment
Loading required package: MatrixGenerics
Loading required package: matrixStats

Attaching package: 'MatrixGenerics'

The following objects are masked from 'package:matrixStats':

    colAlls, colAnyNAs, colAnys, colAvgsPerRowSet, colCollapse,
    colCounts, colCummaxs, colCummins, colCumprods, colCumsums,
    colDiffs, colIQRDiffs, colIQRs, colLogSumExps, colMadDiffs,
    colMads, colMaxs, colMeans2, colMedians, colMins, colOrderStats,
    colProds, colQuantiles, colRanges, colRanks, colSdDiffs, colSds,
    colSums2, colTabulates, colVarDiffs, colVars, colWeightedMads,
    colWeightedMeans, colWeightedMedians, colWeightedSds,
    colWeightedVars, rowAlls, rowAnyNAs, rowAnys, rowAvgsPerColSet,
    rowCollapse, rowCounts, rowCummaxs, rowCummins, rowCumprods,
    rowCumsums, rowDiffs, rowIQRDiffs, rowIQRs, rowLogSumExps,
    rowMadDiffs, rowMads, rowMaxs, rowMeans2, rowMedians, rowMins,
    rowOrderStats, rowProds, rowQuantiles, rowRanges, rowRanks,
    rowSdDiffs, rowSds, rowSums2, rowTabulates, rowVarDiffs, rowVars,
    rowWeightedMads, rowWeightedMeans, rowWeightedMedians,
    rowWeightedSds, rowWeightedVars

Loading required package: GenomicRanges
Loading required package: stats4
Loading required package: BiocGenerics
Loading required package: generics

Attaching package: 'generics'

The following objects are masked from 'package:base':

    as.difftime, as.factor, as.ordered, intersect, is.element, setdiff,
    setequal, union


Attaching package: 'BiocGenerics'

The following objects are masked from 'package:stats':

    IQR, mad, sd, var, xtabs

The following objects are masked from 'package:base':

    Filter, Find, Map, Position, Reduce, anyDuplicated, aperm, append,
    as.data.frame, basename, cbind, colnames, dirname, do.call,
    duplicated, eval, evalq, get, grep, grepl, is.unsorted, lapply,
    mapply, match, mget, order, paste, pmax, pmax.int, pmin, pmin.int,
    rank, rbind, rownames, sapply, saveRDS, table, tapply, unique,
    unsplit, which.max, which.min

Loading required package: S4Vectors

Attaching package: 'S4Vectors'

The following object is masked from 'package:utils':

    findMatches

The following objects are masked from 'package:base':

    I, expand.grid, unname

Loading required package: IRanges
Loading required package: GenomeInfoDb
Loading required package: Biobase
Welcome to Bioconductor

    Vignettes contain introductory material; view with
    'browseVignettes()'. To cite Bioconductor, see
    'citation("Biobase")', and for packages 'citation("pkgname")'.


Attaching package: 'Biobase'

The following object is masked from 'package:MatrixGenerics':

    rowMedians

The following objects are masked from 'package:matrixStats':

    anyMissing, rowMedians

> 
> test_check("CATALYST")
[ FAIL 0 | WARN 0 | SKIP 0 | PASS 746 ]
> 
> proc.time()
   user  system elapsed 
372.455  14.669 393.064 

Example timings

CATALYST.Rcheck/CATALYST-Ex.timings

nameusersystemelapsed
SCE-accessors12.484 1.28414.183
adaptSpillmat8.3740.2718.710
applyCutoffs7.5590.2048.154
assignPrelim4.3990.0394.467
clrDR13.793 0.70515.292
cluster10.709 0.61911.819
compCytof11.174 0.38311.963
computeSpillmat9.0800.2179.589
data0.0150.0280.045
estCutoffs 9.403 0.15110.028
extractClusters10.263 0.92711.472
filterSCE10.981 1.05712.205
guessPanel0.0590.0240.086
mergeClusters14.041 1.18715.464
normCytof5.7940.0816.294
pbMDS14.589 1.16716.081
plotAbundances15.419 1.16916.823
plotClusterExprs17.125 1.08418.958
plotCodes14.179 0.86815.746
plotCounts3.3740.0253.494
plotDR22.844 1.65324.846
plotDiffHeatmap26.616 1.80028.508
plotEvents5.1180.0415.195
plotExprHeatmap21.032 1.18622.367
plotExprs 9.929 0.12410.157
plotFreqHeatmap13.159 1.24614.895
plotMahal14.801 0.25015.397
plotMultiHeatmap30.380 1.23631.964
plotNRS3.8340.1293.995
plotPbExprs34.263 1.14035.950
plotScatter10.477 0.19510.947
plotSpillmat10.283 0.41911.239
plotYields 9.740 0.21910.030
prepData3.0800.0503.191
runDR6.3170.0826.484
sce2fcs21.356 1.63823.422