| Back to Multiple platform build/check report for BioC 3.21: simplified long |
|
This page was generated on 2025-10-16 11:40 -0400 (Thu, 16 Oct 2025).
| Hostname | OS | Arch (*) | R version | Installed pkgs |
|---|---|---|---|---|
| nebbiolo1 | Linux (Ubuntu 24.04.3 LTS) | x86_64 | 4.5.1 (2025-06-13) -- "Great Square Root" | 4833 |
| merida1 | macOS 12.7.6 Monterey | x86_64 | 4.5.1 RC (2025-06-05 r88288) -- "Great Square Root" | 4614 |
| kjohnson1 | macOS 13.7.5 Ventura | arm64 | 4.5.1 Patched (2025-06-14 r88325) -- "Great Square Root" | 4555 |
| kunpeng2 | Linux (openEuler 24.03 LTS) | aarch64 | R Under development (unstable) (2025-02-19 r87757) -- "Unsuffered Consequences" | 4586 |
| Click on any hostname to see more info about the system (e.g. compilers) (*) as reported by 'uname -p', except on Windows and Mac OS X | ||||
| Package 266/2341 | Hostname | OS / Arch | INSTALL | BUILD | CHECK | BUILD BIN | ||||||||
| CAGEfightR 1.28.0 (landing page) Malte Thodberg
| nebbiolo1 | Linux (Ubuntu 24.04.3 LTS) / x86_64 | OK | OK | OK | |||||||||
| merida1 | macOS 12.7.6 Monterey / x86_64 | OK | OK | OK | OK | |||||||||
| kjohnson1 | macOS 13.7.5 Ventura / arm64 | OK | OK | OK | OK | |||||||||
| kunpeng2 | Linux (openEuler 24.03 LTS) / aarch64 | OK | OK | OK | ||||||||||
|
To the developers/maintainers of the CAGEfightR package: - Allow up to 24 hours (and sometimes 48 hours) for your latest push to git@git.bioconductor.org:packages/CAGEfightR.git to reflect on this report. See Troubleshooting Build Report for more information. - Use the following Renviron settings to reproduce errors and warnings. - If 'R CMD check' started to fail recently on the Linux builder(s) over a missing dependency, add the missing dependency to 'Suggests:' in your DESCRIPTION file. See Renviron.bioc for more information. |
| Package: CAGEfightR |
| Version: 1.28.0 |
| Command: /Library/Frameworks/R.framework/Resources/bin/R CMD check --install=check:CAGEfightR.install-out.txt --library=/Library/Frameworks/R.framework/Resources/library --no-vignettes --timings CAGEfightR_1.28.0.tar.gz |
| StartedAt: 2025-10-14 15:00:22 -0400 (Tue, 14 Oct 2025) |
| EndedAt: 2025-10-14 15:08:01 -0400 (Tue, 14 Oct 2025) |
| EllapsedTime: 459.0 seconds |
| RetCode: 0 |
| Status: OK |
| CheckDir: CAGEfightR.Rcheck |
| Warnings: 0 |
##############################################################################
##############################################################################
###
### Running command:
###
### /Library/Frameworks/R.framework/Resources/bin/R CMD check --install=check:CAGEfightR.install-out.txt --library=/Library/Frameworks/R.framework/Resources/library --no-vignettes --timings CAGEfightR_1.28.0.tar.gz
###
##############################################################################
##############################################################################
* using log directory ‘/Users/biocbuild/bbs-3.21-bioc/meat/CAGEfightR.Rcheck’
* using R version 4.5.1 Patched (2025-06-14 r88325)
* using platform: aarch64-apple-darwin20
* R was compiled by
Apple clang version 16.0.0 (clang-1600.0.26.6)
GNU Fortran (GCC) 14.2.0
* running under: macOS Ventura 13.7.5
* using session charset: UTF-8
* using option ‘--no-vignettes’
* checking for file ‘CAGEfightR/DESCRIPTION’ ... OK
* checking extension type ... Package
* this is package ‘CAGEfightR’ version ‘1.28.0’
* package encoding: UTF-8
* checking package namespace information ... OK
* checking package dependencies ... OK
* checking if this is a source package ... OK
* checking if there is a namespace ... OK
* checking for hidden files and directories ... OK
* checking for portable file names ... OK
* checking for sufficient/correct file permissions ... OK
* checking whether package ‘CAGEfightR’ can be installed ... OK
* checking installed package size ... OK
* checking package directory ... OK
* checking ‘build’ directory ... OK
* checking DESCRIPTION meta-information ... OK
* checking top-level files ... OK
* checking for left-over files ... OK
* checking index information ... OK
* checking package subdirectories ... OK
* checking code files for non-ASCII characters ... OK
* checking R files for syntax errors ... OK
* checking whether the package can be loaded ... OK
* checking whether the package can be loaded with stated dependencies ... OK
* checking whether the package can be unloaded cleanly ... OK
* checking whether the namespace can be loaded with stated dependencies ... OK
* checking whether the namespace can be unloaded cleanly ... OK
* checking whether startup messages can be suppressed ... OK
* checking dependencies in R code ... OK
* checking S3 generic/method consistency ... OK
* checking replacement functions ... OK
* checking foreign function calls ... OK
* checking R code for possible problems ... OK
* checking Rd files ... OK
* checking Rd metadata ... OK
* checking Rd cross-references ... OK
* checking for missing documentation entries ... OK
* checking for code/documentation mismatches ... OK
* checking Rd \usage sections ... OK
* checking Rd contents ... OK
* checking for unstated dependencies in examples ... OK
* checking contents of ‘data’ directory ... OK
* checking data for non-ASCII characters ... OK
* checking LazyData ... OK
* checking data for ASCII and uncompressed saves ... OK
* checking files in ‘vignettes’ ... OK
* checking examples ... OK
Examples with CPU (user + system) or elapsed time > 5s
user system elapsed
findLinks 7.732 1.036 8.328
* checking for unstated dependencies in vignettes ... OK
* checking package vignettes ... OK
* checking running R code from vignettes ... SKIPPED
* checking re-building of vignette outputs ... SKIPPED
* checking PDF version of manual ... OK
* DONE
Status: OK
CAGEfightR.Rcheck/00install.out
############################################################################## ############################################################################## ### ### Running command: ### ### /Library/Frameworks/R.framework/Resources/bin/R CMD INSTALL CAGEfightR ### ############################################################################## ############################################################################## * installing to library ‘/Library/Frameworks/R.framework/Versions/4.5-arm64/Resources/library’ * installing *source* package ‘CAGEfightR’ ... ** this is package ‘CAGEfightR’ version ‘1.28.0’ ** using staged installation ** R ** data *** moving datasets to lazyload DB ** inst ** byte-compile and prepare package for lazy loading ** help *** installing help indices ** building package indices ** installing vignettes ** testing if installed package can be loaded from temporary location ** testing if installed package can be loaded from final location ** testing if installed package keeps a record of temporary installation path * DONE (CAGEfightR)
CAGEfightR.Rcheck/CAGEfightR-Ex.timings
| name | user | system | elapsed | |
| assignGeneID | 4.485 | 0.150 | 4.666 | |
| assignMissingID | 1.240 | 0.053 | 1.300 | |
| assignTxID | 1.191 | 0.040 | 1.234 | |
| assignTxType | 0.000 | 0.001 | 0.001 | |
| balanceBC | 0.001 | 0.001 | 0.001 | |
| balanceD | 0.000 | 0.000 | 0.001 | |
| bwCommonGenome | 0.038 | 0.007 | 0.046 | |
| bwGenomeCompatibility | 0.017 | 0.004 | 0.022 | |
| bwValid | 0.008 | 0.003 | 0.011 | |
| calcBidirectionality | 0.500 | 0.032 | 0.533 | |
| calcComposition | 2.825 | 0.097 | 2.939 | |
| calcPooled | 0.097 | 0.012 | 0.108 | |
| calcShape | 2.462 | 0.220 | 2.700 | |
| calcSupport | 0.121 | 0.007 | 0.130 | |
| calcTPM | 0.141 | 0.008 | 0.150 | |
| calcTotalTags | 0.085 | 0.008 | 0.093 | |
| checkCTSSs | 0.267 | 0.010 | 0.279 | |
| checkPeaked | 0.081 | 0.007 | 0.088 | |
| checkPooled | 0.064 | 0.011 | 0.075 | |
| clusterBidirectionally | 0.000 | 0.001 | 0.001 | |
| clusterUnidirectionally | 1.514 | 0.045 | 1.570 | |
| combineClusters | 0.866 | 0.031 | 0.899 | |
| convertBAM2BigWig | 0 | 0 | 0 | |
| convertBED2BigWig | 0 | 0 | 0 | |
| convertGRanges2GPos | 0.072 | 0.000 | 0.072 | |
| exampleDesign | 0.004 | 0.012 | 0.016 | |
| findLinks | 7.732 | 1.036 | 8.328 | |
| findStretches | 0.401 | 0.220 | 0.622 | |
| quantifyCTSSs | 0.001 | 0.000 | 0.001 | |
| quantifyCTSSs2 | 0 | 0 | 0 | |
| quantifyClusters | 0.445 | 0.154 | 0.601 | |
| quantifyGenes | 1.479 | 0.270 | 1.776 | |
| quickEnhancers | 0 | 0 | 0 | |
| quickGenes | 0.000 | 0.000 | 0.001 | |
| quickTSSs | 0 | 0 | 0 | |
| shapeEntropy | 0.000 | 0.000 | 0.001 | |
| shapeIQR | 0.000 | 0.000 | 0.001 | |
| shapeMean | 0.001 | 0.001 | 0.001 | |
| shapeMultimodality | 0 | 0 | 0 | |
| subsetByBidirectionality | 0.406 | 0.045 | 0.453 | |
| subsetByComposition | 1.336 | 0.084 | 1.426 | |
| subsetBySupport | 0.072 | 0.017 | 0.089 | |
| swapRanges | 0.220 | 0.011 | 0.234 | |
| swapScores | 0.093 | 0.009 | 0.101 | |
| trackBalance | 0 | 0 | 0 | |
| trackCTSS | 3.730 | 0.454 | 4.212 | |
| trackClusters | 2.516 | 0.031 | 2.558 | |
| trackLinks | 0.969 | 0.589 | 1.351 | |
| trimToPeak | 0.867 | 0.259 | 1.131 | |
| trimToPercentiles | 1.909 | 0.091 | 2.008 | |
| tuneTagClustering | 0.000 | 0.000 | 0.001 | |
| utilsAggregateRows | 0.380 | 0.422 | 0.804 | |
| utilsDeStrand | 0.120 | 0.005 | 0.126 | |
| utilsScoreOverlaps | 0.065 | 0.001 | 0.067 | |
| utilsSimplifyTxDb | 0.000 | 0.000 | 0.001 | |