| Back to Multiple platform build/check report for BioC 3.21: simplified long |
|
This page was generated on 2025-04-22 13:17 -0400 (Tue, 22 Apr 2025).
| Hostname | OS | Arch (*) | R version | Installed pkgs |
|---|---|---|---|---|
| nebbiolo1 | Linux (Ubuntu 24.04.1 LTS) | x86_64 | 4.5.0 RC (2025-04-04 r88126) -- "How About a Twenty-Six" | 4831 |
| palomino7 | Windows Server 2022 Datacenter | x64 | 4.5.0 RC (2025-04-04 r88126 ucrt) -- "How About a Twenty-Six" | 4573 |
| lconway | macOS 12.7.1 Monterey | x86_64 | 4.5.0 RC (2025-04-04 r88126) -- "How About a Twenty-Six" | 4599 |
| kjohnson3 | macOS 13.7.1 Ventura | arm64 | 4.5.0 RC (2025-04-04 r88126) -- "How About a Twenty-Six" | 4553 |
| kunpeng2 | Linux (openEuler 24.03 LTS) | aarch64 | R Under development (unstable) (2025-02-19 r87757) -- "Unsuffered Consequences" | 4570 |
| Click on any hostname to see more info about the system (e.g. compilers) (*) as reported by 'uname -p', except on Windows and Mac OS X | ||||
| Package 217/2341 | Hostname | OS / Arch | INSTALL | BUILD | CHECK | BUILD BIN | ||||||||
| BioNAR 1.10.0 (landing page) Anatoly Sorokin
| nebbiolo1 | Linux (Ubuntu 24.04.1 LTS) / x86_64 | OK | OK | OK | |||||||||
| palomino7 | Windows Server 2022 Datacenter / x64 | OK | OK | OK | OK | |||||||||
| lconway | macOS 12.7.1 Monterey / x86_64 | OK | OK | OK | OK | |||||||||
| kjohnson3 | macOS 13.7.1 Ventura / arm64 | OK | OK | OK | OK | |||||||||
| kunpeng2 | Linux (openEuler 24.03 LTS) / aarch64 | OK | OK | OK | ||||||||||
|
To the developers/maintainers of the BioNAR package: - Allow up to 24 hours (and sometimes 48 hours) for your latest push to git@git.bioconductor.org:packages/BioNAR.git to reflect on this report. See Troubleshooting Build Report for more information. - Use the following Renviron settings to reproduce errors and warnings. - If 'R CMD check' started to fail recently on the Linux builder(s) over a missing dependency, add the missing dependency to 'Suggests:' in your DESCRIPTION file. See Renviron.bioc for more information. |
| Package: BioNAR |
| Version: 1.10.0 |
| Command: /Library/Frameworks/R.framework/Resources/bin/R CMD check --install=check:BioNAR.install-out.txt --library=/Library/Frameworks/R.framework/Resources/library --no-vignettes --timings BioNAR_1.10.0.tar.gz |
| StartedAt: 2025-04-21 18:23:29 -0400 (Mon, 21 Apr 2025) |
| EndedAt: 2025-04-21 18:25:56 -0400 (Mon, 21 Apr 2025) |
| EllapsedTime: 147.0 seconds |
| RetCode: 0 |
| Status: OK |
| CheckDir: BioNAR.Rcheck |
| Warnings: 0 |
##############################################################################
##############################################################################
###
### Running command:
###
### /Library/Frameworks/R.framework/Resources/bin/R CMD check --install=check:BioNAR.install-out.txt --library=/Library/Frameworks/R.framework/Resources/library --no-vignettes --timings BioNAR_1.10.0.tar.gz
###
##############################################################################
##############################################################################
* using log directory ‘/Users/biocbuild/bbs-3.21-bioc/meat/BioNAR.Rcheck’
* using R version 4.5.0 RC (2025-04-04 r88126)
* using platform: aarch64-apple-darwin20
* R was compiled by
Apple clang version 14.0.0 (clang-1400.0.29.202)
GNU Fortran (GCC) 14.2.0
* running under: macOS Ventura 13.7.1
* using session charset: UTF-8
* using option ‘--no-vignettes’
* checking for file ‘BioNAR/DESCRIPTION’ ... OK
* this is package ‘BioNAR’ version ‘1.10.0’
* package encoding: UTF-8
* checking package namespace information ... OK
* checking package dependencies ... OK
* checking if this is a source package ... OK
* checking if there is a namespace ... OK
* checking for hidden files and directories ... OK
* checking for portable file names ... OK
* checking for sufficient/correct file permissions ... OK
* checking whether package ‘BioNAR’ can be installed ... OK
* checking installed package size ... INFO
installed size is 6.8Mb
sub-directories of 1Mb or more:
extdata 6.1Mb
* checking package directory ... OK
* checking ‘build’ directory ... OK
* checking DESCRIPTION meta-information ... OK
* checking top-level files ... OK
* checking for left-over files ... OK
* checking index information ... OK
* checking package subdirectories ... OK
* checking code files for non-ASCII characters ... OK
* checking R files for syntax errors ... OK
* checking whether the package can be loaded ... OK
* checking whether the package can be loaded with stated dependencies ... OK
* checking whether the package can be unloaded cleanly ... OK
* checking whether the namespace can be loaded with stated dependencies ... OK
* checking whether the namespace can be unloaded cleanly ... OK
* checking dependencies in R code ... NOTE
Package in Depends field not imported from: ‘Rdpack’
These packages need to be imported from (in the NAMESPACE file)
for when this namespace is loaded but not attached.
There are ::: calls to the package's namespace in its code. A package
almost never needs to use ::: for its own objects:
‘addNoise’ ‘gofs’ ‘highlightRate’ ‘plotSigmoid’
* checking S3 generic/method consistency ... OK
* checking replacement functions ... OK
* checking foreign function calls ... OK
* checking R code for possible problems ... OK
* checking Rd files ... OK
* checking Rd metadata ... OK
* checking Rd cross-references ... NOTE
Unknown package ‘clusterCons’ in Rd xrefs
* checking for missing documentation entries ... OK
* checking for code/documentation mismatches ... OK
* checking Rd \usage sections ... OK
* checking Rd contents ... OK
* checking for unstated dependencies in examples ... OK
* checking contents of ‘data’ directory ... OK
* checking data for non-ASCII characters ... OK
* checking LazyData ... OK
* checking data for ASCII and uncompressed saves ... OK
* checking files in ‘vignettes’ ... OK
* checking examples ... OK
Examples with CPU (user + system) or elapsed time > 5s
user system elapsed
addEdgeAtts 3.973 1.103 5.134
* checking for unstated dependencies in ‘tests’ ... OK
* checking tests ...
Running ‘testthat.R’
OK
* checking for unstated dependencies in vignettes ... OK
* checking package vignettes ... OK
* checking running R code from vignettes ... SKIPPED
* checking re-building of vignette outputs ... SKIPPED
* checking PDF version of manual ... OK
* DONE
Status: 2 NOTEs
See
‘/Users/biocbuild/bbs-3.21-bioc/meat/BioNAR.Rcheck/00check.log’
for details.
BioNAR.Rcheck/00install.out
############################################################################## ############################################################################## ### ### Running command: ### ### /Library/Frameworks/R.framework/Resources/bin/R CMD INSTALL BioNAR ### ############################################################################## ############################################################################## * installing to library ‘/Library/Frameworks/R.framework/Versions/4.5-arm64/Resources/library’ * installing *source* package ‘BioNAR’ ... ** this is package ‘BioNAR’ version ‘1.10.0’ ** using staged installation ** R ** data *** moving datasets to lazyload DB ** inst ** byte-compile and prepare package for lazy loading ** help *** installing help indices ** building package indices ** installing vignettes ** testing if installed package can be loaded from temporary location ** testing if installed package can be loaded from final location ** testing if installed package keeps a record of temporary installation path * DONE (BioNAR)
BioNAR.Rcheck/tests/testthat.Rout
R version 4.5.0 RC (2025-04-04 r88126) -- "How About a Twenty-Six"
Copyright (C) 2025 The R Foundation for Statistical Computing
Platform: aarch64-apple-darwin20
R is free software and comes with ABSOLUTELY NO WARRANTY.
You are welcome to redistribute it under certain conditions.
Type 'license()' or 'licence()' for distribution details.
R is a collaborative project with many contributors.
Type 'contributors()' for more information and
'citation()' on how to cite R or R packages in publications.
Type 'demo()' for some demos, 'help()' for on-line help, or
'help.start()' for an HTML browser interface to help.
Type 'q()' to quit R.
> library(testthat)
> library(BioNAR)
Loading required package: igraph
Attaching package: 'igraph'
The following object is masked from 'package:testthat':
compare
The following objects are masked from 'package:stats':
decompose, spectrum
The following object is masked from 'package:base':
union
Loading required package: poweRlaw
Loading required package: latex2exp
Loading required package: RSpectra
Loading required package: Rdpack
Attaching package: 'BioNAR'
The following object is masked from 'package:igraph':
permute
>
> test_check("BioNAR")
[ FAIL 0 | WARN 0 | SKIP 2 | PASS 125 ]
══ Skipped tests (2) ═══════════════════════════════════════════════════════════
• On CRAN (2): 'test_bridgeness.R:38:5', 'test_bridgeness.R:81:5'
[ FAIL 0 | WARN 0 | SKIP 2 | PASS 125 ]
>
> proc.time()
user system elapsed
12.729 1.043 18.145
BioNAR.Rcheck/BioNAR-Ex.timings
| name | user | system | elapsed | |
| FitDegree | 0.315 | 0.025 | 1.811 | |
| addEdgeAtts | 3.973 | 1.103 | 5.134 | |
| annotateGOont | 1.753 | 0.358 | 2.197 | |
| annotateGeneNames | 0.097 | 0.005 | 0.103 | |
| annotateGoBP | 1.429 | 0.382 | 1.816 | |
| annotateGoCC | 1.053 | 0.391 | 1.452 | |
| annotateGoMF | 1.306 | 0.419 | 1.745 | |
| annotatePresynaptic | 0.440 | 0.172 | 0.613 | |
| annotateSCHanno | 2.017 | 0.560 | 2.598 | |
| annotateTopOntoOVG | 3.088 | 0.708 | 3.824 | |
| annotateVertex | 0.002 | 0.000 | 0.002 | |
| applpMatrixToGraph | 0.000 | 0.000 | 0.001 | |
| buildNetwork | 0.001 | 0.000 | 0.001 | |
| calcAllClustering | 1.709 | 0.004 | 1.714 | |
| calcBridgeness | 0.022 | 0.001 | 0.023 | |
| calcCentrality | 0.037 | 0.004 | 0.042 | |
| calcCentralityExternalDistances | 0.129 | 0.010 | 0.141 | |
| calcCentralityInternalDistances | 0.136 | 0.006 | 0.145 | |
| calcClustering | 0.001 | 0.000 | 0.002 | |
| calcDiseasePairs | 0.202 | 0.007 | 0.209 | |
| calcEntropy | 3.795 | 1.039 | 4.900 | |
| calcMembership | 0.002 | 0.001 | 0.002 | |
| calcReclusterMatrix | 0.011 | 0.000 | 0.011 | |
| calcSparsness | 1.576 | 0.546 | 2.125 | |
| clusterORA | 0.105 | 0.007 | 0.114 | |
| clusteringSummary | 3.940 | 0.008 | 3.949 | |
| degreeBinnedGDAs | 0.088 | 0.007 | 0.095 | |
| escapeAnnotation | 0 | 0 | 0 | |
| evalCentralitySignificance | 0.127 | 0.008 | 0.135 | |
| findLCC | 0.002 | 0.000 | 0.001 | |
| getAnnotationList | 0.019 | 0.002 | 0.020 | |
| getAnnotationVertexList | 0.024 | 0.004 | 0.027 | |
| getBridgeness | 0.018 | 0.002 | 0.020 | |
| getCentralityMatrix | 3.029 | 0.744 | 3.791 | |
| getClusterSubgraphByID | 0.007 | 0.001 | 0.007 | |
| getClustering | 0.007 | 0.000 | 0.007 | |
| getCommunityGraph | 0.007 | 0.001 | 0.007 | |
| getDType | 0 | 0 | 0 | |
| getDYNAMO | 0.011 | 0.000 | 0.012 | |
| getDiseases | 0.000 | 0.001 | 0.001 | |
| getEntropy | 3.419 | 1.148 | 4.600 | |
| getEntropyRate | 0.002 | 0.000 | 0.002 | |
| getGNP | 0.006 | 0.000 | 0.007 | |
| getGraphCentralityECDF | 2.787 | 0.754 | 3.604 | |
| getPA | 0.007 | 0.001 | 0.007 | |
| getRandomGraphCentrality | 0.160 | 0.014 | 4.063 | |
| getRobustness | 0.142 | 0.016 | 0.159 | |
| layoutByCluster | 0.035 | 0.000 | 0.035 | |
| layoutByRecluster | 0.029 | 0.001 | 0.030 | |
| makeConsensusMatrix | 0.122 | 0.010 | 0.132 | |
| makeMembership | 0.000 | 0.000 | 0.001 | |
| metlMatrix | 0.002 | 0.001 | 0.003 | |
| normModularity | 1.834 | 0.711 | 2.602 | |
| permute | 0 | 0 | 0 | |
| plotBridgeness | 0.109 | 0.005 | 0.114 | |
| plotEntropy | 3.635 | 1.103 | 4.782 | |
| prepareGDA | 0.096 | 0.009 | 0.105 | |
| recluster | 0.010 | 0.000 | 0.011 | |
| removeVertexTerm | 0.002 | 0.001 | 0.002 | |
| runPermDisease | 2.743 | 0.122 | 2.898 | |
| sampleDegBinnedGDA | 0.122 | 0.008 | 0.130 | |
| sampleGraphClust | 0.009 | 0.001 | 0.010 | |
| unescapeAnnotation | 0.001 | 0.000 | 0.001 | |
| zeroNA | 0 | 0 | 0 | |