| Back to Multiple platform build/check report for BioC 3.21: simplified long |
|
This page was generated on 2025-10-16 11:39 -0400 (Thu, 16 Oct 2025).
| Hostname | OS | Arch (*) | R version | Installed pkgs |
|---|---|---|---|---|
| nebbiolo1 | Linux (Ubuntu 24.04.3 LTS) | x86_64 | 4.5.1 (2025-06-13) -- "Great Square Root" | 4833 |
| merida1 | macOS 12.7.6 Monterey | x86_64 | 4.5.1 RC (2025-06-05 r88288) -- "Great Square Root" | 4614 |
| kjohnson1 | macOS 13.7.5 Ventura | arm64 | 4.5.1 Patched (2025-06-14 r88325) -- "Great Square Root" | 4555 |
| kunpeng2 | Linux (openEuler 24.03 LTS) | aarch64 | R Under development (unstable) (2025-02-19 r87757) -- "Unsuffered Consequences" | 4586 |
| Click on any hostname to see more info about the system (e.g. compilers) (*) as reported by 'uname -p', except on Windows and Mac OS X | ||||
| Package 59/2341 | Hostname | OS / Arch | INSTALL | BUILD | CHECK | BUILD BIN | ||||||||
| AlpsNMR 4.10.1 (landing page) Sergio Oller Moreno
| nebbiolo1 | Linux (Ubuntu 24.04.3 LTS) / x86_64 | OK | OK | OK | |||||||||
| merida1 | macOS 12.7.6 Monterey / x86_64 | OK | OK | OK | OK | |||||||||
| kjohnson1 | macOS 13.7.5 Ventura / arm64 | OK | OK | OK | OK | |||||||||
| kunpeng2 | Linux (openEuler 24.03 LTS) / aarch64 | OK | ERROR | skipped | ||||||||||
|
To the developers/maintainers of the AlpsNMR package: - Allow up to 24 hours (and sometimes 48 hours) for your latest push to git@git.bioconductor.org:packages/AlpsNMR.git to reflect on this report. See Troubleshooting Build Report for more information. - Use the following Renviron settings to reproduce errors and warnings. - If 'R CMD check' started to fail recently on the Linux builder(s) over a missing dependency, add the missing dependency to 'Suggests:' in your DESCRIPTION file. See Renviron.bioc for more information. |
| Package: AlpsNMR |
| Version: 4.10.1 |
| Command: /Library/Frameworks/R.framework/Resources/bin/R CMD check --install=check:AlpsNMR.install-out.txt --library=/Library/Frameworks/R.framework/Resources/library --no-vignettes --timings AlpsNMR_4.10.1.tar.gz |
| StartedAt: 2025-10-14 12:37:02 -0400 (Tue, 14 Oct 2025) |
| EndedAt: 2025-10-14 12:40:47 -0400 (Tue, 14 Oct 2025) |
| EllapsedTime: 224.7 seconds |
| RetCode: 0 |
| Status: OK |
| CheckDir: AlpsNMR.Rcheck |
| Warnings: 0 |
##############################################################################
##############################################################################
###
### Running command:
###
### /Library/Frameworks/R.framework/Resources/bin/R CMD check --install=check:AlpsNMR.install-out.txt --library=/Library/Frameworks/R.framework/Resources/library --no-vignettes --timings AlpsNMR_4.10.1.tar.gz
###
##############################################################################
##############################################################################
* using log directory ‘/Users/biocbuild/bbs-3.21-bioc/meat/AlpsNMR.Rcheck’
* using R version 4.5.1 Patched (2025-06-14 r88325)
* using platform: aarch64-apple-darwin20
* R was compiled by
Apple clang version 16.0.0 (clang-1600.0.26.6)
GNU Fortran (GCC) 14.2.0
* running under: macOS Ventura 13.7.5
* using session charset: UTF-8
* using option ‘--no-vignettes’
* checking for file ‘AlpsNMR/DESCRIPTION’ ... OK
* checking extension type ... Package
* this is package ‘AlpsNMR’ version ‘4.10.1’
* package encoding: UTF-8
* checking package namespace information ... OK
* checking package dependencies ... INFO
Imports includes 26 non-default packages.
Importing from so many packages makes the package vulnerable to any of
them becoming unavailable. Move as many as possible to Suggests and
use conditionally.
* checking if this is a source package ... OK
* checking if there is a namespace ... OK
* checking for hidden files and directories ... OK
* checking for portable file names ... OK
* checking for sufficient/correct file permissions ... OK
* checking whether package ‘AlpsNMR’ can be installed ... OK
* checking installed package size ... OK
* checking package directory ... OK
* checking ‘build’ directory ... OK
* checking DESCRIPTION meta-information ... OK
* checking top-level files ... OK
* checking for left-over files ... OK
* checking index information ... OK
* checking package subdirectories ... OK
* checking code files for non-ASCII characters ... OK
* checking R files for syntax errors ... OK
* checking whether the package can be loaded ... OK
* checking whether the package can be loaded with stated dependencies ... OK
* checking whether the package can be unloaded cleanly ... OK
* checking whether the namespace can be loaded with stated dependencies ... OK
* checking whether the namespace can be unloaded cleanly ... OK
* checking dependencies in R code ... OK
* checking S3 generic/method consistency ... OK
* checking replacement functions ... OK
* checking foreign function calls ... OK
* checking R code for possible problems ... OK
* checking Rd files ... OK
* checking Rd metadata ... OK
* checking Rd cross-references ... NOTE
Non-topic package-anchored link(s) in Rd file 'reexports.Rd':
‘[magrittr:pipe]{%>%}’
See section 'Cross-references' in the 'Writing R Extensions' manual.
Found the following Rd file(s) with Rd \link{} targets missing package
anchors:
filter.nmr_dataset_family.Rd: dplyr
Please provide package anchors for all Rd \link{} targets not in the
package itself and the base packages.
* checking for missing documentation entries ... OK
* checking for code/documentation mismatches ... OK
* checking Rd \usage sections ... OK
* checking Rd contents ... OK
* checking for unstated dependencies in examples ... OK
* checking contents of ‘data’ directory ... OK
* checking data for non-ASCII characters ... OK
* checking data for ASCII and uncompressed saves ... OK
* checking sizes of PDF files under ‘inst/doc’ ... OK
* checking files in ‘vignettes’ ... OK
* checking examples ... OK
Examples with CPU (user + system) or elapsed time > 5s
user system elapsed
Peak_detection 9.165 2.700 8.855
bp_VIP_analysis 5.892 4.664 6.016
permutation_test_plot 6.320 3.260 2.256
SummarizedExperiment_to_nmr_data_1r 8.076 0.994 8.628
nmr_pca_outliers_robust 5.254 1.070 5.686
* checking for unstated dependencies in ‘tests’ ... OK
* checking tests ...
Running ‘testthat.R’
OK
* checking for unstated dependencies in vignettes ... OK
* checking package vignettes ... OK
* checking running R code from vignettes ... SKIPPED
* checking re-building of vignette outputs ... SKIPPED
* checking PDF version of manual ... OK
* DONE
Status: 1 NOTE
See
‘/Users/biocbuild/bbs-3.21-bioc/meat/AlpsNMR.Rcheck/00check.log’
for details.
AlpsNMR.Rcheck/00install.out
############################################################################## ############################################################################## ### ### Running command: ### ### /Library/Frameworks/R.framework/Resources/bin/R CMD INSTALL AlpsNMR ### ############################################################################## ############################################################################## * installing to library ‘/Library/Frameworks/R.framework/Versions/4.5-arm64/Resources/library’ * installing *source* package ‘AlpsNMR’ ... ** this is package ‘AlpsNMR’ version ‘4.10.1’ ** using staged installation ** R ** data ** inst ** byte-compile and prepare package for lazy loading ** help *** installing help indices *** copying figures ** building package indices ** installing vignettes ** testing if installed package can be loaded from temporary location ** testing if installed package can be loaded from final location ** testing if installed package keeps a record of temporary installation path * DONE (AlpsNMR)
AlpsNMR.Rcheck/tests/testthat.Rout
R version 4.5.1 Patched (2025-06-14 r88325) -- "Great Square Root"
Copyright (C) 2025 The R Foundation for Statistical Computing
Platform: aarch64-apple-darwin20
R is free software and comes with ABSOLUTELY NO WARRANTY.
You are welcome to redistribute it under certain conditions.
Type 'license()' or 'licence()' for distribution details.
R is a collaborative project with many contributors.
Type 'contributors()' for more information and
'citation()' on how to cite R or R packages in publications.
Type 'demo()' for some demos, 'help()' for on-line help, or
'help.start()' for an HTML browser interface to help.
Type 'q()' to quit R.
> library(testthat)
> library(AlpsNMR)
Attaching package: 'AlpsNMR'
The following object is masked from 'package:stats':
filter
>
> test_check("AlpsNMR")
[ FAIL 0 | WARN 0 | SKIP 1 | PASS 93 ]
══ Skipped tests (1) ═══════════════════════════════════════════════════════════
• On Bioconductor (1): 'test_rDolphin.R:2:5'
[ FAIL 0 | WARN 0 | SKIP 1 | PASS 93 ]
>
> proc.time()
user system elapsed
24.655 10.195 26.504
AlpsNMR.Rcheck/AlpsNMR-Ex.timings
| name | user | system | elapsed | |
| AlpsNMR-package | 2.246 | 0.550 | 2.219 | |
| HMDB_blood | 0.008 | 0.003 | 0.012 | |
| HMDB_cell | 0.003 | 0.003 | 0.006 | |
| HMDB_urine | 0.005 | 0.003 | 0.008 | |
| Parameters_blood | 0.001 | 0.001 | 0.003 | |
| Parameters_cell | 0.001 | 0.001 | 0.004 | |
| Parameters_urine | 0.001 | 0.001 | 0.003 | |
| Peak_detection | 9.165 | 2.700 | 8.855 | |
| Pipelines | 0.002 | 0.001 | 0.002 | |
| ROI_blood | 0.004 | 0.002 | 0.005 | |
| ROI_cell | 0.003 | 0.002 | 0.005 | |
| ROI_urine | 0.003 | 0.001 | 0.005 | |
| SummarizedExperiment_to_nmr_data_1r | 8.076 | 0.994 | 8.628 | |
| SummarizedExperiment_to_nmr_dataset_peak_table | 1.204 | 0.983 | 1.429 | |
| bp_VIP_analysis | 5.892 | 4.664 | 6.016 | |
| bp_kfold_VIP_analysis | 0.968 | 1.103 | 1.104 | |
| download_MTBLS242 | 0 | 0 | 0 | |
| file_lister | 0.070 | 0.043 | 0.114 | |
| files_to_rDolphin | 0.000 | 0.001 | 0.000 | |
| filter.nmr_dataset_family | 0.799 | 0.511 | 0.789 | |
| format.nmr_dataset | 0.837 | 1.025 | 0.989 | |
| format.nmr_dataset_1D | 0.816 | 0.859 | 0.918 | |
| format.nmr_dataset_peak_table | 0.952 | 1.109 | 1.175 | |
| get_integration_with_metadata | 0.034 | 0.015 | 0.049 | |
| hmdb | 0.060 | 0.022 | 0.083 | |
| is.nmr_dataset | 0.821 | 1.019 | 1.030 | |
| is.nmr_dataset_1D | 0.821 | 0.864 | 0.930 | |
| is.nmr_dataset_peak_table | 0.999 | 1.029 | 1.144 | |
| load_and_save_functions | 0.759 | 0.885 | 0.831 | |
| models_stability_plot_bootstrap | 0.002 | 0.001 | 0.003 | |
| models_stability_plot_plsda | 0.426 | 0.597 | 0.561 | |
| new_nmr_dataset | 0.001 | 0.001 | 0.003 | |
| new_nmr_dataset_1D | 0.001 | 0.001 | 0.002 | |
| new_nmr_dataset_peak_table | 0.853 | 0.671 | 0.954 | |
| nmr_autophase | 0.275 | 0.323 | 0.594 | |
| nmr_baseline_estimation | 0.012 | 0.011 | 0.025 | |
| nmr_baseline_removal | 0.025 | 0.034 | 0.061 | |
| nmr_baseline_threshold | 0.001 | 0.000 | 0.001 | |
| nmr_baseline_threshold_plot | 0.283 | 0.065 | 0.350 | |
| nmr_batman | 0.003 | 0.001 | 0.005 | |
| nmr_batman_options | 0 | 0 | 0 | |
| nmr_build_peak_table | 0.034 | 0.005 | 0.039 | |
| nmr_data | 0.047 | 0.006 | 0.053 | |
| nmr_data_1r_to_SummarizedExperiment | 1.949 | 0.654 | 2.086 | |
| nmr_data_analysis | 0.358 | 0.420 | 0.436 | |
| nmr_dataset | 0.001 | 0.000 | 0.002 | |
| nmr_dataset_1D | 0.001 | 0.000 | 0.002 | |
| nmr_dataset_peak_table_to_SummarizedExperiment | 1.032 | 0.572 | 1.014 | |
| nmr_exclude_region | 0.008 | 0.003 | 0.012 | |
| nmr_export_data_1r | 0.854 | 0.706 | 0.879 | |
| nmr_get_peak_distances | 0.008 | 0.002 | 0.010 | |
| nmr_identify_regions_blood | 0.013 | 0.004 | 0.017 | |
| nmr_identify_regions_cell | 0.009 | 0.002 | 0.012 | |
| nmr_identify_regions_urine | 0.014 | 0.002 | 0.016 | |
| nmr_integrate_regions | 0.007 | 0.001 | 0.008 | |
| nmr_interpolate_1D | 1.540 | 1.059 | 1.406 | |
| nmr_meta_add | 1.543 | 1.198 | 1.675 | |
| nmr_meta_export | 0.701 | 0.395 | 0.556 | |
| nmr_meta_get | 0.834 | 0.845 | 0.897 | |
| nmr_meta_get_column | 0.742 | 0.709 | 0.775 | |
| nmr_meta_groups | 0.794 | 0.956 | 0.910 | |
| nmr_normalize | 0.340 | 0.141 | 0.485 | |
| nmr_pca_build_model | 2.053 | 2.357 | 2.631 | |
| nmr_pca_outliers | 1.014 | 1.038 | 1.144 | |
| nmr_pca_outliers_filter | 1.064 | 0.995 | 1.216 | |
| nmr_pca_outliers_plot | 0 | 0 | 0 | |
| nmr_pca_outliers_robust | 5.254 | 1.070 | 5.686 | |
| nmr_pca_plots | 0.542 | 0.019 | 0.562 | |
| nmr_peak_clustering | 0.080 | 0.001 | 0.081 | |
| nmr_ppm_resolution | 0.009 | 0.001 | 0.010 | |
| nmr_read_bruker_fid | 0 | 0 | 0 | |
| nmr_read_samples | 1.454 | 1.222 | 1.377 | |
| nmr_zip_bruker_samples | 0.341 | 0.050 | 0.404 | |
| peaklist_accept_peaks | 0.005 | 0.002 | 0.007 | |
| permutation_test_model | 0.777 | 0.775 | 2.054 | |
| permutation_test_plot | 6.320 | 3.260 | 2.256 | |
| plot.nmr_dataset_1D | 0.002 | 0.004 | 0.006 | |
| plot_bootstrap_multimodel | 0.001 | 0.002 | 0.004 | |
| plot_interactive | 0.819 | 0.611 | 0.831 | |
| plot_plsda_multimodel | 0.281 | 0.530 | 0.458 | |
| plot_plsda_samples | 0.149 | 0.215 | 0.351 | |
| plot_vip_scores | 0.002 | 0.001 | 0.003 | |
| plot_webgl | 0.002 | 0.002 | 0.005 | |
| plsda_auroc_vip_compare | 0.571 | 0.510 | 1.073 | |
| plsda_auroc_vip_method | 0 | 0 | 0 | |
| ppm_resolution | 0.004 | 0.002 | 0.006 | |
| print.nmr_dataset | 0.727 | 0.561 | 0.666 | |
| print.nmr_dataset_1D | 0.977 | 0.931 | 1.032 | |
| print.nmr_dataset_peak_table | 0.863 | 0.591 | 0.776 | |
| random_subsampling | 0.002 | 0.004 | 0.006 | |
| save_files_to_rDolphin | 0.000 | 0.001 | 0.000 | |
| save_profiling_output | 0.001 | 0.000 | 0.000 | |
| sub-.nmr_dataset | 1.230 | 1.285 | 1.279 | |
| sub-.nmr_dataset_1D | 0.827 | 0.702 | 0.941 | |
| sub-.nmr_dataset_peak_table | 0.911 | 0.905 | 0.949 | |
| tidy.nmr_dataset_1D | 0.770 | 0.686 | 0.889 | |
| to_ASICS | 1.112 | 0.209 | 1.386 | |
| to_ChemoSpec | 2.254 | 1.903 | 3.053 | |
| validate_nmr_dataset | 1.495 | 1.405 | 1.582 | |
| validate_nmr_dataset_family | 0.882 | 0.969 | 1.008 | |
| validate_nmr_dataset_peak_table | 0.001 | 0.002 | 0.002 | |
| zzz | 0.000 | 0.001 | 2.151 | |