| Back to Workflows build report for BioC 3.20 | 
This page was generated on 2024-06-14 16:30 -0400 (Fri, 14 Jun 2024).
| Hostname | OS | Arch (*) | R version | Installed pkgs | 
|---|---|---|---|---|
| nebbiolo2 | Linux (Ubuntu 22.04.3 LTS) | x86_64 | 4.4.0 RC (2024-04-16 r86468) -- "Puppy Cup" | 4679 | 
| palomino4 | Windows Server 2022 Datacenter | x64 | 4.4.0 RC (2024-04-16 r86468 ucrt) -- "Puppy Cup" | 4414 | 
| lconway | macOS 12.7.1 Monterey | x86_64 | 4.4.1 RC (2024-06-06 r86719) -- "Race for Your Life" | 4394 | 
| Click on any hostname to see more info about the system (e.g. compilers) (*) as reported by 'uname -p', except on Windows and Mac OS X | ||||
| Package 12/30 | Hostname | OS / Arch | INSTALL | BUILD | ||||||||
| fluentGenomics 1.17.0  (landing page) Stuart Lee 
 | nebbiolo2 | Linux (Ubuntu 22.04.3 LTS) / x86_64 | OK | OK |  | |||||||
| palomino4 | Windows Server 2022 Datacenter / x64 | OK | OK | |||||||||
| lconway | macOS 12.7.1 Monterey / x86_64 | OK | OK | |||||||||
| To the developers/maintainers of the fluentGenomics package: - Use the following Renviron settings to reproduce errors and warnings. - If 'R CMD check' started to fail recently on the Linux builder(s) over a missing dependency, add the missing dependency to 'Suggests:' in your DESCRIPTION file. See Renviron.bioc for more information. | 
| Package: fluentGenomics | 
| Version: 1.17.0 | 
| Command: chmod a+r fluentGenomics -R && F:\biocbuild\bbs-3.20-bioc\R\bin\R.exe CMD build --keep-empty-dirs --no-resave-data fluentGenomics | 
| StartedAt: 2024-06-14 13:13:34 -0400 (Fri, 14 Jun 2024) | 
| EndedAt: 2024-06-14 13:18:37 -0400 (Fri, 14 Jun 2024) | 
| EllapsedTime: 302.8 seconds | 
| RetCode: 0 | 
| Status: OK | 
| PackageFile: fluentGenomics_1.17.0.tar.gz | 
| PackageFileSize: 5.411 MiB | 
############################################################################## ############################################################################## ### ### Running command: ### ### chmod a+r fluentGenomics -R && F:\biocbuild\bbs-3.20-bioc\R\bin\R.exe CMD build --keep-empty-dirs --no-resave-data fluentGenomics ### ############################################################################## ############################################################################## * checking for file 'fluentGenomics/DESCRIPTION' ... OK * preparing 'fluentGenomics': * checking DESCRIPTION meta-information ... OK * installing the package to build vignettes * creating vignettes ... OK * checking for LF line-endings in source and make files and shell scripts * checking for empty or unneeded directories * building 'fluentGenomics_1.17.0.tar.gz'