| Back to Workflows build report for BioC 3.20 | 
This page was generated on 2025-04-03 13:02 -0400 (Thu, 03 Apr 2025).
| Hostname | OS | Arch (*) | R version | Installed pkgs | 
|---|---|---|---|---|
| nebbiolo2 | Linux (Ubuntu 24.04.1 LTS) | x86_64 | 4.4.3 (2025-02-28) -- "Trophy Case" | 4764 | 
| palomino8 | Windows Server 2022 Datacenter | x64 | 4.4.3 (2025-02-28 ucrt) -- "Trophy Case" | 4495 | 
| merida1 | macOS 12.7.5 Monterey | x86_64 | 4.4.3 (2025-02-28) -- "Trophy Case" | 4522 | 
| Click on any hostname to see more info about the system (e.g. compilers) (*) as reported by 'uname -p', except on Windows and Mac OS X | ||||
| Package 20/30 | Hostname | OS / Arch | INSTALL | BUILD | ||||||||
| RNAseq123 1.30.0  (landing page) Matthew Ritchie 
 | nebbiolo2 | Linux (Ubuntu 24.04.1 LTS) / x86_64 | OK | OK |  | |||||||
| palomino8 | Windows Server 2022 Datacenter / x64 | OK | OK | |||||||||
| merida1 | macOS 12.7.5 Monterey / x86_64 | OK | OK | |||||||||
| To the developers/maintainers of the RNAseq123 package: - Use the following Renviron settings to reproduce errors and warnings. - If 'R CMD check' started to fail recently on the Linux builder(s) over a missing dependency, add the missing dependency to 'Suggests:' in your DESCRIPTION file. See Renviron.bioc for more information. | 
| Package: RNAseq123 | 
| Version: 1.30.0 | 
| Command: /Library/Frameworks/R.framework/Resources/bin/R CMD build --keep-empty-dirs --no-resave-data RNAseq123 | 
| StartedAt: 2025-04-03 11:23:18 -0400 (Thu, 03 Apr 2025) | 
| EndedAt: 2025-04-03 11:25:35 -0400 (Thu, 03 Apr 2025) | 
| EllapsedTime: 137.4 seconds | 
| RetCode: 0 | 
| Status: OK | 
| PackageFile: RNAseq123_1.30.0.tar.gz | 
| PackageFileSize: 7.245 MiB | 
############################################################################## ############################################################################## ### ### Running command: ### ### /Library/Frameworks/R.framework/Resources/bin/R CMD build --keep-empty-dirs --no-resave-data RNAseq123 ### ############################################################################## ############################################################################## * checking for file ‘RNAseq123/DESCRIPTION’ ... OK * preparing ‘RNAseq123’: * checking DESCRIPTION meta-information ... OK * installing the package to build vignettes * creating vignettes ... OK * checking for LF line-endings in source and make files and shell scripts * checking for empty or unneeded directories Omitted ‘LazyData’ from DESCRIPTION * creating default NAMESPACE file * building ‘RNAseq123_1.30.0.tar.gz’