| Back to Long Tests report for BioC 3.20 |
This page was generated on 2024-11-16 23:55 -0500 (Sat, 16 Nov 2024).
| Hostname | OS | Arch (*) | R version | Installed pkgs |
|---|---|---|---|---|
| nebbiolo2 | Linux (Ubuntu 24.04.1 LTS) | x86_64 | 4.4.1 (2024-06-14) -- "Race for Your Life" | 4765 |
| palomino8 | Windows Server 2022 Datacenter | x64 | 4.4.1 (2024-06-14 ucrt) -- "Race for Your Life" | 4506 |
| lconway | macOS 12.7.1 Monterey | x86_64 | 4.4.1 (2024-06-14) -- "Race for Your Life" | 4538 |
| Click on any hostname to see more info about the system (e.g. compilers) (*) as reported by 'uname -p', except on Windows and Mac OS X | ||||
| Package 9/32 | Hostname | OS / Arch | CHECK | |||||||
Pierrick Roger
| nebbiolo2 | Linux (Ubuntu 24.04.1 LTS) / x86_64 | ERROR | |||||||
| palomino8 | Windows Server 2022 Datacenter / x64 | ERROR | ||||||||
| lconway | macOS 12.7.1 Monterey / x86_64 | ERROR | ||||||||
|
To the developers/maintainers of the biodbKegg package: - Use the following Renviron settings to reproduce errors and warnings. - If 'R CMD check' started to fail recently on the Linux builder(s) over a missing dependency, add the missing dependency to 'Suggests:' in your DESCRIPTION file. See Renviron.bioc for more information. |
| Package: biodbKegg |
| Version: 1.12.0 |
| Command: /Library/Frameworks/R.framework/Resources/bin/R CMD check --test-dir=longtests --no-stop-on-test-error --no-codoc --no-examples --no-manual --ignore-vignettes --check-subdirs=no biodbKegg_1.12.0.tar.gz |
| StartedAt: 2024-11-16 16:05:41 -0500 (Sat, 16 Nov 2024) |
| EndedAt: 2024-11-16 16:14:32 -0500 (Sat, 16 Nov 2024) |
| EllapsedTime: 531.2 seconds |
| RetCode: 1 |
| Status: ERROR |
| CheckDir: biodbKegg.Rcheck |
| Warnings: NA |
biodbKegg.Rcheck/tests/testthat.Rout.fail
R version 4.4.1 (2024-06-14) -- "Race for Your Life"
Copyright (C) 2024 The R Foundation for Statistical Computing
Platform: x86_64-apple-darwin20
R is free software and comes with ABSOLUTELY NO WARRANTY.
You are welcome to redistribute it under certain conditions.
Type 'license()' or 'licence()' for distribution details.
R is a collaborative project with many contributors.
Type 'contributors()' for more information and
'citation()' on how to cite R or R packages in publications.
Type 'demo()' for some demos, 'help()' for on-line help, or
'help.start()' for an HTML browser interface to help.
Type 'q()' to quit R.
> # Script needed to run testthat automatically from ‘R CMD check’. See
> # testthat::test_dir documentation.
> library(testthat)
> library(biodbKegg)
Warning message:
In fun(libname, pkgname) :
Package 'biodbKegg' is deprecated and will be removed from Bioconductor
version 3.21
> Sys.setenv(TESTTHAT_REPORTER="summary")
> test_check("biodbKegg")
[ FAIL 15 | WARN 0 | SKIP 0 | PASS 1812 ]
══ Failed tests ════════════════════════════════════════════════════════════════
── Failure ('test_long_100_compound.R:16:1'): ppm tolerance works in annotateMzValues() ──
any(is.na(ret[[id.col]])) is not FALSE
`actual`: TRUE
`expected`: FALSE
Backtrace:
▆
1. ├─base::do.call(fct, params)
2. └─biodb (local) `<fn>`(conn = `<KggCmpnC>`, opt = `<named list>`)
3. └─testthat::expect_false(any(is.na(ret[[id.col]])))
── Failure ('test_long_300_genes.R:16:1'): We can search for an entry by searchable field ──
length(ids) > 0 is not TRUE
`actual`: FALSE
`expected`: TRUE
Backtrace:
▆
1. ├─base::do.call(fct, params)
2. └─biodb (local) `<fn>`(conn = `<KggGnsCn>`, opt = `<named list>`)
3. └─testthat::expect_true(length(ids) > 0)
── Failure ('test_long_300_genes.R:16:1'): We can search for an entry by searchable field ──
c(`mmu%3A14635` = "mmu:14635") %in% character(0) is not TRUE
`actual`: FALSE
`expected`: TRUE
Backtrace:
▆
1. ├─base::do.call(fct, params)
2. └─biodb (local) `<fn>`(conn = `<KggGnsCn>`, opt = `<named list>`)
3. └─testthat::expect_true(!!id %in% !!ids)
── Failure ('test_long_400_module.R:16:1'): We can search for an entry by searchable field ──
length(ids) > 0 is not TRUE
`actual`: FALSE
`expected`: TRUE
Backtrace:
▆
1. ├─base::do.call(fct, params)
2. └─biodb (local) `<fn>`(conn = `<KggMdlCn>`, opt = `<named list>`)
3. └─testthat::expect_true(length(ids) > 0)
── Failure ('test_long_400_module.R:16:1'): We can search for an entry by searchable field ──
c(M00009 = "M00009") %in% character(0) is not TRUE
`actual`: FALSE
`expected`: TRUE
Backtrace:
▆
1. ├─base::do.call(fct, params)
2. └─biodb (local) `<fn>`(conn = `<KggMdlCn>`, opt = `<named list>`)
3. └─testthat::expect_true(!!id %in% !!ids)
── Failure ('test_long_400_module.R:16:1'): We can search for an entry by name. ──
length(ids) > 0 is not TRUE
`actual`: FALSE
`expected`: TRUE
While searching for entry M00009 by name "Citrate cycle (TCA cycle, Krebs cycle)".
Backtrace:
▆
1. ├─base::do.call(fct, params)
2. └─biodb (local) `<fn>`(conn = `<KggMdlCn>`, opt = `<named list>`)
3. └─testthat::expect_true(length(ids) > 0, msg)
── Failure ('test_long_400_module.R:16:1'): We can search for an entry by name. ──
id %in% ids is not TRUE
`actual`: FALSE
`expected`: TRUE
While searching for entry M00009 by name "Citrate cycle (TCA cycle, Krebs cycle)".
Backtrace:
▆
1. ├─base::do.call(fct, params)
2. └─biodb (local) `<fn>`(conn = `<KggMdlCn>`, opt = `<named list>`)
3. └─testthat::expect_true(id %in% ids, msg)
── Failure ('test_long_500_orthology.R:16:1'): We can search for an entry by searchable field ──
length(ids) > 0 is not TRUE
`actual`: FALSE
`expected`: TRUE
Backtrace:
▆
1. ├─base::do.call(fct, params)
2. └─biodb (local) `<fn>`(conn = `<KggOrthC>`, opt = `<named list>`)
3. └─testthat::expect_true(length(ids) > 0)
── Failure ('test_long_500_orthology.R:16:1'): We can search for an entry by searchable field ──
c(K12668 = "K12668") %in% character(0) is not TRUE
`actual`: FALSE
`expected`: TRUE
Backtrace:
▆
1. ├─base::do.call(fct, params)
2. └─biodb (local) `<fn>`(conn = `<KggOrthC>`, opt = `<named list>`)
3. └─testthat::expect_true(!!id %in% !!ids)
── Failure ('test_long_500_orthology.R:16:1'): We can search for an entry by name. ──
length(ids) > 0 is not TRUE
`actual`: FALSE
`expected`: TRUE
While searching for entry K12668 by name "dolichyl-diphosphooligosaccharide---protein glycosyltransferase subunit DAD1/OST2".
Backtrace:
▆
1. ├─base::do.call(fct, params)
2. └─biodb (local) `<fn>`(conn = `<KggOrthC>`, opt = `<named list>`)
3. └─testthat::expect_true(length(ids) > 0, msg)
── Failure ('test_long_500_orthology.R:16:1'): We can search for an entry by name. ──
id %in% ids is not TRUE
`actual`: FALSE
`expected`: TRUE
While searching for entry K12668 by name "dolichyl-diphosphooligosaccharide---protein glycosyltransferase subunit DAD1/OST2".
Backtrace:
▆
1. ├─base::do.call(fct, params)
2. └─biodb (local) `<fn>`(conn = `<KggOrthC>`, opt = `<named list>`)
3. └─testthat::expect_true(id %in% ids, msg)
── Failure ('test_long_700_reaction.R:16:1'): We can search for an entry by searchable field ──
length(ids) > 0 is not TRUE
`actual`: FALSE
`expected`: TRUE
Backtrace:
▆
1. ├─base::do.call(fct, params)
2. └─biodb (local) `<fn>`(conn = `<KggRctnC>`, opt = `<named list>`)
3. └─testthat::expect_true(length(ids) > 0)
── Failure ('test_long_700_reaction.R:16:1'): We can search for an entry by searchable field ──
c(R00105 = "R00105") %in% character(0) is not TRUE
`actual`: FALSE
`expected`: TRUE
Backtrace:
▆
1. ├─base::do.call(fct, params)
2. └─biodb (local) `<fn>`(conn = `<KggRctnC>`, opt = `<named list>`)
3. └─testthat::expect_true(!!id %in% !!ids)
── Failure ('test_long_700_reaction.R:16:1'): We can search for an entry by name. ──
length(ids) > 0 is not TRUE
`actual`: FALSE
`expected`: TRUE
While searching for entry R00105 by name "ATP:NADH 2'-phosphotransferase".
Backtrace:
▆
1. ├─base::do.call(fct, params)
2. └─biodb (local) `<fn>`(conn = `<KggRctnC>`, opt = `<named list>`)
3. └─testthat::expect_true(length(ids) > 0, msg)
── Failure ('test_long_700_reaction.R:16:1'): We can search for an entry by name. ──
id %in% ids is not TRUE
`actual`: FALSE
`expected`: TRUE
While searching for entry R00105 by name "ATP:NADH 2'-phosphotransferase".
Backtrace:
▆
1. ├─base::do.call(fct, params)
2. └─biodb (local) `<fn>`(conn = `<KggRctnC>`, opt = `<named list>`)
3. └─testthat::expect_true(id %in% ids, msg)
[ FAIL 15 | WARN 0 | SKIP 0 | PASS 1812 ]
Error: Test failures
Execution halted
##############################################################################
##############################################################################
###
### Running command:
###
### /Library/Frameworks/R.framework/Resources/bin/R CMD check --test-dir=longtests --no-stop-on-test-error --no-codoc --no-examples --no-manual --ignore-vignettes --check-subdirs=no biodbKegg_1.12.0.tar.gz
###
##############################################################################
##############################################################################
* using log directory ‘/Users/biocbuild/bbs-3.20-bioc-longtests/meat/biodbKegg.Rcheck’
* using R version 4.4.1 (2024-06-14)
* using platform: x86_64-apple-darwin20
* R was compiled by
Apple clang version 14.0.0 (clang-1400.0.29.202)
GNU Fortran (GCC) 12.2.0
* running under: macOS Monterey 12.7.6
* using session charset: UTF-8
* using options ‘--no-codoc --no-examples --no-manual --ignore-vignettes --no-stop-on-test-error’
* checking for file ‘biodbKegg/DESCRIPTION’ ... OK
* this is package ‘biodbKegg’ version ‘1.12.0’
* package encoding: UTF-8
* checking package namespace information ... OK
* checking package dependencies ...Warning: unable to access index for repository https://CRAN.R-project.org/src/contrib:
cannot open URL 'https://CRAN.R-project.org/src/contrib/PACKAGES'
OK
* checking if this is a source package ... OK
* checking if there is a namespace ... OK
* checking for hidden files and directories ... OK
* checking for portable file names ... OK
* checking for sufficient/correct file permissions ... OK
* checking whether package ‘biodbKegg’ can be installed ... OK
* checking installed package size ... OK
* checking package directory ... OK
* checking DESCRIPTION meta-information ... OK
* checking top-level files ... OK
* checking for left-over files ... OK
* checking index information ... OK
* checking package subdirectories ... OK
* checking code files for non-ASCII characters ... OK
* checking R files for syntax errors ... OK
* checking whether the package can be loaded ... OK
* checking whether the package can be loaded with stated dependencies ... OK
* checking whether the package can be unloaded cleanly ... OK
* checking whether the namespace can be loaded with stated dependencies ... OK
* checking whether the namespace can be unloaded cleanly ... OK
* checking whether startup messages can be suppressed ... OK
* checking dependencies in R code ... OK
* checking S3 generic/method consistency ... OK
* checking replacement functions ... OK
* checking foreign function calls ... OK
* checking R code for possible problems ... OK
* checking Rd files ... OK
* checking Rd metadata ... OK
* checking Rd cross-references ... OK
* checking for missing documentation entries ... OK
* checking for code/documentation mismatches ... SKIPPED
* checking Rd \usage sections ... OK
* checking Rd contents ... OK
* checking for unstated dependencies in examples ... OK
* checking files in ‘vignettes’ ... SKIPPED
* checking examples ... SKIPPED
* checking for unstated dependencies in ‘longtests’ ... OK
* checking tests in ‘longtests’ ...
Running ‘testthat.R’
ERROR
Running the tests in ‘longtests/testthat.R’ failed.
Last 13 lines of output:
── Failure ('test_long_700_reaction.R:16:1'): We can search for an entry by name. ──
id %in% ids is not TRUE
`actual`: FALSE
`expected`: TRUE
While searching for entry R00105 by name "ATP:NADH 2'-phosphotransferase".
Backtrace:
▆
1. ├─base::do.call(fct, params)
2. └─biodb (local) `<fn>`(conn = `<KggRctnC>`, opt = `<named list>`)
3. └─testthat::expect_true(id %in% ids, msg)
[ FAIL 15 | WARN 0 | SKIP 0 | PASS 1812 ]
Error: Test failures
Execution halted
* DONE
Status: 1 ERROR
See
‘/Users/biocbuild/bbs-3.20-bioc-longtests/meat/biodbKegg.Rcheck/00check.log’
for details.
biodbKegg.Rcheck/00install.out
* installing *source* package ‘biodbKegg’ ... ** using staged installation ** R ** inst ** byte-compile and prepare package for lazy loading ** help *** installing help indices ** building package indices ** installing vignettes ** testing if installed package can be loaded from temporary location Warning in fun(libname, pkgname) : Package 'biodbKegg' is deprecated and will be removed from Bioconductor version 3.21 ** testing if installed package can be loaded from final location Warning in fun(libname, pkgname) : Package 'biodbKegg' is deprecated and will be removed from Bioconductor version 3.21 ** testing if installed package keeps a record of temporary installation path * DONE (biodbKegg)