| regioneR 1.2.3 Bernat Gel
 
 | Snapshot Date: 2016-04-22 16:20:12 -0700 (Fri, 22 Apr 2016) |  | URL: https://hedgehog.fhcrc.org/bioconductor/branches/RELEASE_3_2/madman/Rpacks/regioneR |  | Last Changed Rev: 113372 / Revision: 116712 |  | Last Changed Date: 2016-02-08 06:03:09 -0800 (Mon, 08 Feb 2016) | 
 | zin1 | Linux (Ubuntu 14.04.2 LTS) / x86_64 | OK | OK | WARNINGS |  |  | 
| moscato1 | Windows Server 2008 R2 Standard (64-bit) / x64 | OK | OK | WARNINGS | [ OK ] |  | 
| oaxaca | Mac OS X Mavericks (10.9.5) / x86_64 | OK | OK | WARNINGS | OK |  | 
##############################################################################
##############################################################################
###
### Running command:
###
###   cd regioneR.buildbin-libdir/regioneR && zip -r ../../regioneR_1.2.3.zip . & cd ../..
###
##############################################################################
##############################################################################
  adding: DESCRIPTION (188 bytes security) (deflated 43%)
  adding: doc/ (208 bytes security) (stored 0%)
  adding: doc/index.html (188 bytes security) (deflated 57%)
  adding: doc/regioneR.pdf (188 bytes security) (deflated 27%)
  adding: doc/regioneR.Rnw (188 bytes security) (deflated 71%)
  adding: extdata/ (208 bytes security) (stored 0%)
  adding: extdata/all.genes.bed (188 bytes security) (deflated 72%)
  adding: extdata/my.altered.regions.bed (188 bytes security) (deflated 52%)
  adding: extdata/my.special.genes.bed (188 bytes security) (deflated 59%)
  adding: help/ (208 bytes security) (stored 0%)
  adding: help/aliases.rds (188 bytes security) (stored 0%)
  adding: help/AnIndex (188 bytes security) (deflated 71%)
  adding: help/paths.rds (188 bytes security) (stored 0%)
  adding: help/regioneR.rdb (188 bytes security) (deflated 2%)
  adding: help/regioneR.rdx (188 bytes security) (stored 0%)
  adding: html/ (208 bytes security) (stored 0%)
  adding: html/00Index.html (188 bytes security) (deflated 77%)
  adding: html/R.css (188 bytes security) (deflated 75%)
  adding: INDEX (188 bytes security) (deflated 70%)
  adding: MD5 (188 bytes security) (deflated 42%)
  adding: Meta/ (208 bytes security) (stored 0%)
  adding: Meta/hsearch.rds (188 bytes security) (stored 0%)
  adding: Meta/links.rds (188 bytes security) (stored 0%)
  adding: Meta/nsInfo.rds (188 bytes security) (stored 0%)
  adding: Meta/package.rds (188 bytes security) (stored 0%)
  adding: Meta/Rd.rds (188 bytes security) (stored 0%)
  adding: Meta/vignette.rds (188 bytes security) (stored 0%)
  adding: NAMESPACE (188 bytes security) (deflated 65%)
  adding: NEWS (188 bytes security) (deflated 44%)
  adding: R/ (208 bytes security) (stored 0%)
  adding: R/regioneR (188 bytes security) (deflated 41%)
  adding: R/regioneR.rdb (188 bytes security) (deflated 3%)
  adding: R/regioneR.rdx (188 bytes security) (stored 0%)