neaGUI 1.8.1 Setia Pramana
 | Snapshot Date: 2016-04-22 16:20:12 -0700 (Fri, 22 Apr 2016) |  | URL: https://hedgehog.fhcrc.org/bioconductor/branches/RELEASE_3_2/madman/Rpacks/neaGUI |  | Last Changed Rev: 115868 / Revision: 116712 |  | Last Changed Date: 2016-04-05 20:55:25 -0700 (Tue, 05 Apr 2016) |  
  | zin1  | Linux (Ubuntu 14.04.2 LTS) / x86_64  | [ ERROR ] |  ERROR  |  skipped  |  |  | 
| moscato1  | Windows Server 2008 R2 Standard (64-bit) / x64  |  ERROR  |  ERROR  |  skipped  |  skipped  |  | 
| oaxaca  | Mac OS X Mavericks (10.9.5) / x86_64  |  ERROR  |  ERROR  |  skipped  |  skipped  |  | 
##############################################################################
##############################################################################
###
### Running command:
###
###   /home/biocbuild/bbs-3.2-bioc/R/bin/R CMD INSTALL neaGUI
###
##############################################################################
##############################################################################
* installing to library ‘/home/biocbuild/bbs-3.2-bioc/R/library’
* installing *source* package ‘neaGUI’ ...
** R
Error in .install_package_code_files(".", instdir) : 
files in '/home/biocbuild/bbs-3.2-bioc/meat/neaGUI/R' missing from 'Collate' field:
  zzz.R
ERROR: unable to collate and parse R files for package ‘neaGUI’
* removing ‘/home/biocbuild/bbs-3.2-bioc/R/library/neaGUI’
* restoring previous ‘/home/biocbuild/bbs-3.2-bioc/R/library/neaGUI’