methyAnalysis 1.12.2 Pan Du
 | Snapshot Date: 2016-04-22 16:20:12 -0700 (Fri, 22 Apr 2016) |  | URL: https://hedgehog.fhcrc.org/bioconductor/branches/RELEASE_3_2/madman/Rpacks/methyAnalysis |  | Last Changed Rev: 116670 / Revision: 116712 |  | Last Changed Date: 2016-04-21 12:59:04 -0700 (Thu, 21 Apr 2016) |  
  | zin1  | Linux (Ubuntu 14.04.2 LTS) / x86_64  |  OK  |  OK  |  WARNINGS  |  |   | 
| moscato1  | Windows Server 2008 R2 Standard (64-bit) / x64  |  OK  |  OK  |  WARNINGS  |  OK  |   | 
| oaxaca  | Mac OS X Mavericks (10.9.5) / x86_64  |  OK  | [ OK ] |  WARNINGS  |  OK  |   | 
##############################################################################
##############################################################################
###
### Running command:
###
###   /Library/Frameworks/R.framework/Versions/Current/Resources/bin/R CMD build --keep-empty-dirs --no-resave-data methyAnalysis
###
##############################################################################
##############################################################################
* checking for file ‘methyAnalysis/DESCRIPTION’ ... OK
* preparing ‘methyAnalysis’:
* checking DESCRIPTION meta-information ... OK
* installing the package to build vignettes
* creating vignettes ... OK
* checking for LF line-endings in source and make files
* checking for empty or unneeded directories
WARNING: directory ‘methyAnalysis/inst/scripts’ is empty
* looking to see if a ‘data/datalist’ file should be added
* building ‘methyAnalysis_1.12.2.tar.gz’