maSigPro 1.42.0 Maria Jose Nueda
 | Snapshot Date: 2016-04-22 16:20:12 -0700 (Fri, 22 Apr 2016) |  | URL: https://hedgehog.fhcrc.org/bioconductor/branches/RELEASE_3_2/madman/Rpacks/maSigPro |  | Last Changed Rev: 110961 / Revision: 116712 |  | Last Changed Date: 2015-11-27 04:45:38 -0800 (Fri, 27 Nov 2015) |  
  | zin1  | Linux (Ubuntu 14.04.2 LTS) / x86_64  |  OK  |  OK  |  OK  |  |   | 
| moscato1  | Windows Server 2008 R2 Standard (64-bit) / x64  | [ OK ] |  OK  |  OK  |  OK  |   | 
| oaxaca  | Mac OS X Mavericks (10.9.5) / x86_64  |  OK  |  OK  |  OK  |  OK  |   | 
##############################################################################
##############################################################################
###
### Running command:
###
###   rm -rf maSigPro.buildbin-libdir && mkdir maSigPro.buildbin-libdir  && C:\cygwin\bin\curl.exe -O http://zin1/BBS/3.2/bioc/src/contrib/maSigPro_1.42.0.tar.gz && D:\biocbld\bbs-3.2-bioc\R\bin\R.exe CMD INSTALL --build --library=maSigPro.buildbin-libdir --merge-multiarch maSigPro_1.42.0.tar.gz && D:\biocbld\bbs-3.2-bioc\R\bin\R.exe CMD INSTALL maSigPro_1.42.0.zip  && rm maSigPro_1.42.0.tar.gz maSigPro_1.42.0.zip
###
##############################################################################
##############################################################################
  % Total    % Received % Xferd  Average Speed   Time    Time     Time  Current
                                 Dload  Upload   Total   Spent    Left  Speed
  0     0    0     0    0     0      0      0 --:--:-- --:--:-- --:--:--     0
100  703k  100  703k    0     0  27.2M      0 --:--:-- --:--:-- --:--:-- 32.7M
install for i386
* installing *source* package 'maSigPro' ...
** R
** data
** inst
** preparing package for lazy loading
** help
*** installing help indices
** building package indices
** installing vignettes
   'maSigPro.Rnw' 
** testing if installed package can be loaded
install for x64
* installing *source* package 'maSigPro' ...
** testing if installed package can be loaded
* MD5 sums
packaged installation of 'maSigPro' as maSigPro_1.42.0.zip
* DONE (maSigPro)
* installing to library 'D:/biocbld/bbs-3.2-bioc/R/library'
package 'maSigPro' successfully unpacked and MD5 sums checked