hypergraph 1.42.0 Bioconductor Package Maintainer
 | Snapshot Date: 2016-04-22 16:20:12 -0700 (Fri, 22 Apr 2016) |  | URL: https://hedgehog.fhcrc.org/bioconductor/branches/RELEASE_3_2/madman/Rpacks/hypergraph |  | Last Changed Rev: 109589 / Revision: 116712 |  | Last Changed Date: 2015-10-13 12:36:05 -0700 (Tue, 13 Oct 2015) |  
  | zin1  | Linux (Ubuntu 14.04.2 LTS) / x86_64  | [ OK ] |  OK  |  OK  |  |   | 
| moscato1  | Windows Server 2008 R2 Standard (64-bit) / x64  |  OK  |  OK  |  OK  |  OK  |   | 
| oaxaca  | Mac OS X Mavericks (10.9.5) / x86_64  |  OK  |  OK  |  OK  |  OK  |   | 
##############################################################################
##############################################################################
###
### Running command:
###
###   /home/biocbuild/bbs-3.2-bioc/R/bin/R CMD INSTALL hypergraph
###
##############################################################################
##############################################################################
* installing to library ‘/home/biocbuild/bbs-3.2-bioc/R/library’
* installing *source* package ‘hypergraph’ ...
** R
** inst
** preparing package for lazy loading
Creating a generic function for ‘head’ from package ‘utils’ in package ‘hypergraph’
Creating a generic function for ‘tail’ from package ‘utils’ in package ‘hypergraph’
** help
*** installing help indices
** building package indices
** installing vignettes
** testing if installed package can be loaded
* DONE (hypergraph)