| gwascat 2.2.1 VJ Carey
 
 | Snapshot Date: 2016-04-22 16:20:12 -0700 (Fri, 22 Apr 2016) |  | URL: https://hedgehog.fhcrc.org/bioconductor/branches/RELEASE_3_2/madman/Rpacks/gwascat |  | Last Changed Rev: 115772 / Revision: 116712 |  | Last Changed Date: 2016-04-04 11:04:48 -0700 (Mon, 04 Apr 2016) | 
 | zin1 | Linux (Ubuntu 14.04.2 LTS) / x86_64 | OK | OK | WARNINGS |  |  | 
| moscato1 | Windows Server 2008 R2 Standard (64-bit) / x64 | OK | OK | WARNINGS | [ OK ] |  | 
| oaxaca | Mac OS X Mavericks (10.9.5) / x86_64 | OK | OK | WARNINGS | OK |  | 
##############################################################################
##############################################################################
###
### Running command:
###
###   cd gwascat.buildbin-libdir/gwascat && zip -r ../../gwascat_2.2.1.zip . & cd ../..
###
##############################################################################
##############################################################################
  adding: csv/ (208 bytes security) (stored 0%)
  adding: csv/nomatch.csv (188 bytes security) (deflated 56%)
  adding: data/ (208 bytes security) (stored 0%)
  adding: data/datalist (188 bytes security) (deflated 17%)
  adding: data/ebicat37.rda (188 bytes security) (deflated 3%)
  adding: data/ebicat37UCSC.rda (188 bytes security) (deflated 3%)
  adding: data/ebicat38.rda (188 bytes security) (deflated 3%)
  adding: data/efo.obo.g.rda (188 bytes security) (deflated 3%)
  adding: data/g17SM.rda (188 bytes security) (deflated 0%)
  adding: data/gg17N.rda (188 bytes security) (deflated 3%)
  adding: data/gw6.rs_17.rda (188 bytes security) (deflated 0%)
  adding: data/gwastagger.rda (188 bytes security) (deflated 2%)
  adding: data/gwdf_2014_09_08.rda (188 bytes security) (deflated 1%)
  adding: data/gwrngs19.rda (188 bytes security) (deflated 4%)
  adding: data/gwrngs38.rda (188 bytes security) (deflated 1%)
  adding: data/locon6.rda (188 bytes security) (deflated 0%)
  adding: data/low17.rda (188 bytes security) (deflated 0%)
  adding: data/rules_6.0_1kg_17.rda (188 bytes security) (deflated 0%)
  adding: data/si.hs.37.rda (188 bytes security) (stored 0%)
  adding: data/si.hs.38.rda (188 bytes security) (stored 0%)
  adding: DESCRIPTION (188 bytes security) (deflated 40%)
  adding: doc/ (208 bytes security) (stored 0%)
  adding: doc/gwascat.pdf (188 bytes security) (deflated 14%)
  adding: doc/gwascat.R (188 bytes security) (deflated 79%)
  adding: doc/gwascat.Rnw (188 bytes security) (deflated 58%)
  adding: doc/gwascatOnt.html (188 bytes security) (deflated 65%)
  adding: doc/gwascatOnt.Rmd (188 bytes security) (deflated 50%)
  adding: doc/index.html (188 bytes security) (deflated 65%)
  adding: gff3/ (208 bytes security) (stored 0%)
  adding: gff3/chr17_34834101_35834100.gff3 (188 bytes security) (deflated 89%)
  adding: gff3/chr17_43000000_45000000.gff3 (188 bytes security) (deflated 90%)
  adding: help/ (208 bytes security) (stored 0%)
  adding: help/aliases.rds (188 bytes security) (stored 0%)
  adding: help/AnIndex (188 bytes security) (deflated 70%)
  adding: help/gwascat.rdb (188 bytes security) (deflated 1%)
  adding: help/gwascat.rdx (188 bytes security) (stored 0%)
  adding: help/paths.rds (188 bytes security) (stored 0%)
  adding: html/ (208 bytes security) (stored 0%)
  adding: html/00Index.html (188 bytes security) (deflated 81%)
  adding: html/R.css (188 bytes security) (deflated 75%)
  adding: INDEX (188 bytes security) (deflated 55%)
  adding: MD5 (188 bytes security) (deflated 46%)
  adding: Meta/ (208 bytes security) (stored 0%)
  adding: Meta/data.rds (188 bytes security) (stored 0%)
  adding: Meta/hsearch.rds (188 bytes security) (stored 0%)
  adding: Meta/links.rds (188 bytes security) (stored 0%)
  adding: Meta/nsInfo.rds (188 bytes security) (stored 0%)
  adding: Meta/package.rds (188 bytes security) (stored 0%)
  adding: Meta/Rd.rds (188 bytes security) (stored 0%)
  adding: Meta/vignette.rds (188 bytes security) (stored 0%)
  adding: NAMESPACE (188 bytes security) (deflated 56%)
  adding: NEWS (188 bytes security) (deflated 52%)
  adding: obo/ (208 bytes security) (stored 0%)
  adding: obo/efo.020815.obo.gz (188 bytes security) (deflated 0%)
  adding: obo/hpo.obo.gz (188 bytes security) (deflated 0%)
  adding: obo/HumanDO.obo.gz (188 bytes security) (deflated 0%)
  adding: olddata/ (208 bytes security) (stored 0%)
  adding: olddata/gwdf_2012_03_20.rda (188 bytes security) (deflated 1%)
  adding: olddata/gwdf_2012_09_22.rda (188 bytes security) (deflated 0%)
  adding: olddata/gwrngs.rda (188 bytes security) (deflated 1%)
  adding: R/ (208 bytes security) (stored 0%)
  adding: R/gwascat (188 bytes security) (deflated 41%)
  adding: R/gwascat.rdb (188 bytes security) (deflated 15%)
  adding: R/gwascat.rdx (188 bytes security) (stored 0%)
  adding: scripts/ (208 bytes security) (stored 0%)
  adding: scripts/builders.hist.txt (188 bytes security) (deflated 68%)
  adding: scripts/doebicat38.hist.txt (188 bytes security) (deflated 59%)
  adding: tab/ (208 bytes security) (stored 0%)
  adding: tab/build0307df.hist.txt (188 bytes security) (deflated 61%)
  adding: tab/build0307df.hist.txt.gz (188 bytes security) (stored 0%)
  adding: tab/gwascatalog20120307.txt.gz (188 bytes security) (deflated 0%)
  adding: tab/gwascatalog20120320.txt.gz (188 bytes security) (deflated 0%)
  adding: tab/import_gwtab.R (188 bytes security) (deflated 39%)
  adding: unitTests/ (208 bytes security) (stored 0%)
  adding: unitTests/test_gwascat.R (188 bytes security) (deflated 33%)