goseq 1.22.0 Nadia Davidson
 | Snapshot Date: 2016-04-22 16:20:12 -0700 (Fri, 22 Apr 2016) |  | URL: https://hedgehog.fhcrc.org/bioconductor/branches/RELEASE_3_2/madman/Rpacks/goseq |  | Last Changed Rev: 109589 / Revision: 116712 |  | Last Changed Date: 2015-10-13 12:36:05 -0700 (Tue, 13 Oct 2015) |  
  | zin1  | Linux (Ubuntu 14.04.2 LTS) / x86_64  |  OK  |  OK  |  OK  |  |   | 
| moscato1  | Windows Server 2008 R2 Standard (64-bit) / x64  |  OK  |  OK  |  OK  | [ OK ] |   | 
| oaxaca  | Mac OS X Mavericks (10.9.5) / x86_64  |  OK  |  OK  |  OK  |  OK  |   | 
##############################################################################
##############################################################################
###
### Running command:
###
###   cd goseq.buildbin-libdir/goseq && zip -r ../../goseq_1.22.0.zip . & cd ../..
###
##############################################################################
##############################################################################
  adding: CITATION (188 bytes security) (deflated 43%)
  adding: data/ (208 bytes security) (stored 0%)
  adding: data/genes.RData (188 bytes security) (deflated 0%)
  adding: DESCRIPTION (188 bytes security) (deflated 33%)
  adding: doc/ (208 bytes security) (stored 0%)
  adding: doc/goseq.pdf (188 bytes security) (deflated 6%)
  adding: doc/goseq.R (188 bytes security) (deflated 80%)
  adding: doc/goseq.Rnw (188 bytes security) (deflated 66%)
  adding: doc/index.html (188 bytes security) (deflated 57%)
  adding: extdata/ (208 bytes security) (stored 0%)
  adding: extdata/Li_sum.txt (188 bytes security) (deflated 77%)
  adding: help/ (208 bytes security) (stored 0%)
  adding: help/aliases.rds (188 bytes security) (stored 0%)
  adding: help/AnIndex (188 bytes security) (deflated 36%)
  adding: help/goseq.rdb (188 bytes security) (deflated 1%)
  adding: help/goseq.rdx (188 bytes security) (stored 0%)
  adding: help/paths.rds (188 bytes security) (stored 0%)
  adding: html/ (208 bytes security) (stored 0%)
  adding: html/00Index.html (188 bytes security) (deflated 60%)
  adding: html/R.css (188 bytes security) (deflated 75%)
  adding: INDEX (188 bytes security) (deflated 53%)
  adding: MD5 (188 bytes security) (deflated 41%)
  adding: Meta/ (208 bytes security) (stored 0%)
  adding: Meta/data.rds (188 bytes security) (stored 0%)
  adding: Meta/hsearch.rds (188 bytes security) (stored 0%)
  adding: Meta/links.rds (188 bytes security) (stored 0%)
  adding: Meta/nsInfo.rds (188 bytes security) (stored 0%)
  adding: Meta/package.rds (188 bytes security) (stored 0%)
  adding: Meta/Rd.rds (188 bytes security) (stored 0%)
  adding: Meta/vignette.rds (188 bytes security) (stored 0%)
  adding: NAMESPACE (188 bytes security) (deflated 42%)
  adding: R/ (208 bytes security) (stored 0%)
  adding: R/goseq (188 bytes security) (deflated 41%)
  adding: R/goseq.rdb (188 bytes security) (deflated 2%)
  adding: R/goseq.rdx (188 bytes security) (stored 0%)