ensembldb 1.2.2 Johannes Rainer
 | Snapshot Date: 2016-04-22 16:20:12 -0700 (Fri, 22 Apr 2016) |  | URL: https://hedgehog.fhcrc.org/bioconductor/branches/RELEASE_3_2/madman/Rpacks/ensembldb |  | Last Changed Rev: 112684 / Revision: 116712 |  | Last Changed Date: 2016-01-19 01:43:50 -0800 (Tue, 19 Jan 2016) |  
  | zin1  | Linux (Ubuntu 14.04.2 LTS) / x86_64  |  OK  |  OK  |  OK  |  |   | 
| moscato1  | Windows Server 2008 R2 Standard (64-bit) / x64  | [ OK ] |  OK  |  OK  |  OK  |   | 
| oaxaca  | Mac OS X Mavericks (10.9.5) / x86_64  |  OK  |  OK  |  OK  |  OK  |   | 
##############################################################################
##############################################################################
###
### Running command:
###
###   rm -rf ensembldb.buildbin-libdir && mkdir ensembldb.buildbin-libdir  && C:\cygwin\bin\curl.exe -O http://zin1/BBS/3.2/bioc/src/contrib/ensembldb_1.2.2.tar.gz && D:\biocbld\bbs-3.2-bioc\R\bin\R.exe CMD INSTALL --build --library=ensembldb.buildbin-libdir --merge-multiarch ensembldb_1.2.2.tar.gz && D:\biocbld\bbs-3.2-bioc\R\bin\R.exe CMD INSTALL ensembldb_1.2.2.zip  && rm ensembldb_1.2.2.tar.gz ensembldb_1.2.2.zip
###
##############################################################################
##############################################################################
  % Total    % Received % Xferd  Average Speed   Time    Time     Time  Current
                                 Dload  Upload   Total   Spent    Left  Speed
  0     0    0     0    0     0      0      0 --:--:-- --:--:-- --:--:--     0
100  575k  100  575k    0     0  27.4M      0 --:--:-- --:--:-- --:--:-- 33.0M
install for i386
* installing *source* package 'ensembldb' ...
** R
** inst
** preparing package for lazy loading
** help
*** installing help indices
** building package indices
** installing vignettes
** testing if installed package can be loaded
install for x64
* installing *source* package 'ensembldb' ...
** testing if installed package can be loaded
* MD5 sums
packaged installation of 'ensembldb' as ensembldb_1.2.2.zip
* DONE (ensembldb)
* installing to library 'D:/biocbld/bbs-3.2-bioc/R/library'
package 'ensembldb' successfully unpacked and MD5 sums checked