chipseq 1.20.0 Bioconductor Package Maintainer
 | Snapshot Date: 2016-04-22 16:20:12 -0700 (Fri, 22 Apr 2016) |  | URL: https://hedgehog.fhcrc.org/bioconductor/branches/RELEASE_3_2/madman/Rpacks/chipseq |  | Last Changed Rev: 109589 / Revision: 116712 |  | Last Changed Date: 2015-10-13 12:36:05 -0700 (Tue, 13 Oct 2015) |  
  | zin1  | Linux (Ubuntu 14.04.2 LTS) / x86_64  |  OK  |  OK  |  WARNINGS  |  |   | 
| moscato1  | Windows Server 2008 R2 Standard (64-bit) / x64  |  OK  |  OK  |  WARNINGS  | [ OK ] |   | 
| oaxaca  | Mac OS X Mavericks (10.9.5) / x86_64  |  OK  |  OK  |  WARNINGS  |  OK  |   | 
##############################################################################
##############################################################################
###
### Running command:
###
###   cd chipseq.buildbin-libdir/chipseq && zip -r ../../chipseq_1.20.0.zip . & cd ../..
###
##############################################################################
##############################################################################
Scanning files 
  adding: data/ (208 bytes security) (stored 0%)
  adding: data/cstest.rda (188 bytes security) (deflated 0%)
  adding: data/datalist (188 bytes security) (stored 0%)
  adding: DESCRIPTION (188 bytes security) (deflated 40%)
  adding: doc/ (208 bytes security) (stored 0%)
  adding: doc/index.html (188 bytes security) (deflated 57%)
  adding: doc/Workflow.pdf (188 bytes security) (deflated 9%)
  adding: doc/Workflow.R (188 bytes security) (deflated 80%)
  adding: doc/Workflow.Rnw (188 bytes security) (deflated 62%)
  adding: help/ (208 bytes security) (stored 0%)
  adding: help/aliases.rds (188 bytes security) (stored 0%)
  adding: help/AnIndex (188 bytes security) (deflated 70%)
  adding: help/chipseq.rdb (188 bytes security) (deflated 1%)
  adding: help/chipseq.rdx (188 bytes security) (stored 0%)
  adding: help/paths.rds (188 bytes security) (stored 0%)
  adding: html/ (208 bytes security) (stored 0%)
  adding: html/00Index.html (188 bytes security) (deflated 77%)
  adding: html/R.css (188 bytes security) (deflated 75%)
  adding: INDEX (188 bytes security) (deflated 56%)
  adding: libs/ (208 bytes security) (stored 0%)
  adding: libs/i386/ (208 bytes security) (stored 0%)
  adding: libs/i386/chipseq.dll (188 bytes security) (deflated 57%)
  adding: libs/x64/ (208 bytes security) (stored 0%)
  adding: libs/x64/chipseq.dll (188 bytes security) (deflated 58%)
  adding: MD5 (188 bytes security) (deflated 47%)
  adding: Meta/ (208 bytes security) (stored 0%)
  adding: Meta/data.rds (188 bytes security) (stored 0%)
  adding: Meta/hsearch.rds (188 bytes security) (stored 0%)
  adding: Meta/links.rds (188 bytes security) (stored 0%)
  adding: Meta/nsInfo.rds (188 bytes security) (stored 0%)
  adding: Meta/package.rds (188 bytes security) (stored 0%)
  adding: Meta/Rd.rds (188 bytes security) (stored 0%)
  adding: Meta/vignette.rds (188 bytes security) (stored 0%)
  adding: NAMESPACE (188 bytes security) (deflated 54%)
  adding: R/ (208 bytes security) (stored 0%)
  adding: R/chipseq (188 bytes security) (deflated 41%)
  adding: R/chipseq.rdb (188 bytes security) (deflated 24%)
  adding: R/chipseq.rdx (188 bytes security) (stored 0%)
  adding: Scripts/ (208 bytes security) (stored 0%)
  adding: Scripts/abc.rda (188 bytes security) (deflated 4%)
  adding: Scripts/AntibodyComparison.Rnw (188 bytes security) (deflated 79%)
  adding: Scripts/antibody_comparison.R (188 bytes security) (deflated 76%)
  adding: Scripts/CopyNumber.Rnw (188 bytes security) (deflated 35%)
  adding: Scripts/CTCFBindingSites.R (188 bytes security) (deflated 77%)
  adding: Scripts/CTCF_ERV.R (188 bytes security) (deflated 71%)
  adding: Scripts/dePeaks.R (188 bytes security) (deflated 68%)
  adding: Scripts/diffpeak.R (188 bytes security) (deflated 82%)
  adding: Scripts/diffpeaks.R (188 bytes security) (deflated 74%)
  adding: Scripts/estimate_fragment_size.R (188 bytes security) (deflated 75%)
  adding: Scripts/fibroblasts.R (188 bytes security) (deflated 76%)
  adding: Scripts/figs/ (208 bytes security) (stored 0%)
  adding: Scripts/getIsochores.R (188 bytes security) (deflated 55%)
  adding: Scripts/hmm.R (188 bytes security) (deflated 66%)
  adding: Scripts/human-islands.R (188 bytes security) (deflated 59%)
  adding: Scripts/Islands.Rnw (188 bytes security) (deflated 72%)
  adding: Scripts/isochores.mm9.rda (188 bytes security) (deflated 0%)
  adding: Scripts/isochore_comparison.R (188 bytes security) (deflated 74%)
  adding: Scripts/MyoD.R (188 bytes security) (deflated 53%)
  adding: Scripts/negbinomial.R (188 bytes security) (deflated 73%)
  adding: Scripts/PairedEndComparison.Rnw (188 bytes security) (deflated 67%)
  adding: Scripts/peakContext.R (188 bytes security) (deflated 67%)
  adding: Scripts/PeakContextHuman.Rnw (188 bytes security) (deflated 62%)
  adding: Scripts/PeakContextMouse.Rnw (188 bytes security) (deflated 66%)
  adding: Scripts/PeakCutoff.Rnw (188 bytes security) (deflated 66%)
  adding: Scripts/PeakModel.Rnw (188 bytes security) (deflated 63%)
  adding: Scripts/PeakReproducibility.Rnw (188 bytes security) (deflated 79%)
  adding: Scripts/PeaksByCopyNumber.Rnw (188 bytes security) (deflated 67%)
  adding: Scripts/peak_mle.R (188 bytes security) (deflated 67%)
  adding: Scripts/poisson.R (188 bytes security) (deflated 69%)
  adding: Scripts/RateComparison.Rnw (188 bytes security) (deflated 77%)
  adding: Scripts/ReadAndSave54.R (188 bytes security) (deflated 69%)
  adding: Scripts/ReadAndSaveCTCF.R (188 bytes security) (deflated 72%)
  adding: Scripts/ReadAndSaveData.R (188 bytes security) (deflated 71%)
  adding: Scripts/ReadAndSaveSimulation.R (188 bytes security) (deflated 54%)
  adding: Scripts/simulate.R (188 bytes security) (deflated 56%)
  adding: Scripts/singletons.Rnw (188 bytes security) (deflated 83%)
  adding: Scripts/solexa54.R (188 bytes security) (deflated 68%)
  adding: Scripts/SolexaSim.R (188 bytes security) (deflated 32%)