| Starr 1.26.0 Benedikt Zacher
 
 | Snapshot Date: 2016-04-22 16:20:12 -0700 (Fri, 22 Apr 2016) |  | URL: https://hedgehog.fhcrc.org/bioconductor/branches/RELEASE_3_2/madman/Rpacks/Starr |  | Last Changed Rev: 109589 / Revision: 116712 |  | Last Changed Date: 2015-10-13 12:36:05 -0700 (Tue, 13 Oct 2015) | 
 | zin1 | Linux (Ubuntu 14.04.2 LTS) / x86_64 | OK | OK | OK |  |  | 
| moscato1 | Windows Server 2008 R2 Standard (64-bit) / x64 | [ OK ] | OK | WARNINGS | OK |  | 
| oaxaca | Mac OS X Mavericks (10.9.5) / x86_64 | OK | OK | OK | OK |  | 
##############################################################################
##############################################################################
###
### Running command:
###
###   rm -rf Starr.buildbin-libdir && mkdir Starr.buildbin-libdir  && C:\cygwin\bin\curl.exe -O http://zin1/BBS/3.2/bioc/src/contrib/Starr_1.26.0.tar.gz && D:\biocbld\bbs-3.2-bioc\R\bin\R.exe CMD INSTALL --build --library=Starr.buildbin-libdir --merge-multiarch Starr_1.26.0.tar.gz && D:\biocbld\bbs-3.2-bioc\R\bin\R.exe CMD INSTALL Starr_1.26.0.zip  && rm Starr_1.26.0.tar.gz Starr_1.26.0.zip
###
##############################################################################
##############################################################################
  % Total    % Received % Xferd  Average Speed   Time    Time     Time  Current
                                 Dload  Upload   Total   Spent    Left  Speed
  0     0    0     0    0     0      0      0 --:--:-- --:--:-- --:--:--     0
100  701k  100  701k    0     0  35.1M      0 --:--:-- --:--:-- --:--:-- 45.6M
install for i386
* installing *source* package 'Starr' ...
   **********************************************
   WARNING: this package has a configure script
         It probably needs manual configuration
   **********************************************
** libs
gcc -m32 -I"D:/biocbld/bbs-3.2-bioc/R/library/zlibbioc/include" -I"D:/biocbld/BBS-3˜1.2-B/R/include" -DNDEBUG     -I"d:/RCompile/r-compiling/local/local323/include"     -O3 -Wall  -std=gnu99 -mtune=core2 -c ahocorasick.c -o ahocorasick.o
gcc -m32 -I"D:/biocbld/bbs-3.2-bioc/R/library/zlibbioc/include" -I"D:/biocbld/BBS-3˜1.2-B/R/include" -DNDEBUG     -I"d:/RCompile/r-compiling/local/local323/include"     -O3 -Wall  -std=gnu99 -mtune=core2 -c collect.c -o collect.o
gcc -m32 -I"D:/biocbld/bbs-3.2-bioc/R/library/zlibbioc/include" -I"D:/biocbld/BBS-3˜1.2-B/R/include" -DNDEBUG     -I"d:/RCompile/r-compiling/local/local323/include"     -O3 -Wall  -std=gnu99 -mtune=core2 -c rm_small_peak.c -o rm_small_peak.o
gcc -m32 -I"D:/biocbld/bbs-3.2-bioc/R/library/zlibbioc/include" -I"D:/biocbld/BBS-3˜1.2-B/R/include" -DNDEBUG     -I"d:/RCompile/r-compiling/local/local323/include"     -O3 -Wall  -std=gnu99 -mtune=core2 -c sort_by_genomic.c -o sort_by_genomic.o
gcc -m32 -shared -s -static-libgcc -o Starr.dll tmp.def ahocorasick.o collect.o rm_small_peak.o sort_by_genomic.o -LD:/biocbld/bbs-3.2-bioc/R/library/zlibbioc/libs/i386 -lzlib1bioc -Ld:/RCompile/r-compiling/local/local323/lib/i386 -Ld:/RCompile/r-compiling/local/local323/lib -LD:/biocbld/BBS-3˜1.2-B/R/bin/i386 -lR
installing to D:/biocbld/bbs-3.2-bioc/meat/Starr.buildbin-libdir/Starr/libs/i386
** R
** inst
** preparing package for lazy loading
Warning: package 'Matrix' was built under R version 3.2.5
** help
*** installing help indices
** building package indices
** installing vignettes
** testing if installed package can be loaded
Warning: package 'Matrix' was built under R version 3.2.5
install for x64
* installing *source* package 'Starr' ...
   **********************************************
   WARNING: this package has a configure script
         It probably needs manual configuration
   **********************************************
** libs
gcc -m64 -I"D:/biocbld/bbs-3.2-bioc/R/library/zlibbioc/include" -I"D:/biocbld/BBS-3˜1.2-B/R/include" -DNDEBUG     -I"d:/RCompile/r-compiling/local/local323/include"     -O2 -Wall  -std=gnu99 -mtune=core2 -c ahocorasick.c -o ahocorasick.o
gcc -m64 -I"D:/biocbld/bbs-3.2-bioc/R/library/zlibbioc/include" -I"D:/biocbld/BBS-3˜1.2-B/R/include" -DNDEBUG     -I"d:/RCompile/r-compiling/local/local323/include"     -O2 -Wall  -std=gnu99 -mtune=core2 -c collect.c -o collect.o
gcc -m64 -I"D:/biocbld/bbs-3.2-bioc/R/library/zlibbioc/include" -I"D:/biocbld/BBS-3˜1.2-B/R/include" -DNDEBUG     -I"d:/RCompile/r-compiling/local/local323/include"     -O2 -Wall  -std=gnu99 -mtune=core2 -c rm_small_peak.c -o rm_small_peak.o
gcc -m64 -I"D:/biocbld/bbs-3.2-bioc/R/library/zlibbioc/include" -I"D:/biocbld/BBS-3˜1.2-B/R/include" -DNDEBUG     -I"d:/RCompile/r-compiling/local/local323/include"     -O2 -Wall  -std=gnu99 -mtune=core2 -c sort_by_genomic.c -o sort_by_genomic.o
gcc -m64 -shared -s -static-libgcc -o Starr.dll tmp.def ahocorasick.o collect.o rm_small_peak.o sort_by_genomic.o -LD:/biocbld/bbs-3.2-bioc/R/library/zlibbioc/libs/x64 -lzlib1bioc -Ld:/RCompile/r-compiling/local/local323/lib/x64 -Ld:/RCompile/r-compiling/local/local323/lib -LD:/biocbld/BBS-3˜1.2-B/R/bin/x64 -lR
installing to D:/biocbld/bbs-3.2-bioc/meat/Starr.buildbin-libdir/Starr/libs/x64
** testing if installed package can be loaded
Warning: package 'Matrix' was built under R version 3.2.5
* MD5 sums
packaged installation of 'Starr' as Starr_1.26.0.zip
* DONE (Starr)
* installing to library 'D:/biocbld/bbs-3.2-bioc/R/library'
package 'Starr' successfully unpacked and MD5 sums checked