SeqArray 1.10.6 Xiuwen Zheng
 | Snapshot Date: 2016-04-22 16:20:12 -0700 (Fri, 22 Apr 2016) |  | URL: https://hedgehog.fhcrc.org/bioconductor/branches/RELEASE_3_2/madman/Rpacks/SeqArray |  | Last Changed Rev: 110797 / Revision: 116712 |  | Last Changed Date: 2015-11-22 15:51:09 -0800 (Sun, 22 Nov 2015) |  
  | zin1  | Linux (Ubuntu 14.04.2 LTS) / x86_64  |  OK  | [ OK ] |  OK  |  |   | 
| moscato1  | Windows Server 2008 R2 Standard (64-bit) / x64  |  OK  |  OK  |  OK  |  OK  |   | 
| oaxaca  | Mac OS X Mavericks (10.9.5) / x86_64  |  OK  |  OK  |  OK  |  OK  |   | 
##############################################################################
##############################################################################
###
### Running command:
###
###   /home/biocbuild/bbs-3.2-bioc/R/bin/R CMD build --keep-empty-dirs --no-resave-data SeqArray
###
##############################################################################
##############################################################################
* checking for file ‘SeqArray/DESCRIPTION’ ... OK
* preparing ‘SeqArray’:
* checking DESCRIPTION meta-information ... OK
* cleaning src
* installing the package to build vignettes
* creating vignettes ... OK
* cleaning src
* checking for LF line-endings in source and make files
* checking for empty or unneeded directories
* building ‘SeqArray_1.10.6.tar.gz’