| OrganismDbi 1.12.1 Biocore Data Team
 
 | Snapshot Date: 2016-04-22 16:20:12 -0700 (Fri, 22 Apr 2016) |  | URL: https://hedgehog.fhcrc.org/bioconductor/branches/RELEASE_3_2/madman/Rpacks/OrganismDbi |  | Last Changed Rev: 111836 / Revision: 116712 |  | Last Changed Date: 2015-12-22 09:04:48 -0800 (Tue, 22 Dec 2015) | 
 | zin1 | Linux (Ubuntu 14.04.2 LTS) / x86_64 | OK | OK | WARNINGS |  |  | 
| moscato1 | Windows Server 2008 R2 Standard (64-bit) / x64 | OK | OK | WARNINGS | [ OK ] |  | 
| oaxaca | Mac OS X Mavericks (10.9.5) / x86_64 | OK | OK | WARNINGS | OK |  | 
##############################################################################
##############################################################################
###
### Running command:
###
###   cd OrganismDbi.buildbin-libdir/OrganismDbi && zip -r ../../OrganismDbi_1.12.1.zip . & cd ../..
###
##############################################################################
##############################################################################
Scanning files 
  adding: DESCRIPTION (188 bytes security) (deflated 42%)
  adding: doc/ (208 bytes security) (stored 0%)
  adding: doc/index.html (188 bytes security) (deflated 59%)
  adding: doc/OrganismDbi.pdf (188 bytes security) (deflated 7%)
  adding: doc/OrganismDbi.R (188 bytes security) (deflated 75%)
  adding: doc/OrganismDbi.Rnw (188 bytes security) (deflated 63%)
  adding: extdata/ (208 bytes security) (stored 0%)
  adding: extdata/myTxDb.sqlite (188 bytes security) (deflated 80%)
  adding: help/ (208 bytes security) (stored 0%)
  adding: help/aliases.rds (188 bytes security) (stored 0%)
  adding: help/AnIndex (188 bytes security) (deflated 80%)
  adding: help/OrganismDbi.rdb (188 bytes security) (deflated 0%)
  adding: help/OrganismDbi.rdx (188 bytes security) (stored 0%)
  adding: help/paths.rds (188 bytes security) (stored 0%)
  adding: html/ (208 bytes security) (stored 0%)
  adding: html/00Index.html (188 bytes security) (deflated 86%)
  adding: html/R.css (188 bytes security) (deflated 75%)
  adding: INDEX (188 bytes security) (deflated 67%)
  adding: MD5 (188 bytes security) (deflated 44%)
  adding: Meta/ (208 bytes security) (stored 0%)
  adding: Meta/hsearch.rds (188 bytes security) (stored 0%)
  adding: Meta/links.rds (188 bytes security) (stored 0%)
  adding: Meta/nsInfo.rds (188 bytes security) (stored 0%)
  adding: Meta/package.rds (188 bytes security) (stored 0%)
  adding: Meta/Rd.rds (188 bytes security) (stored 0%)
  adding: Meta/vignette.rds (188 bytes security) (stored 0%)
  adding: NAMESPACE (188 bytes security) (deflated 71%)
  adding: NEWS (188 bytes security) (deflated 67%)
  adding: OrgPkg-template/ (208 bytes security) (stored 0%)
  adding: OrgPkg-template/DESCRIPTION (188 bytes security) (deflated 37%)
  adding: OrgPkg-template/man/ (208 bytes security) (stored 0%)
  adding: OrgPkg-template/man/@PKGNAME@.Rd (188 bytes security) (deflated 47%)
  adding: OrgPkg-template/NAMESPACE (188 bytes security) (stored 0%)
  adding: OrgPkg-template/R/ (208 bytes security) (stored 0%)
  adding: OrgPkg-template/R/zzz.R (188 bytes security) (deflated 42%)
  adding: R/ (208 bytes security) (stored 0%)
  adding: R/OrganismDbi (188 bytes security) (deflated 41%)
  adding: R/OrganismDbi.rdb (188 bytes security) (deflated 31%)
  adding: R/OrganismDbi.rdx (188 bytes security) (deflated 1%)
  adding: script/ (208 bytes security) (stored 0%)
  adding: script/makeOrgDbPkgs.R (188 bytes security) (deflated 77%)
  adding: script/test_PkgFreeExamples.R (188 bytes security) (deflated 66%)
  adding: unitTests/ (208 bytes security) (stored 0%)
  adding: unitTests/test_construction.R (188 bytes security) (deflated 67%)
  adding: unitTests/test_mapIds.R (188 bytes security) (deflated 74%)
  adding: unitTests/test_select.R (188 bytes security) (deflated 82%)
  adding: unitTests/test_transcripts.R (188 bytes security) (deflated 75%)
  adding: unitTests/test_wrappedFuns.R (188 bytes security) (deflated 64%)