| Mulcom 1.20.0 Claudio Isella
 
 | Snapshot Date: 2016-04-22 16:20:12 -0700 (Fri, 22 Apr 2016) |  | URL: https://hedgehog.fhcrc.org/bioconductor/branches/RELEASE_3_2/madman/Rpacks/Mulcom |  | Last Changed Rev: 109589 / Revision: 116712 |  | Last Changed Date: 2015-10-13 12:36:05 -0700 (Tue, 13 Oct 2015) | 
 | zin1 | Linux (Ubuntu 14.04.2 LTS) / x86_64 | OK | OK | OK |  |  | 
| moscato1 | Windows Server 2008 R2 Standard (64-bit) / x64 | [ OK ] | OK | OK | OK |  | 
| oaxaca | Mac OS X Mavericks (10.9.5) / x86_64 | OK | OK | OK | OK |  | 
##############################################################################
##############################################################################
###
### Running command:
###
###   rm -rf Mulcom.buildbin-libdir && mkdir Mulcom.buildbin-libdir  && C:\cygwin\bin\curl.exe -O http://zin1/BBS/3.2/bioc/src/contrib/Mulcom_1.20.0.tar.gz && D:\biocbld\bbs-3.2-bioc\R\bin\R.exe CMD INSTALL --build --library=Mulcom.buildbin-libdir --merge-multiarch Mulcom_1.20.0.tar.gz && D:\biocbld\bbs-3.2-bioc\R\bin\R.exe CMD INSTALL Mulcom_1.20.0.zip  && rm Mulcom_1.20.0.tar.gz Mulcom_1.20.0.zip
###
##############################################################################
##############################################################################
  % Total    % Received % Xferd  Average Speed   Time    Time     Time  Current
                                 Dload  Upload   Total   Spent    Left  Speed
  0     0    0     0    0     0      0      0 --:--:-- --:--:-- --:--:--     0
100 1385k  100 1385k    0     0  14.7M      0 --:--:-- --:--:-- --:--:-- 56.3M
install for i386
* installing *source* package 'Mulcom' ...
** libs
g++ -m32 -I"D:/biocbld/BBS-3˜1.2-B/R/include" -DNDEBUG     -I"d:/RCompile/r-compiling/local/local323/include"     -O2 -Wall  -mtune=core2 -c mulLibs.cc -o mulLibs.o
mulLibs.cc: In function 'void Single_SimulationC(double*, double*, double*, double*, double*, double*, int*, int*, int*, int*, int*)':
mulLibs.cc:708:33: warning: statement has no effect [-Wunused-value]
mulLibs.cc: In function 'void Complete_SimulationC(double*, int*, double*, double*, int*, int*, int*, int*, int*)':
mulLibs.cc:1022:50: warning: comparison between signed and unsigned integer expressions [-Wsign-compare]
mulLibs.cc:1023:68: warning: comparison between signed and unsigned integer expressions [-Wsign-compare]
g++ -m32 -shared -s -static-libgcc -o Mulcom.dll tmp.def mulLibs.o -Ld:/RCompile/r-compiling/local/local323/lib/i386 -Ld:/RCompile/r-compiling/local/local323/lib -LD:/biocbld/BBS-3˜1.2-B/R/bin/i386 -lR
installing to D:/biocbld/bbs-3.2-bioc/meat/Mulcom.buildbin-libdir/Mulcom/libs/i386
** R
** data
** inst
** preparing package for lazy loading
** help
*** installing help indices
** building package indices
** installing vignettes
** testing if installed package can be loaded
install for x64
* installing *source* package 'Mulcom' ...
** libs
g++ -m64 -I"D:/biocbld/BBS-3˜1.2-B/R/include" -DNDEBUG     -I"d:/RCompile/r-compiling/local/local323/include"     -O2 -Wall  -mtune=core2 -c mulLibs.cc -o mulLibs.o
mulLibs.cc: In function 'void Single_SimulationC(double*, double*, double*, double*, double*, double*, int*, int*, int*, int*, int*)':
mulLibs.cc:708:33: warning: statement has no effect [-Wunused-value]
mulLibs.cc: In function 'void Complete_SimulationC(double*, int*, double*, double*, int*, int*, int*, int*, int*)':
mulLibs.cc:1022:50: warning: comparison between signed and unsigned integer expressions [-Wsign-compare]
mulLibs.cc:1023:68: warning: comparison between signed and unsigned integer expressions [-Wsign-compare]
g++ -m64 -shared -s -static-libgcc -o Mulcom.dll tmp.def mulLibs.o -Ld:/RCompile/r-compiling/local/local323/lib/x64 -Ld:/RCompile/r-compiling/local/local323/lib -LD:/biocbld/BBS-3˜1.2-B/R/bin/x64 -lR
installing to D:/biocbld/bbs-3.2-bioc/meat/Mulcom.buildbin-libdir/Mulcom/libs/x64
** testing if installed package can be loaded
* MD5 sums
packaged installation of 'Mulcom' as Mulcom_1.20.0.zip
* DONE (Mulcom)
* installing to library 'D:/biocbld/bbs-3.2-bioc/R/library'
package 'Mulcom' successfully unpacked and MD5 sums checked