MSstats 3.2.1 Meena Choi
 | Snapshot Date: 2016-04-22 16:20:12 -0700 (Fri, 22 Apr 2016) |  | URL: https://hedgehog.fhcrc.org/bioconductor/branches/RELEASE_3_2/madman/Rpacks/MSstats |  | Last Changed Rev: 114241 / Revision: 116712 |  | Last Changed Date: 2016-03-03 20:20:26 -0800 (Thu, 03 Mar 2016) |  
  | zin1  | Linux (Ubuntu 14.04.2 LTS) / x86_64  |  OK  | [ OK ] |  WARNINGS  |  |   | 
| moscato1  | Windows Server 2008 R2 Standard (64-bit) / x64  |  OK  |  OK  |  WARNINGS  |  OK  |   | 
| oaxaca  | Mac OS X Mavericks (10.9.5) / x86_64  |  OK  |  OK  |  WARNINGS  |  OK  |   | 
##############################################################################
##############################################################################
###
### Running command:
###
###   /home/biocbuild/bbs-3.2-bioc/R/bin/R CMD build --keep-empty-dirs --no-resave-data MSstats
###
##############################################################################
##############################################################################
* checking for file ‘MSstats/DESCRIPTION’ ... OK
* preparing ‘MSstats’:
* checking DESCRIPTION meta-information ... OK
* checking for LF line-endings in source and make files
* checking for empty or unneeded directories
WARNING: directory ‘MSstats/build’ is empty
WARNING: directory ‘MSstats/vignettes’ is empty
* looking to see if a ‘data/datalist’ file should be added
* building ‘MSstats_3.2.1.tar.gz’