MSnbase 1.18.1 Laurent Gatto
 | Snapshot Date: 2016-04-22 16:20:12 -0700 (Fri, 22 Apr 2016) |  | URL: https://hedgehog.fhcrc.org/bioconductor/branches/RELEASE_3_2/madman/Rpacks/MSnbase |  | Last Changed Rev: 114028 / Revision: 116712 |  | Last Changed Date: 2016-02-25 14:19:25 -0800 (Thu, 25 Feb 2016) |  
  | zin1  | Linux (Ubuntu 14.04.2 LTS) / x86_64  |  OK  |  OK  |  ERROR  |  |  | 
| moscato1  | Windows Server 2008 R2 Standard (64-bit) / x64  |  OK  |  OK  |  OK  | [ OK ] |   | 
| oaxaca  | Mac OS X Mavericks (10.9.5) / x86_64  |  OK  |  OK  |  OK  |  OK  |   | 
##############################################################################
##############################################################################
###
### Running command:
###
###   cd MSnbase.buildbin-libdir/MSnbase && zip -r ../../MSnbase_1.18.1.zip . & cd ../..
###
##############################################################################
##############################################################################
  adding: CITATION (188 bytes security) (deflated 55%)
  adding: data/ (208 bytes security) (stored 0%)
  adding: data/Rdata.rdb (188 bytes security) (deflated 1%)
  adding: data/Rdata.rds (188 bytes security) (stored 0%)
  adding: data/Rdata.rdx (188 bytes security) (stored 0%)
  adding: DESCRIPTION (188 bytes security) (deflated 58%)
  adding: doc/ (208 bytes security) (stored 0%)
  adding: doc/index.html (188 bytes security) (deflated 73%)
  adding: doc/MSnbase-demo/ (208 bytes security) (stored 0%)
  adding: doc/MSnbase-demo.pdf (188 bytes security) (deflated 15%)
  adding: doc/MSnbase-demo.Rnw (188 bytes security) (deflated 69%)
  adding: doc/MSnbase-development/ (208 bytes security) (stored 0%)
  adding: doc/MSnbase-development.pdf (188 bytes security) (deflated 15%)
  adding: doc/MSnbase-development.Rnw (188 bytes security) (deflated 68%)
  adding: doc/MSnbase-io/ (208 bytes security) (stored 0%)
  adding: doc/MSnbase-io.pdf (188 bytes security) (deflated 16%)
  adding: doc/MSnbase-io.Rnw (188 bytes security) (deflated 68%)
  adding: extdata/ (208 bytes security) (stored 0%)
  adding: extdata/dummyiTRAQ.mzid (188 bytes security) (deflated 79%)
  adding: extdata/dummyiTRAQ.mzXML (188 bytes security) (deflated 68%)
  adding: extdata/ipqfres.rda (188 bytes security) (deflated 2%)
  adding: extdata/iTRAQ4plexPurityCorrections.csv (188 bytes security) (deflated 35%)
  adding: extdata/iTRAQ8plexPurityCorrections.csv (188 bytes security) (deflated 68%)
  adding: extdata/M.rda (188 bytes security) (deflated 3%)
  adding: extdata/M2.rda (188 bytes security) (deflated 6%)
  adding: extdata/msx.rda (188 bytes security) (deflated 0%)
  adding: extdata/test.mgf (188 bytes security) (deflated 49%)
  adding: extdata/TMT6plexPurityCorrections.csv (188 bytes security) (deflated 46%)
  adding: help/ (208 bytes security) (stored 0%)
  adding: help/aliases.rds (188 bytes security) (stored 0%)
  adding: help/AnIndex (188 bytes security) (deflated 84%)
  adding: help/MSnbase.rdb (188 bytes security) (deflated 1%)
  adding: help/MSnbase.rdx (188 bytes security) (stored 0%)
  adding: help/paths.rds (188 bytes security) (stored 0%)
  adding: html/ (208 bytes security) (stored 0%)
  adding: html/00Index.html (188 bytes security) (deflated 92%)
  adding: html/R.css (188 bytes security) (deflated 75%)
  adding: INDEX (188 bytes security) (deflated 68%)
  adding: libs/ (208 bytes security) (stored 0%)
  adding: libs/i386/ (208 bytes security) (stored 0%)
  adding: libs/i386/MSnbase.dll (188 bytes security) (deflated 65%)
  adding: libs/x64/ (208 bytes security) (stored 0%)
  adding: libs/x64/MSnbase.dll (188 bytes security) (deflated 69%)
  adding: MD5 (188 bytes security) (deflated 46%)
  adding: Meta/ (208 bytes security) (stored 0%)
  adding: Meta/data.rds (188 bytes security) (stored 0%)
  adding: Meta/hsearch.rds (188 bytes security) (deflated 1%)
  adding: Meta/links.rds (188 bytes security) (stored 0%)
  adding: Meta/nsInfo.rds (188 bytes security) (stored 0%)
  adding: Meta/package.rds (188 bytes security) (stored 0%)
  adding: Meta/Rd.rds (188 bytes security) (stored 0%)
  adding: Meta/vignette.rds (188 bytes security) (stored 0%)
  adding: NAMESPACE (188 bytes security) (deflated 70%)
  adding: NEWS (188 bytes security) (deflated 72%)
  adding: R/ (208 bytes security) (stored 0%)
  adding: R/MSnbase (188 bytes security) (deflated 41%)
  adding: R/MSnbase.rdb (188 bytes security) (deflated 34%)
  adding: R/MSnbase.rdx (188 bytes security) (deflated 6%)
  adding: scripts/ (208 bytes security) (stored 0%)
  adding: scripts/make_msx.R (188 bytes security) (deflated 51%)
  adding: scripts/msnbase.r (188 bytes security) (deflated 63%)
  adding: scripts/naset.R (188 bytes security) (deflated 52%)
  adding: tests/ (208 bytes security) (stored 0%)