KEGGREST 1.10.1 Bioconductor Package Maintainer
 | Snapshot Date: 2016-04-22 16:20:12 -0700 (Fri, 22 Apr 2016) |  | URL: https://hedgehog.fhcrc.org/bioconductor/branches/RELEASE_3_2/madman/Rpacks/KEGGREST |  | Last Changed Rev: 112199 / Revision: 116712 |  | Last Changed Date: 2016-01-05 16:23:52 -0800 (Tue, 05 Jan 2016) |  
  | zin1  | Linux (Ubuntu 14.04.2 LTS) / x86_64  |  OK  |  OK  |  OK  |  |   | 
| moscato1  | Windows Server 2008 R2 Standard (64-bit) / x64  |  OK  |  ERROR  |  skipped  |  skipped  |  | 
| oaxaca  | Mac OS X Mavericks (10.9.5) / x86_64  |  OK  | [ TIMEOUT ] |  skipped  |  skipped  |  | 
##############################################################################
##############################################################################
###
### Running command:
###
###   /Library/Frameworks/R.framework/Versions/Current/Resources/bin/R CMD build --keep-empty-dirs --no-resave-data KEGGREST
###
##############################################################################
##############################################################################
* checking for file ‘KEGGREST/DESCRIPTION’ ... OK
* preparing ‘KEGGREST’:
* checking DESCRIPTION meta-information ... OK
* installing the package to build vignettes
* creating vignettes ...