BiocParallel 1.4.3 Bioconductor Package Maintainer
 | Snapshot Date: 2016-04-22 16:20:12 -0700 (Fri, 22 Apr 2016) |  | URL: https://hedgehog.fhcrc.org/bioconductor/branches/RELEASE_3_2/madman/Rpacks/BiocParallel |  | Last Changed Rev: 111519 / Revision: 116712 |  | Last Changed Date: 2015-12-15 11:34:18 -0800 (Tue, 15 Dec 2015) |  
  | zin1  | Linux (Ubuntu 14.04.2 LTS) / x86_64  |  OK  |  OK  |  OK  |  |   | 
| moscato1  | Windows Server 2008 R2 Standard (64-bit) / x64  | [ OK ] |  OK  |  OK  |  OK  |   | 
| oaxaca  | Mac OS X Mavericks (10.9.5) / x86_64  |  OK  |  OK  |  OK  |  OK  |   | 
##############################################################################
##############################################################################
###
### Running command:
###
###   rm -rf BiocParallel.buildbin-libdir && mkdir BiocParallel.buildbin-libdir  && C:\cygwin\bin\curl.exe -O http://zin1/BBS/3.2/bioc/src/contrib/BiocParallel_1.4.3.tar.gz && D:\biocbld\bbs-3.2-bioc\R\bin\R.exe CMD INSTALL --build --library=BiocParallel.buildbin-libdir --merge-multiarch BiocParallel_1.4.3.tar.gz && D:\biocbld\bbs-3.2-bioc\R\bin\R.exe CMD INSTALL BiocParallel_1.4.3.zip  && rm BiocParallel_1.4.3.tar.gz BiocParallel_1.4.3.zip
###
##############################################################################
##############################################################################
  % Total    % Received % Xferd  Average Speed   Time    Time     Time  Current
                                 Dload  Upload   Total   Spent    Left  Speed
  0     0    0     0    0     0      0      0 --:--:-- --:--:-- --:--:--     0
100 67328  100 67328    0     0  9268k      0 --:--:-- --:--:-- --:--:-- 32.1M
install for i386
* installing *source* package 'BiocParallel' ...
** R
** inst
** preparing package for lazy loading
** help
*** installing help indices
** building package indices
** installing vignettes
** testing if installed package can be loaded
install for x64
* installing *source* package 'BiocParallel' ...
** testing if installed package can be loaded
* MD5 sums
packaged installation of 'BiocParallel' as BiocParallel_1.4.3.zip
* DONE (BiocParallel)
* installing to library 'D:/biocbld/bbs-3.2-bioc/R/library'
package 'BiocParallel' successfully unpacked and MD5 sums checked