| Back to Long Tests report for BioC 3.19 |
This page was generated on 2024-06-08 23:55 -0400 (Sat, 08 Jun 2024).
| Hostname | OS | Arch (*) | R version | Installed pkgs |
|---|---|---|---|---|
| nebbiolo1 | Linux (Ubuntu 22.04.3 LTS) | x86_64 | 4.4.0 (2024-04-24) -- "Puppy Cup" | 4755 |
| palomino3 | Windows Server 2022 Datacenter | x64 | 4.4.0 (2024-04-24 ucrt) -- "Puppy Cup" | 4489 |
| lconway | macOS 12.7.1 Monterey | x86_64 | 4.4.0 (2024-04-24) -- "Puppy Cup" | 4520 |
| Click on any hostname to see more info about the system (e.g. compilers) (*) as reported by 'uname -p', except on Windows and Mac OS X | ||||
| Package 14/33 | Hostname | OS / Arch | CHECK | |||||||
| cBioPortalData 2.16.0 (landing page) Marcel Ramos
| nebbiolo1 | Linux (Ubuntu 22.04.3 LTS) / x86_64 | OK | |||||||
| palomino3 | Windows Server 2022 Datacenter / x64 | OK | ||||||||
| lconway | macOS 12.7.1 Monterey / x86_64 | ERROR | ||||||||
|
To the developers/maintainers of the cBioPortalData package: - Use the following Renviron settings to reproduce errors and warnings. - If 'R CMD check' started to fail recently on the Linux builder(s) over a missing dependency, add the missing dependency to 'Suggests:' in your DESCRIPTION file. See Renviron.bioc for more information. |
| Package: cBioPortalData |
| Version: 2.16.0 |
| Command: /Library/Frameworks/R.framework/Resources/bin/R CMD check --test-dir=longtests --no-stop-on-test-error --no-codoc --no-examples --no-manual --ignore-vignettes --check-subdirs=no cBioPortalData_2.16.0.tar.gz |
| StartedAt: 2024-06-08 16:04:25 -0400 (Sat, 08 Jun 2024) |
| EndedAt: 2024-06-08 19:08:44 -0400 (Sat, 08 Jun 2024) |
| EllapsedTime: 11058.6 seconds |
| RetCode: 1 |
| Status: ERROR |
| CheckDir: cBioPortalData.Rcheck |
| Warnings: NA |
cBioPortalData.Rcheck/tests/testthat.Rout.fail
R version 4.4.0 (2024-04-24) -- "Puppy Cup"
Copyright (C) 2024 The R Foundation for Statistical Computing
Platform: x86_64-apple-darwin20
R is free software and comes with ABSOLUTELY NO WARRANTY.
You are welcome to redistribute it under certain conditions.
Type 'license()' or 'licence()' for distribution details.
R is a collaborative project with many contributors.
Type 'contributors()' for more information and
'citation()' on how to cite R or R packages in publications.
Type 'demo()' for some demos, 'help()' for on-line help, or
'help.start()' for an HTML browser interface to help.
Type 'q()' to quit R.
> library(testthat)
> library(cBioPortalData)
Loading required package: AnVIL
Loading required package: dplyr
Attaching package: 'dplyr'
The following object is masked from 'package:testthat':
matches
The following objects are masked from 'package:stats':
filter, lag
The following objects are masked from 'package:base':
intersect, setdiff, setequal, union
Loading required package: MultiAssayExperiment
Loading required package: SummarizedExperiment
Loading required package: MatrixGenerics
Loading required package: matrixStats
Attaching package: 'matrixStats'
The following object is masked from 'package:dplyr':
count
Attaching package: 'MatrixGenerics'
The following objects are masked from 'package:matrixStats':
colAlls, colAnyNAs, colAnys, colAvgsPerRowSet, colCollapse,
colCounts, colCummaxs, colCummins, colCumprods, colCumsums,
colDiffs, colIQRDiffs, colIQRs, colLogSumExps, colMadDiffs,
colMads, colMaxs, colMeans2, colMedians, colMins, colOrderStats,
colProds, colQuantiles, colRanges, colRanks, colSdDiffs, colSds,
colSums2, colTabulates, colVarDiffs, colVars, colWeightedMads,
colWeightedMeans, colWeightedMedians, colWeightedSds,
colWeightedVars, rowAlls, rowAnyNAs, rowAnys, rowAvgsPerColSet,
rowCollapse, rowCounts, rowCummaxs, rowCummins, rowCumprods,
rowCumsums, rowDiffs, rowIQRDiffs, rowIQRs, rowLogSumExps,
rowMadDiffs, rowMads, rowMaxs, rowMeans2, rowMedians, rowMins,
rowOrderStats, rowProds, rowQuantiles, rowRanges, rowRanks,
rowSdDiffs, rowSds, rowSums2, rowTabulates, rowVarDiffs, rowVars,
rowWeightedMads, rowWeightedMeans, rowWeightedMedians,
rowWeightedSds, rowWeightedVars
Loading required package: GenomicRanges
Loading required package: stats4
Loading required package: BiocGenerics
Attaching package: 'BiocGenerics'
The following objects are masked from 'package:dplyr':
combine, intersect, setdiff, union
The following objects are masked from 'package:stats':
IQR, mad, sd, var, xtabs
The following objects are masked from 'package:base':
Filter, Find, Map, Position, Reduce, anyDuplicated, aperm, append,
as.data.frame, basename, cbind, colnames, dirname, do.call,
duplicated, eval, evalq, get, grep, grepl, intersect, is.unsorted,
lapply, mapply, match, mget, order, paste, pmax, pmax.int, pmin,
pmin.int, rank, rbind, rownames, sapply, setdiff, table, tapply,
union, unique, unsplit, which.max, which.min
Loading required package: S4Vectors
Attaching package: 'S4Vectors'
The following objects are masked from 'package:dplyr':
first, rename
The following object is masked from 'package:utils':
findMatches
The following objects are masked from 'package:base':
I, expand.grid, unname
Loading required package: IRanges
Attaching package: 'IRanges'
The following objects are masked from 'package:dplyr':
collapse, desc, slice
Loading required package: GenomeInfoDb
Loading required package: Biobase
Welcome to Bioconductor
Vignettes contain introductory material; view with
'browseVignettes()'. To cite Bioconductor, see
'citation("Biobase")', and for packages 'citation("pkgname")'.
Attaching package: 'Biobase'
The following object is masked from 'package:MatrixGenerics':
rowMedians
The following objects are masked from 'package:matrixStats':
anyMissing, rowMedians
>
> test_check("cBioPortalData")
dyld[30194]: Library not loaded: '/usr/local/opt/openssl@3/lib/libssl.3.dylib'
Referenced from: '/usr/local/Cellar/wget/1.21.4/bin/wget'
Reason: tried: '/usr/local/opt/openssl@3/lib/libssl.3.dylib' (no such file), '/usr/local/lib/libssl.3.dylib' (no such file), '/usr/lib/libssl.3.dylib' (no such file)
Error in utils::download.file(fileURL, destfile = tmpFile, quiet = TRUE, :
'wget' call had nonzero exit status
dyld[30335]: Library not loaded: '/usr/local/opt/openssl@3/lib/libssl.3.dylib'
Referenced from: '/usr/local/Cellar/wget/1.21.4/bin/wget'
Reason: tried: '/usr/local/opt/openssl@3/lib/libssl.3.dylib' (no such file), '/usr/local/lib/libssl.3.dylib' (no such file), '/usr/lib/libssl.3.dylib' (no such file)
Error in utils::download.file(fileURL, destfile = tmpFile, quiet = TRUE, :
'wget' call had nonzero exit status
dyld[30460]: Library not loaded: '/usr/local/opt/openssl@3/lib/libssl.3.dylib'
Referenced from: '/usr/local/Cellar/wget/1.21.4/bin/wget'
Reason: tried: '/usr/local/opt/openssl@3/lib/libssl.3.dylib' (no such file), '/usr/local/lib/libssl.3.dylib' (no such file), '/usr/lib/libssl.3.dylib' (no such file)
Error in utils::download.file(fileURL, destfile = tmpFile, quiet = TRUE, :
'wget' call had nonzero exit status
dyld[30601]: Library not loaded: '/usr/local/opt/openssl@3/lib/libssl.3.dylib'
Referenced from: '/usr/local/Cellar/wget/1.21.4/bin/wget'
Reason: tried: '/usr/local/opt/openssl@3/lib/libssl.3.dylib' (no such file), '/usr/local/lib/libssl.3.dylib' (no such file), '/usr/lib/libssl.3.dylib' (no such file)
Error in utils::download.file(fileURL, destfile = tmpFile, quiet = TRUE, :
'wget' call had nonzero exit status
dyld[30759]: Library not loaded: '/usr/local/opt/openssl@3/lib/libssl.3.dylib'
Referenced from: '/usr/local/Cellar/wget/1.21.4/bin/wget'
Reason: tried: '/usr/local/opt/openssl@3/lib/libssl.3.dylib' (no such file), '/usr/local/lib/libssl.3.dylib' (no such file), '/usr/lib/libssl.3.dylib' (no such file)
Error in utils::download.file(fileURL, destfile = tmpFile, quiet = TRUE, :
'wget' call had nonzero exit status
dyld[31081]: Library not loaded: '/usr/local/opt/openssl@3/lib/libssl.3.dylib'
Referenced from: '/usr/local/Cellar/wget/1.21.4/bin/wget'
Reason: tried: '/usr/local/opt/openssl@3/lib/libssl.3.dylib' (no such file), '/usr/local/lib/libssl.3.dylib' (no such file), '/usr/lib/libssl.3.dylib' (no such file)
Error in utils::download.file(fileURL, destfile = tmpFile, quiet = TRUE, :
'wget' call had nonzero exit status
dyld[31180]: Library not loaded: '/usr/local/opt/openssl@3/lib/libssl.3.dylib'
Referenced from: '/usr/local/Cellar/wget/1.21.4/bin/wget'
Reason: tried: '/usr/local/opt/openssl@3/lib/libssl.3.dylib' (no such file), '/usr/local/lib/libssl.3.dylib' (no such file), '/usr/lib/libssl.3.dylib' (no such file)
Error in utils::download.file(fileURL, destfile = tmpFile, quiet = TRUE, :
'wget' call had nonzero exit status
dyld[31696]: Library not loaded: '/usr/local/opt/openssl@3/lib/libssl.3.dylib'
Referenced from: '/usr/local/Cellar/wget/1.21.4/bin/wget'
Reason: tried: '/usr/local/opt/openssl@3/lib/libssl.3.dylib' (no such file), '/usr/local/lib/libssl.3.dylib' (no such file), '/usr/lib/libssl.3.dylib' (no such file)
Error in utils::download.file(fileURL, destfile = tmpFile, quiet = TRUE, :
'wget' call had nonzero exit status
dyld[32709]: Library not loaded: '/usr/local/opt/openssl@3/lib/libssl.3.dylib'
Referenced from: '/usr/local/Cellar/wget/1.21.4/bin/wget'
Reason: tried: '/usr/local/opt/openssl@3/lib/libssl.3.dylib' (no such file), '/usr/local/lib/libssl.3.dylib' (no such file), '/usr/lib/libssl.3.dylib' (no such file)
Error in utils::download.file(fileURL, destfile = tmpFile, quiet = TRUE, :
'wget' call had nonzero exit status
dyld[32923]: Library not loaded: '/usr/local/opt/openssl@3/lib/libssl.3.dylib'
Referenced from: '/usr/local/Cellar/wget/1.21.4/bin/wget'
Reason: tried: '/usr/local/opt/openssl@3/lib/libssl.3.dylib' (no such file), '/usr/local/lib/libssl.3.dylib' (no such file), '/usr/lib/libssl.3.dylib' (no such file)
Error in utils::download.file(fileURL, destfile = tmpFile, quiet = TRUE, :
'wget' call had nonzero exit status
dyld[34500]: Library not loaded: '/usr/local/opt/openssl@3/lib/libssl.3.dylib'
Referenced from: '/usr/local/Cellar/wget/1.21.4/bin/wget'
Reason: tried: '/usr/local/opt/openssl@3/lib/libssl.3.dylib' (no such file), '/usr/local/lib/libssl.3.dylib' (no such file), '/usr/lib/libssl.3.dylib' (no such file)
Error in utils::download.file(fileURL, destfile = tmpFile, quiet = TRUE, :
'wget' call had nonzero exit status
dyld[34653]: Library not loaded: '/usr/local/opt/openssl@3/lib/libssl.3.dylib'
Referenced from: '/usr/local/Cellar/wget/1.21.4/bin/wget'
Reason: tried: '/usr/local/opt/openssl@3/lib/libssl.3.dylib' (no such file), '/usr/local/lib/libssl.3.dylib' (no such file), '/usr/lib/libssl.3.dylib' (no such file)
Error in utils::download.file(fileURL, destfile = tmpFile, quiet = TRUE, :
'wget' call had nonzero exit status
dyld[36142]: Library not loaded: '/usr/local/opt/openssl@3/lib/libssl.3.dylib'
Referenced from: '/usr/local/Cellar/wget/1.21.4/bin/wget'
Reason: tried: '/usr/local/opt/openssl@3/lib/libssl.3.dylib' (no such file), '/usr/local/lib/libssl.3.dylib' (no such file), '/usr/lib/libssl.3.dylib' (no such file)
Error in utils::download.file(fileURL, destfile = tmpFile, quiet = TRUE, :
'wget' call had nonzero exit status
dyld[36346]: Library not loaded: '/usr/local/opt/openssl@3/lib/libssl.3.dylib'
Referenced from: '/usr/local/Cellar/wget/1.21.4/bin/wget'
Reason: tried: '/usr/local/opt/openssl@3/lib/libssl.3.dylib' (no such file), '/usr/local/lib/libssl.3.dylib' (no such file), '/usr/lib/libssl.3.dylib' (no such file)
Error in utils::download.file(fileURL, destfile = tmpFile, quiet = TRUE, :
'wget' call had nonzero exit status
dyld[37872]: Library not loaded: '/usr/local/opt/openssl@3/lib/libssl.3.dylib'
Referenced from: '/usr/local/Cellar/wget/1.21.4/bin/wget'
Reason: tried: '/usr/local/opt/openssl@3/lib/libssl.3.dylib' (no such file), '/usr/local/lib/libssl.3.dylib' (no such file), '/usr/lib/libssl.3.dylib' (no such file)
Error in utils::download.file(fileURL, destfile = tmpFile, quiet = TRUE, :
'wget' call had nonzero exit status
dyld[38046]: Library not loaded: '/usr/local/opt/openssl@3/lib/libssl.3.dylib'
Referenced from: '/usr/local/Cellar/wget/1.21.4/bin/wget'
Reason: tried: '/usr/local/opt/openssl@3/lib/libssl.3.dylib' (no such file), '/usr/local/lib/libssl.3.dylib' (no such file), '/usr/lib/libssl.3.dylib' (no such file)
Error in utils::download.file(fileURL, destfile = tmpFile, quiet = TRUE, :
'wget' call had nonzero exit status
dyld[38112]: Library not loaded: '/usr/local/opt/openssl@3/lib/libssl.3.dylib'
Referenced from: '/usr/local/Cellar/wget/1.21.4/bin/wget'
Reason: tried: '/usr/local/opt/openssl@3/lib/libssl.3.dylib' (no such file), '/usr/local/lib/libssl.3.dylib' (no such file), '/usr/lib/libssl.3.dylib' (no such file)
Error in utils::download.file(fileURL, destfile = tmpFile, quiet = TRUE, :
'wget' call had nonzero exit status
dyld[38131]: Library not loaded: '/usr/local/opt/openssl@3/lib/libssl.3.dylib'
Referenced from: '/usr/local/Cellar/wget/1.21.4/bin/wget'
Reason: tried: '/usr/local/opt/openssl@3/lib/libssl.3.dylib' (no such file), '/usr/local/lib/libssl.3.dylib' (no such file), '/usr/lib/libssl.3.dylib' (no such file)
Error in utils::download.file(fileURL, destfile = tmpFile, quiet = TRUE, :
'wget' call had nonzero exit status
dyld[38177]: Library not loaded: '/usr/local/opt/openssl@3/lib/libssl.3.dylib'
Referenced from: '/usr/local/Cellar/wget/1.21.4/bin/wget'
Reason: tried: '/usr/local/opt/openssl@3/lib/libssl.3.dylib' (no such file), '/usr/local/lib/libssl.3.dylib' (no such file), '/usr/lib/libssl.3.dylib' (no such file)
Error in utils::download.file(fileURL, destfile = tmpFile, quiet = TRUE, :
'wget' call had nonzero exit status
dyld[38224]: Library not loaded: '/usr/local/opt/openssl@3/lib/libssl.3.dylib'
Referenced from: '/usr/local/Cellar/wget/1.21.4/bin/wget'
Reason: tried: '/usr/local/opt/openssl@3/lib/libssl.3.dylib' (no such file), '/usr/local/lib/libssl.3.dylib' (no such file), '/usr/lib/libssl.3.dylib' (no such file)
Error in utils::download.file(fileURL, destfile = tmpFile, quiet = TRUE, :
'wget' call had nonzero exit status
dyld[38246]: Library not loaded: '/usr/local/opt/openssl@3/lib/libssl.3.dylib'
Referenced from: '/usr/local/Cellar/wget/1.21.4/bin/wget'
Reason: tried: '/usr/local/opt/openssl@3/lib/libssl.3.dylib' (no such file), '/usr/local/lib/libssl.3.dylib' (no such file), '/usr/lib/libssl.3.dylib' (no such file)
Error in utils::download.file(fileURL, destfile = tmpFile, quiet = TRUE, :
'wget' call had nonzero exit status
dyld[38260]: Library not loaded: '/usr/local/opt/openssl@3/lib/libssl.3.dylib'
Referenced from: '/usr/local/Cellar/wget/1.21.4/bin/wget'
Reason: tried: '/usr/local/opt/openssl@3/lib/libssl.3.dylib' (no such file), '/usr/local/lib/libssl.3.dylib' (no such file), '/usr/lib/libssl.3.dylib' (no such file)
Error in utils::download.file(fileURL, destfile = tmpFile, quiet = TRUE, :
'wget' call had nonzero exit status
dyld[38267]: Library not loaded: '/usr/local/opt/openssl@3/lib/libssl.3.dylib'
Referenced from: '/usr/local/Cellar/wget/1.21.4/bin/wget'
Reason: tried: '/usr/local/opt/openssl@3/lib/libssl.3.dylib' (no such file), '/usr/local/lib/libssl.3.dylib' (no such file), '/usr/lib/libssl.3.dylib' (no such file)
Error in utils::download.file(fileURL, destfile = tmpFile, quiet = TRUE, :
'wget' call had nonzero exit status
dyld[38287]: Library not loaded: '/usr/local/opt/openssl@3/lib/libssl.3.dylib'
Referenced from: '/usr/local/Cellar/wget/1.21.4/bin/wget'
Reason: tried: '/usr/local/opt/openssl@3/lib/libssl.3.dylib' (no such file), '/usr/local/lib/libssl.3.dylib' (no such file), '/usr/lib/libssl.3.dylib' (no such file)
Error in utils::download.file(fileURL, destfile = tmpFile, quiet = TRUE, :
'wget' call had nonzero exit status
dyld[38318]: Library not loaded: '/usr/local/opt/openssl@3/lib/libssl.3.dylib'
Referenced from: '/usr/local/Cellar/wget/1.21.4/bin/wget'
Reason: tried: '/usr/local/opt/openssl@3/lib/libssl.3.dylib' (no such file), '/usr/local/lib/libssl.3.dylib' (no such file), '/usr/lib/libssl.3.dylib' (no such file)
Error in utils::download.file(fileURL, destfile = tmpFile, quiet = TRUE, :
'wget' call had nonzero exit status
dyld[38359]: Library not loaded: '/usr/local/opt/openssl@3/lib/libssl.3.dylib'
Referenced from: '/usr/local/Cellar/wget/1.21.4/bin/wget'
Reason: tried: '/usr/local/opt/openssl@3/lib/libssl.3.dylib' (no such file), '/usr/local/lib/libssl.3.dylib' (no such file), '/usr/lib/libssl.3.dylib' (no such file)
Error in utils::download.file(fileURL, destfile = tmpFile, quiet = TRUE, :
'wget' call had nonzero exit status
dyld[38369]: Library not loaded: '/usr/local/opt/openssl@3/lib/libssl.3.dylib'
Referenced from: '/usr/local/Cellar/wget/1.21.4/bin/wget'
Reason: tried: '/usr/local/opt/openssl@3/lib/libssl.3.dylib' (no such file), '/usr/local/lib/libssl.3.dylib' (no such file), '/usr/lib/libssl.3.dylib' (no such file)
Error in utils::download.file(fileURL, destfile = tmpFile, quiet = TRUE, :
'wget' call had nonzero exit status
dyld[38394]: Library not loaded: '/usr/local/opt/openssl@3/lib/libssl.3.dylib'
Referenced from: '/usr/local/Cellar/wget/1.21.4/bin/wget'
Reason: tried: '/usr/local/opt/openssl@3/lib/libssl.3.dylib' (no such file), '/usr/local/lib/libssl.3.dylib' (no such file), '/usr/lib/libssl.3.dylib' (no such file)
Error in utils::download.file(fileURL, destfile = tmpFile, quiet = TRUE, :
'wget' call had nonzero exit status
dyld[38439]: Library not loaded: '/usr/local/opt/openssl@3/lib/libssl.3.dylib'
Referenced from: '/usr/local/Cellar/wget/1.21.4/bin/wget'
Reason: tried: '/usr/local/opt/openssl@3/lib/libssl.3.dylib' (no such file), '/usr/local/lib/libssl.3.dylib' (no such file), '/usr/lib/libssl.3.dylib' (no such file)
Error in utils::download.file(fileURL, destfile = tmpFile, quiet = TRUE, :
'wget' call had nonzero exit status
dyld[38522]: Library not loaded: '/usr/local/opt/openssl@3/lib/libssl.3.dylib'
Referenced from: '/usr/local/Cellar/wget/1.21.4/bin/wget'
Reason: tried: '/usr/local/opt/openssl@3/lib/libssl.3.dylib' (no such file), '/usr/local/lib/libssl.3.dylib' (no such file), '/usr/lib/libssl.3.dylib' (no such file)
Error in utils::download.file(fileURL, destfile = tmpFile, quiet = TRUE, :
'wget' call had nonzero exit status
dyld[38598]: Library not loaded: '/usr/local/opt/openssl@3/lib/libssl.3.dylib'
Referenced from: '/usr/local/Cellar/wget/1.21.4/bin/wget'
Reason: tried: '/usr/local/opt/openssl@3/lib/libssl.3.dylib' (no such file), '/usr/local/lib/libssl.3.dylib' (no such file), '/usr/lib/libssl.3.dylib' (no such file)
Error in utils::download.file(fileURL, destfile = tmpFile, quiet = TRUE, :
'wget' call had nonzero exit status
dyld[38618]: Library not loaded: '/usr/local/opt/openssl@3/lib/libssl.3.dylib'
Referenced from: '/usr/local/Cellar/wget/1.21.4/bin/wget'
Reason: tried: '/usr/local/opt/openssl@3/lib/libssl.3.dylib' (no such file), '/usr/local/lib/libssl.3.dylib' (no such file), '/usr/lib/libssl.3.dylib' (no such file)
Error in utils::download.file(fileURL, destfile = tmpFile, quiet = TRUE, :
'wget' call had nonzero exit status
dyld[38702]: Library not loaded: '/usr/local/opt/openssl@3/lib/libssl.3.dylib'
Referenced from: '/usr/local/Cellar/wget/1.21.4/bin/wget'
Reason: tried: '/usr/local/opt/openssl@3/lib/libssl.3.dylib' (no such file), '/usr/local/lib/libssl.3.dylib' (no such file), '/usr/lib/libssl.3.dylib' (no such file)
Error in utils::download.file(fileURL, destfile = tmpFile, quiet = TRUE, :
'wget' call had nonzero exit status
dyld[38758]: Library not loaded: '/usr/local/opt/openssl@3/lib/libssl.3.dylib'
Referenced from: '/usr/local/Cellar/wget/1.21.4/bin/wget'
Reason: tried: '/usr/local/opt/openssl@3/lib/libssl.3.dylib' (no such file), '/usr/local/lib/libssl.3.dylib' (no such file), '/usr/lib/libssl.3.dylib' (no such file)
Error in utils::download.file(fileURL, destfile = tmpFile, quiet = TRUE, :
'wget' call had nonzero exit status
dyld[38809]: Library not loaded: '/usr/local/opt/openssl@3/lib/libssl.3.dylib'
Referenced from: '/usr/local/Cellar/wget/1.21.4/bin/wget'
Reason: tried: '/usr/local/opt/openssl@3/lib/libssl.3.dylib' (no such file), '/usr/local/lib/libssl.3.dylib' (no such file), '/usr/lib/libssl.3.dylib' (no such file)
Error in utils::download.file(fileURL, destfile = tmpFile, quiet = TRUE, :
'wget' call had nonzero exit status
dyld[38992]: Library not loaded: '/usr/local/opt/openssl@3/lib/libssl.3.dylib'
Referenced from: '/usr/local/Cellar/wget/1.21.4/bin/wget'
Reason: tried: '/usr/local/opt/openssl@3/lib/libssl.3.dylib' (no such file), '/usr/local/lib/libssl.3.dylib' (no such file), '/usr/lib/libssl.3.dylib' (no such file)
Error in utils::download.file(fileURL, destfile = tmpFile, quiet = TRUE, :
'wget' call had nonzero exit status
dyld[39157]: Library not loaded: '/usr/local/opt/openssl@3/lib/libssl.3.dylib'
Referenced from: '/usr/local/Cellar/wget/1.21.4/bin/wget'
Reason: tried: '/usr/local/opt/openssl@3/lib/libssl.3.dylib' (no such file), '/usr/local/lib/libssl.3.dylib' (no such file), '/usr/lib/libssl.3.dylib' (no such file)
Error in utils::download.file(fileURL, destfile = tmpFile, quiet = TRUE, :
'wget' call had nonzero exit status
dyld[39296]: Library not loaded: '/usr/local/opt/openssl@3/lib/libssl.3.dylib'
Referenced from: '/usr/local/Cellar/wget/1.21.4/bin/wget'
Reason: tried: '/usr/local/opt/openssl@3/lib/libssl.3.dylib' (no such file), '/usr/local/lib/libssl.3.dylib' (no such file), '/usr/lib/libssl.3.dylib' (no such file)
Error in utils::download.file(fileURL, destfile = tmpFile, quiet = TRUE, :
'wget' call had nonzero exit status
dyld[39413]: Library not loaded: '/usr/local/opt/openssl@3/lib/libssl.3.dylib'
Referenced from: '/usr/local/Cellar/wget/1.21.4/bin/wget'
Reason: tried: '/usr/local/opt/openssl@3/lib/libssl.3.dylib' (no such file), '/usr/local/lib/libssl.3.dylib' (no such file), '/usr/lib/libssl.3.dylib' (no such file)
Error in utils::download.file(fileURL, destfile = tmpFile, quiet = TRUE, :
'wget' call had nonzero exit status
dyld[39444]: Library not loaded: '/usr/local/opt/openssl@3/lib/libssl.3.dylib'
Referenced from: '/usr/local/Cellar/wget/1.21.4/bin/wget'
Reason: tried: '/usr/local/opt/openssl@3/lib/libssl.3.dylib' (no such file), '/usr/local/lib/libssl.3.dylib' (no such file), '/usr/lib/libssl.3.dylib' (no such file)
Error in utils::download.file(fileURL, destfile = tmpFile, quiet = TRUE, :
'wget' call had nonzero exit status
dyld[39565]: Library not loaded: '/usr/local/opt/openssl@3/lib/libssl.3.dylib'
Referenced from: '/usr/local/Cellar/wget/1.21.4/bin/wget'
Reason: tried: '/usr/local/opt/openssl@3/lib/libssl.3.dylib' (no such file), '/usr/local/lib/libssl.3.dylib' (no such file), '/usr/lib/libssl.3.dylib' (no such file)
Error in utils::download.file(fileURL, destfile = tmpFile, quiet = TRUE, :
'wget' call had nonzero exit status
dyld[39661]: Library not loaded: '/usr/local/opt/openssl@3/lib/libssl.3.dylib'
Referenced from: '/usr/local/Cellar/wget/1.21.4/bin/wget'
Reason: tried: '/usr/local/opt/openssl@3/lib/libssl.3.dylib' (no such file), '/usr/local/lib/libssl.3.dylib' (no such file), '/usr/lib/libssl.3.dylib' (no such file)
Error in utils::download.file(fileURL, destfile = tmpFile, quiet = TRUE, :
'wget' call had nonzero exit status
dyld[39804]: Library not loaded: '/usr/local/opt/openssl@3/lib/libssl.3.dylib'
Referenced from: '/usr/local/Cellar/wget/1.21.4/bin/wget'
Reason: tried: '/usr/local/opt/openssl@3/lib/libssl.3.dylib' (no such file), '/usr/local/lib/libssl.3.dylib' (no such file), '/usr/lib/libssl.3.dylib' (no such file)
Error in utils::download.file(fileURL, destfile = tmpFile, quiet = TRUE, :
'wget' call had nonzero exit status
dyld[39827]: Library not loaded: '/usr/local/opt/openssl@3/lib/libssl.3.dylib'
Referenced from: '/usr/local/Cellar/wget/1.21.4/bin/wget'
Reason: tried: '/usr/local/opt/openssl@3/lib/libssl.3.dylib' (no such file), '/usr/local/lib/libssl.3.dylib' (no such file), '/usr/lib/libssl.3.dylib' (no such file)
Error in utils::download.file(fileURL, destfile = tmpFile, quiet = TRUE, :
'wget' call had nonzero exit status
dyld[39847]: Library not loaded: '/usr/local/opt/openssl@3/lib/libssl.3.dylib'
Referenced from: '/usr/local/Cellar/wget/1.21.4/bin/wget'
Reason: tried: '/usr/local/opt/openssl@3/lib/libssl.3.dylib' (no such file), '/usr/local/lib/libssl.3.dylib' (no such file), '/usr/lib/libssl.3.dylib' (no such file)
Error in utils::download.file(fileURL, destfile = tmpFile, quiet = TRUE, :
'wget' call had nonzero exit status
dyld[40422]: Library not loaded: '/usr/local/opt/openssl@3/lib/libssl.3.dylib'
Referenced from: '/usr/local/Cellar/wget/1.21.4/bin/wget'
Reason: tried: '/usr/local/opt/openssl@3/lib/libssl.3.dylib' (no such file), '/usr/local/lib/libssl.3.dylib' (no such file), '/usr/lib/libssl.3.dylib' (no such file)
Error in utils::download.file(fileURL, destfile = tmpFile, quiet = TRUE, :
'wget' call had nonzero exit status
dyld[41097]: Library not loaded: '/usr/local/opt/openssl@3/lib/libssl.3.dylib'
Referenced from: '/usr/local/Cellar/wget/1.21.4/bin/wget'
Reason: tried: '/usr/local/opt/openssl@3/lib/libssl.3.dylib' (no such file), '/usr/local/lib/libssl.3.dylib' (no such file), '/usr/lib/libssl.3.dylib' (no such file)
Error in utils::download.file(fileURL, destfile = tmpFile, quiet = TRUE, :
'wget' call had nonzero exit status
dyld[41291]: Library not loaded: '/usr/local/opt/openssl@3/lib/libssl.3.dylib'
Referenced from: '/usr/local/Cellar/wget/1.21.4/bin/wget'
Reason: tried: '/usr/local/opt/openssl@3/lib/libssl.3.dylib' (no such file), '/usr/local/lib/libssl.3.dylib' (no such file), '/usr/lib/libssl.3.dylib' (no such file)
Error in utils::download.file(fileURL, destfile = tmpFile, quiet = TRUE, :
'wget' call had nonzero exit status
dyld[41704]: Library not loaded: '/usr/local/opt/openssl@3/lib/libssl.3.dylib'
Referenced from: '/usr/local/Cellar/wget/1.21.4/bin/wget'
Reason: tried: '/usr/local/opt/openssl@3/lib/libssl.3.dylib' (no such file), '/usr/local/lib/libssl.3.dylib' (no such file), '/usr/lib/libssl.3.dylib' (no such file)
Error in utils::download.file(fileURL, destfile = tmpFile, quiet = TRUE, :
'wget' call had nonzero exit status
dyld[42018]: Library not loaded: '/usr/local/opt/openssl@3/lib/libssl.3.dylib'
Referenced from: '/usr/local/Cellar/wget/1.21.4/bin/wget'
Reason: tried: '/usr/local/opt/openssl@3/lib/libssl.3.dylib' (no such file), '/usr/local/lib/libssl.3.dylib' (no such file), '/usr/lib/libssl.3.dylib' (no such file)
Error in utils::download.file(fileURL, destfile = tmpFile, quiet = TRUE, :
'wget' call had nonzero exit status
dyld[42275]: Library not loaded: '/usr/local/opt/openssl@3/lib/libssl.3.dylib'
Referenced from: '/usr/local/Cellar/wget/1.21.4/bin/wget'
Reason: tried: '/usr/local/opt/openssl@3/lib/libssl.3.dylib' (no such file), '/usr/local/lib/libssl.3.dylib' (no such file), '/usr/lib/libssl.3.dylib' (no such file)
Error in utils::download.file(fileURL, destfile = tmpFile, quiet = TRUE, :
'wget' call had nonzero exit status
dyld[42413]: Library not loaded: '/usr/local/opt/openssl@3/lib/libssl.3.dylib'
Referenced from: '/usr/local/Cellar/wget/1.21.4/bin/wget'
Reason: tried: '/usr/local/opt/openssl@3/lib/libssl.3.dylib' (no such file), '/usr/local/lib/libssl.3.dylib' (no such file), '/usr/lib/libssl.3.dylib' (no such file)
Error in utils::download.file(fileURL, destfile = tmpFile, quiet = TRUE, :
'wget' call had nonzero exit status
dyld[42446]: Library not loaded: '/usr/local/opt/openssl@3/lib/libssl.3.dylib'
Referenced from: '/usr/local/Cellar/wget/1.21.4/bin/wget'
Reason: tried: '/usr/local/opt/openssl@3/lib/libssl.3.dylib' (no such file), '/usr/local/lib/libssl.3.dylib' (no such file), '/usr/lib/libssl.3.dylib' (no such file)
Error in utils::download.file(fileURL, destfile = tmpFile, quiet = TRUE, :
'wget' call had nonzero exit status
dyld[42557]: Library not loaded: '/usr/local/opt/openssl@3/lib/libssl.3.dylib'
Referenced from: '/usr/local/Cellar/wget/1.21.4/bin/wget'
Reason: tried: '/usr/local/opt/openssl@3/lib/libssl.3.dylib' (no such file), '/usr/local/lib/libssl.3.dylib' (no such file), '/usr/lib/libssl.3.dylib' (no such file)
Error in utils::download.file(fileURL, destfile = tmpFile, quiet = TRUE, :
'wget' call had nonzero exit status
dyld[42694]: Library not loaded: '/usr/local/opt/openssl@3/lib/libssl.3.dylib'
Referenced from: '/usr/local/Cellar/wget/1.21.4/bin/wget'
Reason: tried: '/usr/local/opt/openssl@3/lib/libssl.3.dylib' (no such file), '/usr/local/lib/libssl.3.dylib' (no such file), '/usr/lib/libssl.3.dylib' (no such file)
Error in utils::download.file(fileURL, destfile = tmpFile, quiet = TRUE, :
'wget' call had nonzero exit status
dyld[42743]: Library not loaded: '/usr/local/opt/openssl@3/lib/libssl.3.dylib'
Referenced from: '/usr/local/Cellar/wget/1.21.4/bin/wget'
Reason: tried: '/usr/local/opt/openssl@3/lib/libssl.3.dylib' (no such file), '/usr/local/lib/libssl.3.dylib' (no such file), '/usr/lib/libssl.3.dylib' (no such file)
Error in utils::download.file(fileURL, destfile = tmpFile, quiet = TRUE, :
'wget' call had nonzero exit status
dyld[42808]: Library not loaded: '/usr/local/opt/openssl@3/lib/libssl.3.dylib'
Referenced from: '/usr/local/Cellar/wget/1.21.4/bin/wget'
Reason: tried: '/usr/local/opt/openssl@3/lib/libssl.3.dylib' (no such file), '/usr/local/lib/libssl.3.dylib' (no such file), '/usr/lib/libssl.3.dylib' (no such file)
Error in utils::download.file(fileURL, destfile = tmpFile, quiet = TRUE, :
'wget' call had nonzero exit status
dyld[42891]: Library not loaded: '/usr/local/opt/openssl@3/lib/libssl.3.dylib'
Referenced from: '/usr/local/Cellar/wget/1.21.4/bin/wget'
Reason: tried: '/usr/local/opt/openssl@3/lib/libssl.3.dylib' (no such file), '/usr/local/lib/libssl.3.dylib' (no such file), '/usr/lib/libssl.3.dylib' (no such file)
Error in utils::download.file(fileURL, destfile = tmpFile, quiet = TRUE, :
'wget' call had nonzero exit status
dyld[43013]: Library not loaded: '/usr/local/opt/openssl@3/lib/libssl.3.dylib'
Referenced from: '/usr/local/Cellar/wget/1.21.4/bin/wget'
Reason: tried: '/usr/local/opt/openssl@3/lib/libssl.3.dylib' (no such file), '/usr/local/lib/libssl.3.dylib' (no such file), '/usr/lib/libssl.3.dylib' (no such file)
Error in utils::download.file(fileURL, destfile = tmpFile, quiet = TRUE, :
'wget' call had nonzero exit status
dyld[43142]: Library not loaded: '/usr/local/opt/openssl@3/lib/libssl.3.dylib'
Referenced from: '/usr/local/Cellar/wget/1.21.4/bin/wget'
Reason: tried: '/usr/local/opt/openssl@3/lib/libssl.3.dylib' (no such file), '/usr/local/lib/libssl.3.dylib' (no such file), '/usr/lib/libssl.3.dylib' (no such file)
Error in utils::download.file(fileURL, destfile = tmpFile, quiet = TRUE, :
'wget' call had nonzero exit status
dyld[43272]: Library not loaded: '/usr/local/opt/openssl@3/lib/libssl.3.dylib'
Referenced from: '/usr/local/Cellar/wget/1.21.4/bin/wget'
Reason: tried: '/usr/local/opt/openssl@3/lib/libssl.3.dylib' (no such file), '/usr/local/lib/libssl.3.dylib' (no such file), '/usr/lib/libssl.3.dylib' (no such file)
Error in utils::download.file(fileURL, destfile = tmpFile, quiet = TRUE, :
'wget' call had nonzero exit status
dyld[43674]: Library not loaded: '/usr/local/opt/openssl@3/lib/libssl.3.dylib'
Referenced from: '/usr/local/Cellar/wget/1.21.4/bin/wget'
Reason: tried: '/usr/local/opt/openssl@3/lib/libssl.3.dylib' (no such file), '/usr/local/lib/libssl.3.dylib' (no such file), '/usr/lib/libssl.3.dylib' (no such file)
Error in utils::download.file(fileURL, destfile = tmpFile, quiet = TRUE, :
'wget' call had nonzero exit status
dyld[43774]: Library not loaded: '/usr/local/opt/openssl@3/lib/libssl.3.dylib'
Referenced from: '/usr/local/Cellar/wget/1.21.4/bin/wget'
Reason: tried: '/usr/local/opt/openssl@3/lib/libssl.3.dylib' (no such file), '/usr/local/lib/libssl.3.dylib' (no such file), '/usr/lib/libssl.3.dylib' (no such file)
Error in utils::download.file(fileURL, destfile = tmpFile, quiet = TRUE, :
'wget' call had nonzero exit status
dyld[43836]: Library not loaded: '/usr/local/opt/openssl@3/lib/libssl.3.dylib'
Referenced from: '/usr/local/Cellar/wget/1.21.4/bin/wget'
Reason: tried: '/usr/local/opt/openssl@3/lib/libssl.3.dylib' (no such file), '/usr/local/lib/libssl.3.dylib' (no such file), '/usr/lib/libssl.3.dylib' (no such file)
Error in utils::download.file(fileURL, destfile = tmpFile, quiet = TRUE, :
'wget' call had nonzero exit status
dyld[43870]: Library not loaded: '/usr/local/opt/openssl@3/lib/libssl.3.dylib'
Referenced from: '/usr/local/Cellar/wget/1.21.4/bin/wget'
Reason: tried: '/usr/local/opt/openssl@3/lib/libssl.3.dylib' (no such file), '/usr/local/lib/libssl.3.dylib' (no such file), '/usr/lib/libssl.3.dylib' (no such file)
Error in utils::download.file(fileURL, destfile = tmpFile, quiet = TRUE, :
'wget' call had nonzero exit status
dyld[43927]: Library not loaded: '/usr/local/opt/openssl@3/lib/libssl.3.dylib'
Referenced from: '/usr/local/Cellar/wget/1.21.4/bin/wget'
Reason: tried: '/usr/local/opt/openssl@3/lib/libssl.3.dylib' (no such file), '/usr/local/lib/libssl.3.dylib' (no such file), '/usr/lib/libssl.3.dylib' (no such file)
Error in utils::download.file(fileURL, destfile = tmpFile, quiet = TRUE, :
'wget' call had nonzero exit status
dyld[43976]: Library not loaded: '/usr/local/opt/openssl@3/lib/libssl.3.dylib'
Referenced from: '/usr/local/Cellar/wget/1.21.4/bin/wget'
Reason: tried: '/usr/local/opt/openssl@3/lib/libssl.3.dylib' (no such file), '/usr/local/lib/libssl.3.dylib' (no such file), '/usr/lib/libssl.3.dylib' (no such file)
Error in utils::download.file(fileURL, destfile = tmpFile, quiet = TRUE, :
'wget' call had nonzero exit status
dyld[44069]: Library not loaded: '/usr/local/opt/openssl@3/lib/libssl.3.dylib'
Referenced from: '/usr/local/Cellar/wget/1.21.4/bin/wget'
Reason: tried: '/usr/local/opt/openssl@3/lib/libssl.3.dylib' (no such file), '/usr/local/lib/libssl.3.dylib' (no such file), '/usr/lib/libssl.3.dylib' (no such file)
Error in utils::download.file(fileURL, destfile = tmpFile, quiet = TRUE, :
'wget' call had nonzero exit status
dyld[44201]: Library not loaded: '/usr/local/opt/openssl@3/lib/libssl.3.dylib'
Referenced from: '/usr/local/Cellar/wget/1.21.4/bin/wget'
Reason: tried: '/usr/local/opt/openssl@3/lib/libssl.3.dylib' (no such file), '/usr/local/lib/libssl.3.dylib' (no such file), '/usr/lib/libssl.3.dylib' (no such file)
Error in utils::download.file(fileURL, destfile = tmpFile, quiet = TRUE, :
'wget' call had nonzero exit status
dyld[44313]: Library not loaded: '/usr/local/opt/openssl@3/lib/libssl.3.dylib'
Referenced from: '/usr/local/Cellar/wget/1.21.4/bin/wget'
Reason: tried: '/usr/local/opt/openssl@3/lib/libssl.3.dylib' (no such file), '/usr/local/lib/libssl.3.dylib' (no such file), '/usr/lib/libssl.3.dylib' (no such file)
Error in utils::download.file(fileURL, destfile = tmpFile, quiet = TRUE, :
'wget' call had nonzero exit status
dyld[44326]: Library not loaded: '/usr/local/opt/openssl@3/lib/libssl.3.dylib'
Referenced from: '/usr/local/Cellar/wget/1.21.4/bin/wget'
Reason: tried: '/usr/local/opt/openssl@3/lib/libssl.3.dylib' (no such file), '/usr/local/lib/libssl.3.dylib' (no such file), '/usr/lib/libssl.3.dylib' (no such file)
Error in utils::download.file(fileURL, destfile = tmpFile, quiet = TRUE, :
'wget' call had nonzero exit status
dyld[44362]: Library not loaded: '/usr/local/opt/openssl@3/lib/libssl.3.dylib'
Referenced from: '/usr/local/Cellar/wget/1.21.4/bin/wget'
Reason: tried: '/usr/local/opt/openssl@3/lib/libssl.3.dylib' (no such file), '/usr/local/lib/libssl.3.dylib' (no such file), '/usr/lib/libssl.3.dylib' (no such file)
Error in utils::download.file(fileURL, destfile = tmpFile, quiet = TRUE, :
'wget' call had nonzero exit status
dyld[44424]: Library not loaded: '/usr/local/opt/openssl@3/lib/libssl.3.dylib'
Referenced from: '/usr/local/Cellar/wget/1.21.4/bin/wget'
Reason: tried: '/usr/local/opt/openssl@3/lib/libssl.3.dylib' (no such file), '/usr/local/lib/libssl.3.dylib' (no such file), '/usr/lib/libssl.3.dylib' (no such file)
Error in utils::download.file(fileURL, destfile = tmpFile, quiet = TRUE, :
'wget' call had nonzero exit status
dyld[44480]: Library not loaded: '/usr/local/opt/openssl@3/lib/libssl.3.dylib'
Referenced from: '/usr/local/Cellar/wget/1.21.4/bin/wget'
Reason: tried: '/usr/local/opt/openssl@3/lib/libssl.3.dylib' (no such file), '/usr/local/lib/libssl.3.dylib' (no such file), '/usr/lib/libssl.3.dylib' (no such file)
Error in utils::download.file(fileURL, destfile = tmpFile, quiet = TRUE, :
'wget' call had nonzero exit status
dyld[44612]: Library not loaded: '/usr/local/opt/openssl@3/lib/libssl.3.dylib'
Referenced from: '/usr/local/Cellar/wget/1.21.4/bin/wget'
Reason: tried: '/usr/local/opt/openssl@3/lib/libssl.3.dylib' (no such file), '/usr/local/lib/libssl.3.dylib' (no such file), '/usr/lib/libssl.3.dylib' (no such file)
Error in utils::download.file(fileURL, destfile = tmpFile, quiet = TRUE, :
'wget' call had nonzero exit status
dyld[44659]: Library not loaded: '/usr/local/opt/openssl@3/lib/libssl.3.dylib'
Referenced from: '/usr/local/Cellar/wget/1.21.4/bin/wget'
Reason: tried: '/usr/local/opt/openssl@3/lib/libssl.3.dylib' (no such file), '/usr/local/lib/libssl.3.dylib' (no such file), '/usr/lib/libssl.3.dylib' (no such file)
Error in utils::download.file(fileURL, destfile = tmpFile, quiet = TRUE, :
'wget' call had nonzero exit status
dyld[44696]: Library not loaded: '/usr/local/opt/openssl@3/lib/libssl.3.dylib'
Referenced from: '/usr/local/Cellar/wget/1.21.4/bin/wget'
Reason: tried: '/usr/local/opt/openssl@3/lib/libssl.3.dylib' (no such file), '/usr/local/lib/libssl.3.dylib' (no such file), '/usr/lib/libssl.3.dylib' (no such file)
Error in utils::download.file(fileURL, destfile = tmpFile, quiet = TRUE, :
'wget' call had nonzero exit status
dyld[44794]: Library not loaded: '/usr/local/opt/openssl@3/lib/libssl.3.dylib'
Referenced from: '/usr/local/Cellar/wget/1.21.4/bin/wget'
Reason: tried: '/usr/local/opt/openssl@3/lib/libssl.3.dylib' (no such file), '/usr/local/lib/libssl.3.dylib' (no such file), '/usr/lib/libssl.3.dylib' (no such file)
Error in utils::download.file(fileURL, destfile = tmpFile, quiet = TRUE, :
'wget' call had nonzero exit status
dyld[44856]: Library not loaded: '/usr/local/opt/openssl@3/lib/libssl.3.dylib'
Referenced from: '/usr/local/Cellar/wget/1.21.4/bin/wget'
Reason: tried: '/usr/local/opt/openssl@3/lib/libssl.3.dylib' (no such file), '/usr/local/lib/libssl.3.dylib' (no such file), '/usr/lib/libssl.3.dylib' (no such file)
Error in utils::download.file(fileURL, destfile = tmpFile, quiet = TRUE, :
'wget' call had nonzero exit status
dyld[44881]: Library not loaded: '/usr/local/opt/openssl@3/lib/libssl.3.dylib'
Referenced from: '/usr/local/Cellar/wget/1.21.4/bin/wget'
Reason: tried: '/usr/local/opt/openssl@3/lib/libssl.3.dylib' (no such file), '/usr/local/lib/libssl.3.dylib' (no such file), '/usr/lib/libssl.3.dylib' (no such file)
Error in utils::download.file(fileURL, destfile = tmpFile, quiet = TRUE, :
'wget' call had nonzero exit status
dyld[44902]: Library not loaded: '/usr/local/opt/openssl@3/lib/libssl.3.dylib'
Referenced from: '/usr/local/Cellar/wget/1.21.4/bin/wget'
Reason: tried: '/usr/local/opt/openssl@3/lib/libssl.3.dylib' (no such file), '/usr/local/lib/libssl.3.dylib' (no such file), '/usr/lib/libssl.3.dylib' (no such file)
Error in utils::download.file(fileURL, destfile = tmpFile, quiet = TRUE, :
'wget' call had nonzero exit status
dyld[44947]: Library not loaded: '/usr/local/opt/openssl@3/lib/libssl.3.dylib'
Referenced from: '/usr/local/Cellar/wget/1.21.4/bin/wget'
Reason: tried: '/usr/local/opt/openssl@3/lib/libssl.3.dylib' (no such file), '/usr/local/lib/libssl.3.dylib' (no such file), '/usr/lib/libssl.3.dylib' (no such file)
Error in utils::download.file(fileURL, destfile = tmpFile, quiet = TRUE, :
'wget' call had nonzero exit status
Error in read.table(file = file, header = header, sep = sep, quote = quote, :
more columns than column names
Error in TCGAutils::uniformBuilds(x[[ncbi]]) :
Frequency of NA values higher than the cutoff tolerance
Error in TCGAutils::uniformBuilds(x[[ncbi]]) :
Frequency of NA values higher than the cutoff tolerance
Error in read.table(file = file, header = header, sep = sep, quote = quote, :
more columns than column names
Error in read.table(file = file, header = header, sep = sep, quote = quote, :
more columns than column names
Error in validObject(.Object) : invalid class "ExperimentList" object:
Non-unique names provided
Error in TCGAutils::uniformBuilds(x[[ncbi]]) :
Frequency of NA values higher than the cutoff tolerance
dyld[45817]: Library not loaded: '/usr/local/opt/openssl@3/lib/libssl.3.dylib'
Referenced from: '/usr/local/Cellar/wget/1.21.4/bin/wget'
Reason: tried: '/usr/local/opt/openssl@3/lib/libssl.3.dylib' (no such file), '/usr/local/lib/libssl.3.dylib' (no such file), '/usr/lib/libssl.3.dylib' (no such file)
Error in utils::download.file(fileURL, destfile = tmpFile, quiet = TRUE, :
'wget' call had nonzero exit status
dyld[45819]: Library not loaded: '/usr/local/opt/openssl@3/lib/libssl.3.dylib'
Referenced from: '/usr/local/Cellar/wget/1.21.4/bin/wget'
Reason: tried: '/usr/local/opt/openssl@3/lib/libssl.3.dylib' (no such file), '/usr/local/lib/libssl.3.dylib' (no such file), '/usr/lib/libssl.3.dylib' (no such file)
Error in utils::download.file(fileURL, destfile = tmpFile, quiet = TRUE, :
'wget' call had nonzero exit status
dyld[45846]: Library not loaded: '/usr/local/opt/openssl@3/lib/libssl.3.dylib'
Referenced from: '/usr/local/Cellar/wget/1.21.4/bin/wget'
Reason: tried: '/usr/local/opt/openssl@3/lib/libssl.3.dylib' (no such file), '/usr/local/lib/libssl.3.dylib' (no such file), '/usr/lib/libssl.3.dylib' (no such file)
Error in utils::download.file(fileURL, destfile = tmpFile, quiet = TRUE, :
'wget' call had nonzero exit status
dyld[45848]: Library not loaded: '/usr/local/opt/openssl@3/lib/libssl.3.dylib'
Referenced from: '/usr/local/Cellar/wget/1.21.4/bin/wget'
Reason: tried: '/usr/local/opt/openssl@3/lib/libssl.3.dylib' (no such file), '/usr/local/lib/libssl.3.dylib' (no such file), '/usr/lib/libssl.3.dylib' (no such file)
Error in utils::download.file(fileURL, destfile = tmpFile, quiet = TRUE, :
'wget' call had nonzero exit status
dyld[45850]: Library not loaded: '/usr/local/opt/openssl@3/lib/libssl.3.dylib'
Referenced from: '/usr/local/Cellar/wget/1.21.4/bin/wget'
Reason: tried: '/usr/local/opt/openssl@3/lib/libssl.3.dylib' (no such file), '/usr/local/lib/libssl.3.dylib' (no such file), '/usr/lib/libssl.3.dylib' (no such file)
Error in utils::download.file(fileURL, destfile = tmpFile, quiet = TRUE, :
'wget' call had nonzero exit status
dyld[45851]: Library not loaded: '/usr/local/opt/openssl@3/lib/libssl.3.dylib'
Referenced from: '/usr/local/Cellar/wget/1.21.4/bin/wget'
Reason: tried: '/usr/local/opt/openssl@3/lib/libssl.3.dylib' (no such file), '/usr/local/lib/libssl.3.dylib' (no such file), '/usr/lib/libssl.3.dylib' (no such file)
Error in utils::download.file(fileURL, destfile = tmpFile, quiet = TRUE, :
'wget' call had nonzero exit status
dyld[45852]: Library not loaded: '/usr/local/opt/openssl@3/lib/libssl.3.dylib'
Referenced from: '/usr/local/Cellar/wget/1.21.4/bin/wget'
Reason: tried: '/usr/local/opt/openssl@3/lib/libssl.3.dylib' (no such file), '/usr/local/lib/libssl.3.dylib' (no such file), '/usr/lib/libssl.3.dylib' (no such file)
Error in utils::download.file(fileURL, destfile = tmpFile, quiet = TRUE, :
'wget' call had nonzero exit status
dyld[45879]: Library not loaded: '/usr/local/opt/openssl@3/lib/libssl.3.dylib'
Referenced from: '/usr/local/Cellar/wget/1.21.4/bin/wget'
Reason: tried: '/usr/local/opt/openssl@3/lib/libssl.3.dylib' (no such file), '/usr/local/lib/libssl.3.dylib' (no such file), '/usr/lib/libssl.3.dylib' (no such file)
Error in utils::download.file(fileURL, destfile = tmpFile, quiet = TRUE, :
'wget' call had nonzero exit status
dyld[45881]: Library not loaded: '/usr/local/opt/openssl@3/lib/libssl.3.dylib'
Referenced from: '/usr/local/Cellar/wget/1.21.4/bin/wget'
Reason: tried: '/usr/local/opt/openssl@3/lib/libssl.3.dylib' (no such file), '/usr/local/lib/libssl.3.dylib' (no such file), '/usr/lib/libssl.3.dylib' (no such file)
Error in utils::download.file(fileURL, destfile = tmpFile, quiet = TRUE, :
'wget' call had nonzero exit status
dyld[45882]: Library not loaded: '/usr/local/opt/openssl@3/lib/libssl.3.dylib'
Referenced from: '/usr/local/Cellar/wget/1.21.4/bin/wget'
Reason: tried: '/usr/local/opt/openssl@3/lib/libssl.3.dylib' (no such file), '/usr/local/lib/libssl.3.dylib' (no such file), '/usr/lib/libssl.3.dylib' (no such file)
Error in utils::download.file(fileURL, destfile = tmpFile, quiet = TRUE, :
'wget' call had nonzero exit status
dyld[45886]: Library not loaded: '/usr/local/opt/openssl@3/lib/libssl.3.dylib'
Referenced from: '/usr/local/Cellar/wget/1.21.4/bin/wget'
Reason: tried: '/usr/local/opt/openssl@3/lib/libssl.3.dylib' (no such file), '/usr/local/lib/libssl.3.dylib' (no such file), '/usr/lib/libssl.3.dylib' (no such file)
Error in utils::download.file(fileURL, destfile = tmpFile, quiet = TRUE, :
'wget' call had nonzero exit status
dyld[45887]: Library not loaded: '/usr/local/opt/openssl@3/lib/libssl.3.dylib'
Referenced from: '/usr/local/Cellar/wget/1.21.4/bin/wget'
Reason: tried: '/usr/local/opt/openssl@3/lib/libssl.3.dylib' (no such file), '/usr/local/lib/libssl.3.dylib' (no such file), '/usr/lib/libssl.3.dylib' (no such file)
Error in utils::download.file(fileURL, destfile = tmpFile, quiet = TRUE, :
'wget' call had nonzero exit status
dyld[45898]: Library not loaded: '/usr/local/opt/openssl@3/lib/libssl.3.dylib'
Referenced from: '/usr/local/Cellar/wget/1.21.4/bin/wget'
Reason: tried: '/usr/local/opt/openssl@3/lib/libssl.3.dylib' (no such file), '/usr/local/lib/libssl.3.dylib' (no such file), '/usr/lib/libssl.3.dylib' (no such file)
Error in utils::download.file(fileURL, destfile = tmpFile, quiet = TRUE, :
'wget' call had nonzero exit status
dyld[45916]: Library not loaded: '/usr/local/opt/openssl@3/lib/libssl.3.dylib'
Referenced from: '/usr/local/Cellar/wget/1.21.4/bin/wget'
Reason: tried: '/usr/local/opt/openssl@3/lib/libssl.3.dylib' (no such file), '/usr/local/lib/libssl.3.dylib' (no such file), '/usr/lib/libssl.3.dylib' (no such file)
Error in utils::download.file(fileURL, destfile = tmpFile, quiet = TRUE, :
'wget' call had nonzero exit status
dyld[45917]: Library not loaded: '/usr/local/opt/openssl@3/lib/libssl.3.dylib'
Referenced from: '/usr/local/Cellar/wget/1.21.4/bin/wget'
Reason: tried: '/usr/local/opt/openssl@3/lib/libssl.3.dylib' (no such file), '/usr/local/lib/libssl.3.dylib' (no such file), '/usr/lib/libssl.3.dylib' (no such file)
Error in utils::download.file(fileURL, destfile = tmpFile, quiet = TRUE, :
'wget' call had nonzero exit status
dyld[45919]: Library not loaded: '/usr/local/opt/openssl@3/lib/libssl.3.dylib'
Referenced from: '/usr/local/Cellar/wget/1.21.4/bin/wget'
Reason: tried: '/usr/local/opt/openssl@3/lib/libssl.3.dylib' (no such file), '/usr/local/lib/libssl.3.dylib' (no such file), '/usr/lib/libssl.3.dylib' (no such file)
Error in utils::download.file(fileURL, destfile = tmpFile, quiet = TRUE, :
'wget' call had nonzero exit status
dyld[45920]: Library not loaded: '/usr/local/opt/openssl@3/lib/libssl.3.dylib'
Referenced from: '/usr/local/Cellar/wget/1.21.4/bin/wget'
Reason: tried: '/usr/local/opt/openssl@3/lib/libssl.3.dylib' (no such file), '/usr/local/lib/libssl.3.dylib' (no such file), '/usr/lib/libssl.3.dylib' (no such file)
Error in utils::download.file(fileURL, destfile = tmpFile, quiet = TRUE, :
'wget' call had nonzero exit status
dyld[45931]: Library not loaded: '/usr/local/opt/openssl@3/lib/libssl.3.dylib'
Referenced from: '/usr/local/Cellar/wget/1.21.4/bin/wget'
Reason: tried: '/usr/local/opt/openssl@3/lib/libssl.3.dylib' (no such file), '/usr/local/lib/libssl.3.dylib' (no such file), '/usr/lib/libssl.3.dylib' (no such file)
Error in utils::download.file(fileURL, destfile = tmpFile, quiet = TRUE, :
'wget' call had nonzero exit status
dyld[45948]: Library not loaded: '/usr/local/opt/openssl@3/lib/libssl.3.dylib'
Referenced from: '/usr/local/Cellar/wget/1.21.4/bin/wget'
Reason: tried: '/usr/local/opt/openssl@3/lib/libssl.3.dylib' (no such file), '/usr/local/lib/libssl.3.dylib' (no such file), '/usr/lib/libssl.3.dylib' (no such file)
Error in utils::download.file(fileURL, destfile = tmpFile, quiet = TRUE, :
'wget' call had nonzero exit status
dyld[45950]: Library not loaded: '/usr/local/opt/openssl@3/lib/libssl.3.dylib'
Referenced from: '/usr/local/Cellar/wget/1.21.4/bin/wget'
Reason: tried: '/usr/local/opt/openssl@3/lib/libssl.3.dylib' (no such file), '/usr/local/lib/libssl.3.dylib' (no such file), '/usr/lib/libssl.3.dylib' (no such file)
Error in utils::download.file(fileURL, destfile = tmpFile, quiet = TRUE, :
'wget' call had nonzero exit status
dyld[45952]: Library not loaded: '/usr/local/opt/openssl@3/lib/libssl.3.dylib'
Referenced from: '/usr/local/Cellar/wget/1.21.4/bin/wget'
Reason: tried: '/usr/local/opt/openssl@3/lib/libssl.3.dylib' (no such file), '/usr/local/lib/libssl.3.dylib' (no such file), '/usr/lib/libssl.3.dylib' (no such file)
Error in utils::download.file(fileURL, destfile = tmpFile, quiet = TRUE, :
'wget' call had nonzero exit status
dyld[45953]: Library not loaded: '/usr/local/opt/openssl@3/lib/libssl.3.dylib'
Referenced from: '/usr/local/Cellar/wget/1.21.4/bin/wget'
Reason: tried: '/usr/local/opt/openssl@3/lib/libssl.3.dylib' (no such file), '/usr/local/lib/libssl.3.dylib' (no such file), '/usr/lib/libssl.3.dylib' (no such file)
Error in utils::download.file(fileURL, destfile = tmpFile, quiet = TRUE, :
'wget' call had nonzero exit status
dyld[45963]: Library not loaded: '/usr/local/opt/openssl@3/lib/libssl.3.dylib'
Referenced from: '/usr/local/Cellar/wget/1.21.4/bin/wget'
Reason: tried: '/usr/local/opt/openssl@3/lib/libssl.3.dylib' (no such file), '/usr/local/lib/libssl.3.dylib' (no such file), '/usr/lib/libssl.3.dylib' (no such file)
Error in utils::download.file(fileURL, destfile = tmpFile, quiet = TRUE, :
'wget' call had nonzero exit status
dyld[45965]: Library not loaded: '/usr/local/opt/openssl@3/lib/libssl.3.dylib'
Referenced from: '/usr/local/Cellar/wget/1.21.4/bin/wget'
Reason: tried: '/usr/local/opt/openssl@3/lib/libssl.3.dylib' (no such file), '/usr/local/lib/libssl.3.dylib' (no such file), '/usr/lib/libssl.3.dylib' (no such file)
Error in utils::download.file(fileURL, destfile = tmpFile, quiet = TRUE, :
'wget' call had nonzero exit status
dyld[45983]: Library not loaded: '/usr/local/opt/openssl@3/lib/libssl.3.dylib'
Referenced from: '/usr/local/Cellar/wget/1.21.4/bin/wget'
Reason: tried: '/usr/local/opt/openssl@3/lib/libssl.3.dylib' (no such file), '/usr/local/lib/libssl.3.dylib' (no such file), '/usr/lib/libssl.3.dylib' (no such file)
Error in utils::download.file(fileURL, destfile = tmpFile, quiet = TRUE, :
'wget' call had nonzero exit status
dyld[45985]: Library not loaded: '/usr/local/opt/openssl@3/lib/libssl.3.dylib'
Referenced from: '/usr/local/Cellar/wget/1.21.4/bin/wget'
Reason: tried: '/usr/local/opt/openssl@3/lib/libssl.3.dylib' (no such file), '/usr/local/lib/libssl.3.dylib' (no such file), '/usr/lib/libssl.3.dylib' (no such file)
Error in utils::download.file(fileURL, destfile = tmpFile, quiet = TRUE, :
'wget' call had nonzero exit status
dyld[45986]: Library not loaded: '/usr/local/opt/openssl@3/lib/libssl.3.dylib'
Referenced from: '/usr/local/Cellar/wget/1.21.4/bin/wget'
Reason: tried: '/usr/local/opt/openssl@3/lib/libssl.3.dylib' (no such file), '/usr/local/lib/libssl.3.dylib' (no such file), '/usr/lib/libssl.3.dylib' (no such file)
Error in utils::download.file(fileURL, destfile = tmpFile, quiet = TRUE, :
'wget' call had nonzero exit status
dyld[45996]: Library not loaded: '/usr/local/opt/openssl@3/lib/libssl.3.dylib'
Referenced from: '/usr/local/Cellar/wget/1.21.4/bin/wget'
Reason: tried: '/usr/local/opt/openssl@3/lib/libssl.3.dylib' (no such file), '/usr/local/lib/libssl.3.dylib' (no such file), '/usr/lib/libssl.3.dylib' (no such file)
Error in utils::download.file(fileURL, destfile = tmpFile, quiet = TRUE, :
'wget' call had nonzero exit status
dyld[45998]: Library not loaded: '/usr/local/opt/openssl@3/lib/libssl.3.dylib'
Referenced from: '/usr/local/Cellar/wget/1.21.4/bin/wget'
Reason: tried: '/usr/local/opt/openssl@3/lib/libssl.3.dylib' (no such file), '/usr/local/lib/libssl.3.dylib' (no such file), '/usr/lib/libssl.3.dylib' (no such file)
Error in utils::download.file(fileURL, destfile = tmpFile, quiet = TRUE, :
'wget' call had nonzero exit status
dyld[46016]: Library not loaded: '/usr/local/opt/openssl@3/lib/libssl.3.dylib'
Referenced from: '/usr/local/Cellar/wget/1.21.4/bin/wget'
Reason: tried: '/usr/local/opt/openssl@3/lib/libssl.3.dylib' (no such file), '/usr/local/lib/libssl.3.dylib' (no such file), '/usr/lib/libssl.3.dylib' (no such file)
Error in utils::download.file(fileURL, destfile = tmpFile, quiet = TRUE, :
'wget' call had nonzero exit status
dyld[46017]: Library not loaded: '/usr/local/opt/openssl@3/lib/libssl.3.dylib'
Referenced from: '/usr/local/Cellar/wget/1.21.4/bin/wget'
Reason: tried: '/usr/local/opt/openssl@3/lib/libssl.3.dylib' (no such file), '/usr/local/lib/libssl.3.dylib' (no such file), '/usr/lib/libssl.3.dylib' (no such file)
Error in utils::download.file(fileURL, destfile = tmpFile, quiet = TRUE, :
'wget' call had nonzero exit status
dyld[46019]: Library not loaded: '/usr/local/opt/openssl@3/lib/libssl.3.dylib'
Referenced from: '/usr/local/Cellar/wget/1.21.4/bin/wget'
Reason: tried: '/usr/local/opt/openssl@3/lib/libssl.3.dylib' (no such file), '/usr/local/lib/libssl.3.dylib' (no such file), '/usr/lib/libssl.3.dylib' (no such file)
Error in utils::download.file(fileURL, destfile = tmpFile, quiet = TRUE, :
'wget' call had nonzero exit status
dyld[46029]: Library not loaded: '/usr/local/opt/openssl@3/lib/libssl.3.dylib'
Referenced from: '/usr/local/Cellar/wget/1.21.4/bin/wget'
Reason: tried: '/usr/local/opt/openssl@3/lib/libssl.3.dylib' (no such file), '/usr/local/lib/libssl.3.dylib' (no such file), '/usr/lib/libssl.3.dylib' (no such file)
Error in utils::download.file(fileURL, destfile = tmpFile, quiet = TRUE, :
'wget' call had nonzero exit status
dyld[46031]: Library not loaded: '/usr/local/opt/openssl@3/lib/libssl.3.dylib'
Referenced from: '/usr/local/Cellar/wget/1.21.4/bin/wget'
Reason: tried: '/usr/local/opt/openssl@3/lib/libssl.3.dylib' (no such file), '/usr/local/lib/libssl.3.dylib' (no such file), '/usr/lib/libssl.3.dylib' (no such file)
Error in utils::download.file(fileURL, destfile = tmpFile, quiet = TRUE, :
'wget' call had nonzero exit status
dyld[46049]: Library not loaded: '/usr/local/opt/openssl@3/lib/libssl.3.dylib'
Referenced from: '/usr/local/Cellar/wget/1.21.4/bin/wget'
Reason: tried: '/usr/local/opt/openssl@3/lib/libssl.3.dylib' (no such file), '/usr/local/lib/libssl.3.dylib' (no such file), '/usr/lib/libssl.3.dylib' (no such file)
Error in utils::download.file(fileURL, destfile = tmpFile, quiet = TRUE, :
'wget' call had nonzero exit status
dyld[46052]: Library not loaded: '/usr/local/opt/openssl@3/lib/libssl.3.dylib'
Referenced from: '/usr/local/Cellar/wget/1.21.4/bin/wget'
Reason: tried: '/usr/local/opt/openssl@3/lib/libssl.3.dylib' (no such file), '/usr/local/lib/libssl.3.dylib' (no such file), '/usr/lib/libssl.3.dylib' (no such file)
Error in utils::download.file(fileURL, destfile = tmpFile, quiet = TRUE, :
'wget' call had nonzero exit status
dyld[46054]: Library not loaded: '/usr/local/opt/openssl@3/lib/libssl.3.dylib'
Referenced from: '/usr/local/Cellar/wget/1.21.4/bin/wget'
Reason: tried: '/usr/local/opt/openssl@3/lib/libssl.3.dylib' (no such file), '/usr/local/lib/libssl.3.dylib' (no such file), '/usr/lib/libssl.3.dylib' (no such file)
Error in utils::download.file(fileURL, destfile = tmpFile, quiet = TRUE, :
'wget' call had nonzero exit status
dyld[46055]: Library not loaded: '/usr/local/opt/openssl@3/lib/libssl.3.dylib'
Referenced from: '/usr/local/Cellar/wget/1.21.4/bin/wget'
Reason: tried: '/usr/local/opt/openssl@3/lib/libssl.3.dylib' (no such file), '/usr/local/lib/libssl.3.dylib' (no such file), '/usr/lib/libssl.3.dylib' (no such file)
Error in utils::download.file(fileURL, destfile = tmpFile, quiet = TRUE, :
'wget' call had nonzero exit status
dyld[46065]: Library not loaded: '/usr/local/opt/openssl@3/lib/libssl.3.dylib'
Referenced from: '/usr/local/Cellar/wget/1.21.4/bin/wget'
Reason: tried: '/usr/local/opt/openssl@3/lib/libssl.3.dylib' (no such file), '/usr/local/lib/libssl.3.dylib' (no such file), '/usr/lib/libssl.3.dylib' (no such file)
Error in utils::download.file(fileURL, destfile = tmpFile, quiet = TRUE, :
'wget' call had nonzero exit status
dyld[46068]: Library not loaded: '/usr/local/opt/openssl@3/lib/libssl.3.dylib'
Referenced from: '/usr/local/Cellar/wget/1.21.4/bin/wget'
Reason: tried: '/usr/local/opt/openssl@3/lib/libssl.3.dylib' (no such file), '/usr/local/lib/libssl.3.dylib' (no such file), '/usr/lib/libssl.3.dylib' (no such file)
Error in utils::download.file(fileURL, destfile = tmpFile, quiet = TRUE, :
'wget' call had nonzero exit status
dyld[46085]: Library not loaded: '/usr/local/opt/openssl@3/lib/libssl.3.dylib'
Referenced from: '/usr/local/Cellar/wget/1.21.4/bin/wget'
Reason: tried: '/usr/local/opt/openssl@3/lib/libssl.3.dylib' (no such file), '/usr/local/lib/libssl.3.dylib' (no such file), '/usr/lib/libssl.3.dylib' (no such file)
Error in utils::download.file(fileURL, destfile = tmpFile, quiet = TRUE, :
'wget' call had nonzero exit status
dyld[46087]: Library not loaded: '/usr/local/opt/openssl@3/lib/libssl.3.dylib'
Referenced from: '/usr/local/Cellar/wget/1.21.4/bin/wget'
Reason: tried: '/usr/local/opt/openssl@3/lib/libssl.3.dylib' (no such file), '/usr/local/lib/libssl.3.dylib' (no such file), '/usr/lib/libssl.3.dylib' (no such file)
Error in utils::download.file(fileURL, destfile = tmpFile, quiet = TRUE, :
'wget' call had nonzero exit status
dyld[46088]: Library not loaded: '/usr/local/opt/openssl@3/lib/libssl.3.dylib'
Referenced from: '/usr/local/Cellar/wget/1.21.4/bin/wget'
Reason: tried: '/usr/local/opt/openssl@3/lib/libssl.3.dylib' (no such file), '/usr/local/lib/libssl.3.dylib' (no such file), '/usr/lib/libssl.3.dylib' (no such file)
Error in utils::download.file(fileURL, destfile = tmpFile, quiet = TRUE, :
'wget' call had nonzero exit status
dyld[46098]: Library not loaded: '/usr/local/opt/openssl@3/lib/libssl.3.dylib'
Referenced from: '/usr/local/Cellar/wget/1.21.4/bin/wget'
Reason: tried: '/usr/local/opt/openssl@3/lib/libssl.3.dylib' (no such file), '/usr/local/lib/libssl.3.dylib' (no such file), '/usr/lib/libssl.3.dylib' (no such file)
Error in utils::download.file(fileURL, destfile = tmpFile, quiet = TRUE, :
'wget' call had nonzero exit status
dyld[46101]: Library not loaded: '/usr/local/opt/openssl@3/lib/libssl.3.dylib'
Referenced from: '/usr/local/Cellar/wget/1.21.4/bin/wget'
Reason: tried: '/usr/local/opt/openssl@3/lib/libssl.3.dylib' (no such file), '/usr/local/lib/libssl.3.dylib' (no such file), '/usr/lib/libssl.3.dylib' (no such file)
Error in utils::download.file(fileURL, destfile = tmpFile, quiet = TRUE, :
'wget' call had nonzero exit status
dyld[46118]: Library not loaded: '/usr/local/opt/openssl@3/lib/libssl.3.dylib'
Referenced from: '/usr/local/Cellar/wget/1.21.4/bin/wget'
Reason: tried: '/usr/local/opt/openssl@3/lib/libssl.3.dylib' (no such file), '/usr/local/lib/libssl.3.dylib' (no such file), '/usr/lib/libssl.3.dylib' (no such file)
Error in utils::download.file(fileURL, destfile = tmpFile, quiet = TRUE, :
'wget' call had nonzero exit status
dyld[46119]: Library not loaded: '/usr/local/opt/openssl@3/lib/libssl.3.dylib'
Referenced from: '/usr/local/Cellar/wget/1.21.4/bin/wget'
Reason: tried: '/usr/local/opt/openssl@3/lib/libssl.3.dylib' (no such file), '/usr/local/lib/libssl.3.dylib' (no such file), '/usr/lib/libssl.3.dylib' (no such file)
Error in utils::download.file(fileURL, destfile = tmpFile, quiet = TRUE, :
'wget' call had nonzero exit status
dyld[46121]: Library not loaded: '/usr/local/opt/openssl@3/lib/libssl.3.dylib'
Referenced from: '/usr/local/Cellar/wget/1.21.4/bin/wget'
Reason: tried: '/usr/local/opt/openssl@3/lib/libssl.3.dylib' (no such file), '/usr/local/lib/libssl.3.dylib' (no such file), '/usr/lib/libssl.3.dylib' (no such file)
Error in utils::download.file(fileURL, destfile = tmpFile, quiet = TRUE, :
'wget' call had nonzero exit status
dyld[46131]: Library not loaded: '/usr/local/opt/openssl@3/lib/libssl.3.dylib'
Referenced from: '/usr/local/Cellar/wget/1.21.4/bin/wget'
Reason: tried: '/usr/local/opt/openssl@3/lib/libssl.3.dylib' (no such file), '/usr/local/lib/libssl.3.dylib' (no such file), '/usr/lib/libssl.3.dylib' (no such file)
Error in utils::download.file(fileURL, destfile = tmpFile, quiet = TRUE, :
'wget' call had nonzero exit status
dyld[46134]: Library not loaded: '/usr/local/opt/openssl@3/lib/libssl.3.dylib'
Referenced from: '/usr/local/Cellar/wget/1.21.4/bin/wget'
Reason: tried: '/usr/local/opt/openssl@3/lib/libssl.3.dylib' (no such file), '/usr/local/lib/libssl.3.dylib' (no such file), '/usr/lib/libssl.3.dylib' (no such file)
Error in utils::download.file(fileURL, destfile = tmpFile, quiet = TRUE, :
'wget' call had nonzero exit status
dyld[46151]: Library not loaded: '/usr/local/opt/openssl@3/lib/libssl.3.dylib'
Referenced from: '/usr/local/Cellar/wget/1.21.4/bin/wget'
Reason: tried: '/usr/local/opt/openssl@3/lib/libssl.3.dylib' (no such file), '/usr/local/lib/libssl.3.dylib' (no such file), '/usr/lib/libssl.3.dylib' (no such file)
Error in utils::download.file(fileURL, destfile = tmpFile, quiet = TRUE, :
'wget' call had nonzero exit status
dyld[46152]: Library not loaded: '/usr/local/opt/openssl@3/lib/libssl.3.dylib'
Referenced from: '/usr/local/Cellar/wget/1.21.4/bin/wget'
Reason: tried: '/usr/local/opt/openssl@3/lib/libssl.3.dylib' (no such file), '/usr/local/lib/libssl.3.dylib' (no such file), '/usr/lib/libssl.3.dylib' (no such file)
Error in utils::download.file(fileURL, destfile = tmpFile, quiet = TRUE, :
'wget' call had nonzero exit status
dyld[46154]: Library not loaded: '/usr/local/opt/openssl@3/lib/libssl.3.dylib'
Referenced from: '/usr/local/Cellar/wget/1.21.4/bin/wget'
Reason: tried: '/usr/local/opt/openssl@3/lib/libssl.3.dylib' (no such file), '/usr/local/lib/libssl.3.dylib' (no such file), '/usr/lib/libssl.3.dylib' (no such file)
Error in utils::download.file(fileURL, destfile = tmpFile, quiet = TRUE, :
'wget' call had nonzero exit status
dyld[46164]: Library not loaded: '/usr/local/opt/openssl@3/lib/libssl.3.dylib'
Referenced from: '/usr/local/Cellar/wget/1.21.4/bin/wget'
Reason: tried: '/usr/local/opt/openssl@3/lib/libssl.3.dylib' (no such file), '/usr/local/lib/libssl.3.dylib' (no such file), '/usr/lib/libssl.3.dylib' (no such file)
Error in utils::download.file(fileURL, destfile = tmpFile, quiet = TRUE, :
'wget' call had nonzero exit status
dyld[46167]: Library not loaded: '/usr/local/opt/openssl@3/lib/libssl.3.dylib'
Referenced from: '/usr/local/Cellar/wget/1.21.4/bin/wget'
Reason: tried: '/usr/local/opt/openssl@3/lib/libssl.3.dylib' (no such file), '/usr/local/lib/libssl.3.dylib' (no such file), '/usr/lib/libssl.3.dylib' (no such file)
Error in utils::download.file(fileURL, destfile = tmpFile, quiet = TRUE, :
'wget' call had nonzero exit status
dyld[46168]: Library not loaded: '/usr/local/opt/openssl@3/lib/libssl.3.dylib'
Referenced from: '/usr/local/Cellar/wget/1.21.4/bin/wget'
Reason: tried: '/usr/local/opt/openssl@3/lib/libssl.3.dylib' (no such file), '/usr/local/lib/libssl.3.dylib' (no such file), '/usr/lib/libssl.3.dylib' (no such file)
Error in utils::download.file(fileURL, destfile = tmpFile, quiet = TRUE, :
'wget' call had nonzero exit status
dyld[46185]: Library not loaded: '/usr/local/opt/openssl@3/lib/libssl.3.dylib'
Referenced from: '/usr/local/Cellar/wget/1.21.4/bin/wget'
Reason: tried: '/usr/local/opt/openssl@3/lib/libssl.3.dylib' (no such file), '/usr/local/lib/libssl.3.dylib' (no such file), '/usr/lib/libssl.3.dylib' (no such file)
Error in utils::download.file(fileURL, destfile = tmpFile, quiet = TRUE, :
'wget' call had nonzero exit status
dyld[46187]: Library not loaded: '/usr/local/opt/openssl@3/lib/libssl.3.dylib'
Referenced from: '/usr/local/Cellar/wget/1.21.4/bin/wget'
Reason: tried: '/usr/local/opt/openssl@3/lib/libssl.3.dylib' (no such file), '/usr/local/lib/libssl.3.dylib' (no such file), '/usr/lib/libssl.3.dylib' (no such file)
Error in utils::download.file(fileURL, destfile = tmpFile, quiet = TRUE, :
'wget' call had nonzero exit status
dyld[46197]: Library not loaded: '/usr/local/opt/openssl@3/lib/libssl.3.dylib'
Referenced from: '/usr/local/Cellar/wget/1.21.4/bin/wget'
Reason: tried: '/usr/local/opt/openssl@3/lib/libssl.3.dylib' (no such file), '/usr/local/lib/libssl.3.dylib' (no such file), '/usr/lib/libssl.3.dylib' (no such file)
Error in utils::download.file(fileURL, destfile = tmpFile, quiet = TRUE, :
'wget' call had nonzero exit status
dyld[46199]: Library not loaded: '/usr/local/opt/openssl@3/lib/libssl.3.dylib'
Referenced from: '/usr/local/Cellar/wget/1.21.4/bin/wget'
Reason: tried: '/usr/local/opt/openssl@3/lib/libssl.3.dylib' (no such file), '/usr/local/lib/libssl.3.dylib' (no such file), '/usr/lib/libssl.3.dylib' (no such file)
Error in utils::download.file(fileURL, destfile = tmpFile, quiet = TRUE, :
'wget' call had nonzero exit status
dyld[46202]: Library not loaded: '/usr/local/opt/openssl@3/lib/libssl.3.dylib'
Referenced from: '/usr/local/Cellar/wget/1.21.4/bin/wget'
Reason: tried: '/usr/local/opt/openssl@3/lib/libssl.3.dylib' (no such file), '/usr/local/lib/libssl.3.dylib' (no such file), '/usr/lib/libssl.3.dylib' (no such file)
Error in utils::download.file(fileURL, destfile = tmpFile, quiet = TRUE, :
'wget' call had nonzero exit status
dyld[46220]: Library not loaded: '/usr/local/opt/openssl@3/lib/libssl.3.dylib'
Referenced from: '/usr/local/Cellar/wget/1.21.4/bin/wget'
Reason: tried: '/usr/local/opt/openssl@3/lib/libssl.3.dylib' (no such file), '/usr/local/lib/libssl.3.dylib' (no such file), '/usr/lib/libssl.3.dylib' (no such file)
Error in utils::download.file(fileURL, destfile = tmpFile, quiet = TRUE, :
'wget' call had nonzero exit status
Error in validObject(.Object) : invalid class "ExperimentList" object:
Non-unique names provided
Error in TCGAutils::uniformBuilds(x[[ncbi]]) :
Frequency of NA values higher than the cutoff tolerance
dyld[46674]: Library not loaded: '/usr/local/opt/openssl@3/lib/libssl.3.dylib'
Referenced from: '/usr/local/Cellar/wget/1.21.4/bin/wget'
Reason: tried: '/usr/local/opt/openssl@3/lib/libssl.3.dylib' (no such file), '/usr/local/lib/libssl.3.dylib' (no such file), '/usr/lib/libssl.3.dylib' (no such file)
Error in utils::download.file(fileURL, destfile = tmpFile, quiet = TRUE, :
'wget' call had nonzero exit status
dyld[48875]: Library not loaded: '/usr/local/opt/openssl@3/lib/libssl.3.dylib'
Referenced from: '/usr/local/Cellar/wget/1.21.4/bin/wget'
Reason: tried: '/usr/local/opt/openssl@3/lib/libssl.3.dylib' (no such file), '/usr/local/lib/libssl.3.dylib' (no such file), '/usr/lib/libssl.3.dylib' (no such file)
Error in utils::download.file(fileURL, destfile = tmpFile, quiet = TRUE, :
'wget' call had nonzero exit status
dyld[48964]: Library not loaded: '/usr/local/opt/openssl@3/lib/libssl.3.dylib'
Referenced from: '/usr/local/Cellar/wget/1.21.4/bin/wget'
Reason: tried: '/usr/local/opt/openssl@3/lib/libssl.3.dylib' (no such file), '/usr/local/lib/libssl.3.dylib' (no such file), '/usr/lib/libssl.3.dylib' (no such file)
Error in utils::download.file(fileURL, destfile = tmpFile, quiet = TRUE, :
'wget' call had nonzero exit status
dyld[48975]: Library not loaded: '/usr/local/opt/openssl@3/lib/libssl.3.dylib'
Referenced from: '/usr/local/Cellar/wget/1.21.4/bin/wget'
Reason: tried: '/usr/local/opt/openssl@3/lib/libssl.3.dylib' (no such file), '/usr/local/lib/libssl.3.dylib' (no such file), '/usr/lib/libssl.3.dylib' (no such file)
Error in utils::download.file(fileURL, destfile = tmpFile, quiet = TRUE, :
'wget' call had nonzero exit status
dyld[48976]: Library not loaded: '/usr/local/opt/openssl@3/lib/libssl.3.dylib'
Referenced from: '/usr/local/Cellar/wget/1.21.4/bin/wget'
Reason: tried: '/usr/local/opt/openssl@3/lib/libssl.3.dylib' (no such file), '/usr/local/lib/libssl.3.dylib' (no such file), '/usr/lib/libssl.3.dylib' (no such file)
Error in utils::download.file(fileURL, destfile = tmpFile, quiet = TRUE, :
'wget' call had nonzero exit status
dyld[48979]: Library not loaded: '/usr/local/opt/openssl@3/lib/libssl.3.dylib'
Referenced from: '/usr/local/Cellar/wget/1.21.4/bin/wget'
Reason: tried: '/usr/local/opt/openssl@3/lib/libssl.3.dylib' (no such file), '/usr/local/lib/libssl.3.dylib' (no such file), '/usr/lib/libssl.3.dylib' (no such file)
Error in utils::download.file(fileURL, destfile = tmpFile, quiet = TRUE, :
'wget' call had nonzero exit status
dyld[48980]: Library not loaded: '/usr/local/opt/openssl@3/lib/libssl.3.dylib'
Referenced from: '/usr/local/Cellar/wget/1.21.4/bin/wget'
Reason: tried: '/usr/local/opt/openssl@3/lib/libssl.3.dylib' (no such file), '/usr/local/lib/libssl.3.dylib' (no such file), '/usr/lib/libssl.3.dylib' (no such file)
Error in utils::download.file(fileURL, destfile = tmpFile, quiet = TRUE, :
'wget' call had nonzero exit status
dyld[48998]: Library not loaded: '/usr/local/opt/openssl@3/lib/libssl.3.dylib'
Referenced from: '/usr/local/Cellar/wget/1.21.4/bin/wget'
Reason: tried: '/usr/local/opt/openssl@3/lib/libssl.3.dylib' (no such file), '/usr/local/lib/libssl.3.dylib' (no such file), '/usr/lib/libssl.3.dylib' (no such file)
Error in utils::download.file(fileURL, destfile = tmpFile, quiet = TRUE, :
'wget' call had nonzero exit status
dyld[49008]: Library not loaded: '/usr/local/opt/openssl@3/lib/libssl.3.dylib'
Referenced from: '/usr/local/Cellar/wget/1.21.4/bin/wget'
Reason: tried: '/usr/local/opt/openssl@3/lib/libssl.3.dylib' (no such file), '/usr/local/lib/libssl.3.dylib' (no such file), '/usr/lib/libssl.3.dylib' (no such file)
Error in utils::download.file(fileURL, destfile = tmpFile, quiet = TRUE, :
'wget' call had nonzero exit status
dyld[49009]: Library not loaded: '/usr/local/opt/openssl@3/lib/libssl.3.dylib'
Referenced from: '/usr/local/Cellar/wget/1.21.4/bin/wget'
Reason: tried: '/usr/local/opt/openssl@3/lib/libssl.3.dylib' (no such file), '/usr/local/lib/libssl.3.dylib' (no such file), '/usr/lib/libssl.3.dylib' (no such file)
Error in utils::download.file(fileURL, destfile = tmpFile, quiet = TRUE, :
'wget' call had nonzero exit status
dyld[49012]: Library not loaded: '/usr/local/opt/openssl@3/lib/libssl.3.dylib'
Referenced from: '/usr/local/Cellar/wget/1.21.4/bin/wget'
Reason: tried: '/usr/local/opt/openssl@3/lib/libssl.3.dylib' (no such file), '/usr/local/lib/libssl.3.dylib' (no such file), '/usr/lib/libssl.3.dylib' (no such file)
Error in utils::download.file(fileURL, destfile = tmpFile, quiet = TRUE, :
'wget' call had nonzero exit status
dyld[49013]: Library not loaded: '/usr/local/opt/openssl@3/lib/libssl.3.dylib'
Referenced from: '/usr/local/Cellar/wget/1.21.4/bin/wget'
Reason: tried: '/usr/local/opt/openssl@3/lib/libssl.3.dylib' (no such file), '/usr/local/lib/libssl.3.dylib' (no such file), '/usr/lib/libssl.3.dylib' (no such file)
Error in utils::download.file(fileURL, destfile = tmpFile, quiet = TRUE, :
'wget' call had nonzero exit status
dyld[49031]: Library not loaded: '/usr/local/opt/openssl@3/lib/libssl.3.dylib'
Referenced from: '/usr/local/Cellar/wget/1.21.4/bin/wget'
Reason: tried: '/usr/local/opt/openssl@3/lib/libssl.3.dylib' (no such file), '/usr/local/lib/libssl.3.dylib' (no such file), '/usr/lib/libssl.3.dylib' (no such file)
Error in utils::download.file(fileURL, destfile = tmpFile, quiet = TRUE, :
'wget' call had nonzero exit status
dyld[49042]: Library not loaded: '/usr/local/opt/openssl@3/lib/libssl.3.dylib'
Referenced from: '/usr/local/Cellar/wget/1.21.4/bin/wget'
Reason: tried: '/usr/local/opt/openssl@3/lib/libssl.3.dylib' (no such file), '/usr/local/lib/libssl.3.dylib' (no such file), '/usr/lib/libssl.3.dylib' (no such file)
Error in utils::download.file(fileURL, destfile = tmpFile, quiet = TRUE, :
'wget' call had nonzero exit status
dyld[49043]: Library not loaded: '/usr/local/opt/openssl@3/lib/libssl.3.dylib'
Referenced from: '/usr/local/Cellar/wget/1.21.4/bin/wget'
Reason: tried: '/usr/local/opt/openssl@3/lib/libssl.3.dylib' (no such file), '/usr/local/lib/libssl.3.dylib' (no such file), '/usr/lib/libssl.3.dylib' (no such file)
Error in utils::download.file(fileURL, destfile = tmpFile, quiet = TRUE, :
'wget' call had nonzero exit status
dyld[49048]: Library not loaded: '/usr/local/opt/openssl@3/lib/libssl.3.dylib'
Referenced from: '/usr/local/Cellar/wget/1.21.4/bin/wget'
Reason: tried: '/usr/local/opt/openssl@3/lib/libssl.3.dylib' (no such file), '/usr/local/lib/libssl.3.dylib' (no such file), '/usr/lib/libssl.3.dylib' (no such file)
Error in utils::download.file(fileURL, destfile = tmpFile, quiet = TRUE, :
'wget' call had nonzero exit status
dyld[49075]: Library not loaded: '/usr/local/opt/openssl@3/lib/libssl.3.dylib'
Referenced from: '/usr/local/Cellar/wget/1.21.4/bin/wget'
Reason: tried: '/usr/local/opt/openssl@3/lib/libssl.3.dylib' (no such file), '/usr/local/lib/libssl.3.dylib' (no such file), '/usr/lib/libssl.3.dylib' (no such file)
Error in utils::download.file(fileURL, destfile = tmpFile, quiet = TRUE, :
'wget' call had nonzero exit status
dyld[49076]: Library not loaded: '/usr/local/opt/openssl@3/lib/libssl.3.dylib'
Referenced from: '/usr/local/Cellar/wget/1.21.4/bin/wget'
Reason: tried: '/usr/local/opt/openssl@3/lib/libssl.3.dylib' (no such file), '/usr/local/lib/libssl.3.dylib' (no such file), '/usr/lib/libssl.3.dylib' (no such file)
Error in utils::download.file(fileURL, destfile = tmpFile, quiet = TRUE, :
'wget' call had nonzero exit status
dyld[49079]: Library not loaded: '/usr/local/opt/openssl@3/lib/libssl.3.dylib'
Referenced from: '/usr/local/Cellar/wget/1.21.4/bin/wget'
Reason: tried: '/usr/local/opt/openssl@3/lib/libssl.3.dylib' (no such file), '/usr/local/lib/libssl.3.dylib' (no such file), '/usr/lib/libssl.3.dylib' (no such file)
Error in utils::download.file(fileURL, destfile = tmpFile, quiet = TRUE, :
'wget' call had nonzero exit status
dyld[49080]: Library not loaded: '/usr/local/opt/openssl@3/lib/libssl.3.dylib'
Referenced from: '/usr/local/Cellar/wget/1.21.4/bin/wget'
Reason: tried: '/usr/local/opt/openssl@3/lib/libssl.3.dylib' (no such file), '/usr/local/lib/libssl.3.dylib' (no such file), '/usr/lib/libssl.3.dylib' (no such file)
Error in utils::download.file(fileURL, destfile = tmpFile, quiet = TRUE, :
'wget' call had nonzero exit status
dyld[49081]: Library not loaded: '/usr/local/opt/openssl@3/lib/libssl.3.dylib'
Referenced from: '/usr/local/Cellar/wget/1.21.4/bin/wget'
Reason: tried: '/usr/local/opt/openssl@3/lib/libssl.3.dylib' (no such file), '/usr/local/lib/libssl.3.dylib' (no such file), '/usr/lib/libssl.3.dylib' (no such file)
Error in utils::download.file(fileURL, destfile = tmpFile, quiet = TRUE, :
'wget' call had nonzero exit status
dyld[49108]: Library not loaded: '/usr/local/opt/openssl@3/lib/libssl.3.dylib'
Referenced from: '/usr/local/Cellar/wget/1.21.4/bin/wget'
Reason: tried: '/usr/local/opt/openssl@3/lib/libssl.3.dylib' (no such file), '/usr/local/lib/libssl.3.dylib' (no such file), '/usr/lib/libssl.3.dylib' (no such file)
Error in utils::download.file(fileURL, destfile = tmpFile, quiet = TRUE, :
'wget' call had nonzero exit status
dyld[49109]: Library not loaded: '/usr/local/opt/openssl@3/lib/libssl.3.dylib'
Referenced from: '/usr/local/Cellar/wget/1.21.4/bin/wget'
Reason: tried: '/usr/local/opt/openssl@3/lib/libssl.3.dylib' (no such file), '/usr/local/lib/libssl.3.dylib' (no such file), '/usr/lib/libssl.3.dylib' (no such file)
Error in utils::download.file(fileURL, destfile = tmpFile, quiet = TRUE, :
'wget' call had nonzero exit status
dyld[49111]: Library not loaded: '/usr/local/opt/openssl@3/lib/libssl.3.dylib'
Referenced from: '/usr/local/Cellar/wget/1.21.4/bin/wget'
Reason: tried: '/usr/local/opt/openssl@3/lib/libssl.3.dylib' (no such file), '/usr/local/lib/libssl.3.dylib' (no such file), '/usr/lib/libssl.3.dylib' (no such file)
Error in utils::download.file(fileURL, destfile = tmpFile, quiet = TRUE, :
'wget' call had nonzero exit status
dyld[49113]: Library not loaded: '/usr/local/opt/openssl@3/lib/libssl.3.dylib'
Referenced from: '/usr/local/Cellar/wget/1.21.4/bin/wget'
Reason: tried: '/usr/local/opt/openssl@3/lib/libssl.3.dylib' (no such file), '/usr/local/lib/libssl.3.dylib' (no such file), '/usr/lib/libssl.3.dylib' (no such file)
Error in utils::download.file(fileURL, destfile = tmpFile, quiet = TRUE, :
'wget' call had nonzero exit status
dyld[49114]: Library not loaded: '/usr/local/opt/openssl@3/lib/libssl.3.dylib'
Referenced from: '/usr/local/Cellar/wget/1.21.4/bin/wget'
Reason: tried: '/usr/local/opt/openssl@3/lib/libssl.3.dylib' (no such file), '/usr/local/lib/libssl.3.dylib' (no such file), '/usr/lib/libssl.3.dylib' (no such file)
Error in utils::download.file(fileURL, destfile = tmpFile, quiet = TRUE, :
'wget' call had nonzero exit status
dyld[49133]: Library not loaded: '/usr/local/opt/openssl@3/lib/libssl.3.dylib'
Referenced from: '/usr/local/Cellar/wget/1.21.4/bin/wget'
Reason: tried: '/usr/local/opt/openssl@3/lib/libssl.3.dylib' (no such file), '/usr/local/lib/libssl.3.dylib' (no such file), '/usr/lib/libssl.3.dylib' (no such file)
Error in utils::download.file(fileURL, destfile = tmpFile, quiet = TRUE, :
'wget' call had nonzero exit status
dyld[49143]: Library not loaded: '/usr/local/opt/openssl@3/lib/libssl.3.dylib'
Referenced from: '/usr/local/Cellar/wget/1.21.4/bin/wget'
Reason: tried: '/usr/local/opt/openssl@3/lib/libssl.3.dylib' (no such file), '/usr/local/lib/libssl.3.dylib' (no such file), '/usr/lib/libssl.3.dylib' (no such file)
Error in utils::download.file(fileURL, destfile = tmpFile, quiet = TRUE, :
'wget' call had nonzero exit status
dyld[49145]: Library not loaded: '/usr/local/opt/openssl@3/lib/libssl.3.dylib'
Referenced from: '/usr/local/Cellar/wget/1.21.4/bin/wget'
Reason: tried: '/usr/local/opt/openssl@3/lib/libssl.3.dylib' (no such file), '/usr/local/lib/libssl.3.dylib' (no such file), '/usr/lib/libssl.3.dylib' (no such file)
Error in utils::download.file(fileURL, destfile = tmpFile, quiet = TRUE, :
'wget' call had nonzero exit status
dyld[49147]: Library not loaded: '/usr/local/opt/openssl@3/lib/libssl.3.dylib'
Referenced from: '/usr/local/Cellar/wget/1.21.4/bin/wget'
Reason: tried: '/usr/local/opt/openssl@3/lib/libssl.3.dylib' (no such file), '/usr/local/lib/libssl.3.dylib' (no such file), '/usr/lib/libssl.3.dylib' (no such file)
Error in utils::download.file(fileURL, destfile = tmpFile, quiet = TRUE, :
'wget' call had nonzero exit status
dyld[49148]: Library not loaded: '/usr/local/opt/openssl@3/lib/libssl.3.dylib'
Referenced from: '/usr/local/Cellar/wget/1.21.4/bin/wget'
Reason: tried: '/usr/local/opt/openssl@3/lib/libssl.3.dylib' (no such file), '/usr/local/lib/libssl.3.dylib' (no such file), '/usr/lib/libssl.3.dylib' (no such file)
Error in utils::download.file(fileURL, destfile = tmpFile, quiet = TRUE, :
'wget' call had nonzero exit status
dyld[49149]: Library not loaded: '/usr/local/opt/openssl@3/lib/libssl.3.dylib'
Referenced from: '/usr/local/Cellar/wget/1.21.4/bin/wget'
Reason: tried: '/usr/local/opt/openssl@3/lib/libssl.3.dylib' (no such file), '/usr/local/lib/libssl.3.dylib' (no such file), '/usr/lib/libssl.3.dylib' (no such file)
Error in utils::download.file(fileURL, destfile = tmpFile, quiet = TRUE, :
'wget' call had nonzero exit status
dyld[49176]: Library not loaded: '/usr/local/opt/openssl@3/lib/libssl.3.dylib'
Referenced from: '/usr/local/Cellar/wget/1.21.4/bin/wget'
Reason: tried: '/usr/local/opt/openssl@3/lib/libssl.3.dylib' (no such file), '/usr/local/lib/libssl.3.dylib' (no such file), '/usr/lib/libssl.3.dylib' (no such file)
Error in utils::download.file(fileURL, destfile = tmpFile, quiet = TRUE, :
'wget' call had nonzero exit status
dyld[49178]: Library not loaded: '/usr/local/opt/openssl@3/lib/libssl.3.dylib'
Referenced from: '/usr/local/Cellar/wget/1.21.4/bin/wget'
Reason: tried: '/usr/local/opt/openssl@3/lib/libssl.3.dylib' (no such file), '/usr/local/lib/libssl.3.dylib' (no such file), '/usr/lib/libssl.3.dylib' (no such file)
Error in utils::download.file(fileURL, destfile = tmpFile, quiet = TRUE, :
'wget' call had nonzero exit status
dyld[49180]: Library not loaded: '/usr/local/opt/openssl@3/lib/libssl.3.dylib'
Referenced from: '/usr/local/Cellar/wget/1.21.4/bin/wget'
Reason: tried: '/usr/local/opt/openssl@3/lib/libssl.3.dylib' (no such file), '/usr/local/lib/libssl.3.dylib' (no such file), '/usr/lib/libssl.3.dylib' (no such file)
Error in utils::download.file(fileURL, destfile = tmpFile, quiet = TRUE, :
'wget' call had nonzero exit status
dyld[49182]: Library not loaded: '/usr/local/opt/openssl@3/lib/libssl.3.dylib'
Referenced from: '/usr/local/Cellar/wget/1.21.4/bin/wget'
Reason: tried: '/usr/local/opt/openssl@3/lib/libssl.3.dylib' (no such file), '/usr/local/lib/libssl.3.dylib' (no such file), '/usr/lib/libssl.3.dylib' (no such file)
Error in utils::download.file(fileURL, destfile = tmpFile, quiet = TRUE, :
'wget' call had nonzero exit status
dyld[49183]: Library not loaded: '/usr/local/opt/openssl@3/lib/libssl.3.dylib'
Referenced from: '/usr/local/Cellar/wget/1.21.4/bin/wget'
Reason: tried: '/usr/local/opt/openssl@3/lib/libssl.3.dylib' (no such file), '/usr/local/lib/libssl.3.dylib' (no such file), '/usr/lib/libssl.3.dylib' (no such file)
Error in utils::download.file(fileURL, destfile = tmpFile, quiet = TRUE, :
'wget' call had nonzero exit status
dyld[49210]: Library not loaded: '/usr/local/opt/openssl@3/lib/libssl.3.dylib'
Referenced from: '/usr/local/Cellar/wget/1.21.4/bin/wget'
Reason: tried: '/usr/local/opt/openssl@3/lib/libssl.3.dylib' (no such file), '/usr/local/lib/libssl.3.dylib' (no such file), '/usr/lib/libssl.3.dylib' (no such file)
Error in utils::download.file(fileURL, destfile = tmpFile, quiet = TRUE, :
'wget' call had nonzero exit status
dyld[49212]: Library not loaded: '/usr/local/opt/openssl@3/lib/libssl.3.dylib'
Referenced from: '/usr/local/Cellar/wget/1.21.4/bin/wget'
Reason: tried: '/usr/local/opt/openssl@3/lib/libssl.3.dylib' (no such file), '/usr/local/lib/libssl.3.dylib' (no such file), '/usr/lib/libssl.3.dylib' (no such file)
Error in utils::download.file(fileURL, destfile = tmpFile, quiet = TRUE, :
'wget' call had nonzero exit status
dyld[49214]: Library not loaded: '/usr/local/opt/openssl@3/lib/libssl.3.dylib'
Referenced from: '/usr/local/Cellar/wget/1.21.4/bin/wget'
Reason: tried: '/usr/local/opt/openssl@3/lib/libssl.3.dylib' (no such file), '/usr/local/lib/libssl.3.dylib' (no such file), '/usr/lib/libssl.3.dylib' (no such file)
Error in utils::download.file(fileURL, destfile = tmpFile, quiet = TRUE, :
'wget' call had nonzero exit status
dyld[49217]: Library not loaded: '/usr/local/opt/openssl@3/lib/libssl.3.dylib'
Referenced from: '/usr/local/Cellar/wget/1.21.4/bin/wget'
Reason: tried: '/usr/local/opt/openssl@3/lib/libssl.3.dylib' (no such file), '/usr/local/lib/libssl.3.dylib' (no such file), '/usr/lib/libssl.3.dylib' (no such file)
Error in utils::download.file(fileURL, destfile = tmpFile, quiet = TRUE, :
'wget' call had nonzero exit status
dyld[49218]: Library not loaded: '/usr/local/opt/openssl@3/lib/libssl.3.dylib'
Referenced from: '/usr/local/Cellar/wget/1.21.4/bin/wget'
Reason: tried: '/usr/local/opt/openssl@3/lib/libssl.3.dylib' (no such file), '/usr/local/lib/libssl.3.dylib' (no such file), '/usr/lib/libssl.3.dylib' (no such file)
Error in utils::download.file(fileURL, destfile = tmpFile, quiet = TRUE, :
'wget' call had nonzero exit status
dyld[49245]: Library not loaded: '/usr/local/opt/openssl@3/lib/libssl.3.dylib'
Referenced from: '/usr/local/Cellar/wget/1.21.4/bin/wget'
Reason: tried: '/usr/local/opt/openssl@3/lib/libssl.3.dylib' (no such file), '/usr/local/lib/libssl.3.dylib' (no such file), '/usr/lib/libssl.3.dylib' (no such file)
Error in utils::download.file(fileURL, destfile = tmpFile, quiet = TRUE, :
'wget' call had nonzero exit status
dyld[49246]: Library not loaded: '/usr/local/opt/openssl@3/lib/libssl.3.dylib'
Referenced from: '/usr/local/Cellar/wget/1.21.4/bin/wget'
Reason: tried: '/usr/local/opt/openssl@3/lib/libssl.3.dylib' (no such file), '/usr/local/lib/libssl.3.dylib' (no such file), '/usr/lib/libssl.3.dylib' (no such file)
Error in utils::download.file(fileURL, destfile = tmpFile, quiet = TRUE, :
'wget' call had nonzero exit status
dyld[49248]: Library not loaded: '/usr/local/opt/openssl@3/lib/libssl.3.dylib'
Referenced from: '/usr/local/Cellar/wget/1.21.4/bin/wget'
Reason: tried: '/usr/local/opt/openssl@3/lib/libssl.3.dylib' (no such file), '/usr/local/lib/libssl.3.dylib' (no such file), '/usr/lib/libssl.3.dylib' (no such file)
Error in utils::download.file(fileURL, destfile = tmpFile, quiet = TRUE, :
'wget' call had nonzero exit status
dyld[49250]: Library not loaded: '/usr/local/opt/openssl@3/lib/libssl.3.dylib'
Referenced from: '/usr/local/Cellar/wget/1.21.4/bin/wget'
Reason: tried: '/usr/local/opt/openssl@3/lib/libssl.3.dylib' (no such file), '/usr/local/lib/libssl.3.dylib' (no such file), '/usr/lib/libssl.3.dylib' (no such file)
Error in utils::download.file(fileURL, destfile = tmpFile, quiet = TRUE, :
'wget' call had nonzero exit status
dyld[49251]: Library not loaded: '/usr/local/opt/openssl@3/lib/libssl.3.dylib'
Referenced from: '/usr/local/Cellar/wget/1.21.4/bin/wget'
Reason: tried: '/usr/local/opt/openssl@3/lib/libssl.3.dylib' (no such file), '/usr/local/lib/libssl.3.dylib' (no such file), '/usr/lib/libssl.3.dylib' (no such file)
Error in utils::download.file(fileURL, destfile = tmpFile, quiet = TRUE, :
'wget' call had nonzero exit status
dyld[49262]: Library not loaded: '/usr/local/opt/openssl@3/lib/libssl.3.dylib'
Referenced from: '/usr/local/Cellar/wget/1.21.4/bin/wget'
Reason: tried: '/usr/local/opt/openssl@3/lib/libssl.3.dylib' (no such file), '/usr/local/lib/libssl.3.dylib' (no such file), '/usr/lib/libssl.3.dylib' (no such file)
Error in utils::download.file(fileURL, destfile = tmpFile, quiet = TRUE, :
'wget' call had nonzero exit status
dyld[49365]: Library not loaded: '/usr/local/opt/openssl@3/lib/libssl.3.dylib'
Referenced from: '/usr/local/Cellar/wget/1.21.4/bin/wget'
Reason: tried: '/usr/local/opt/openssl@3/lib/libssl.3.dylib' (no such file), '/usr/local/lib/libssl.3.dylib' (no such file), '/usr/lib/libssl.3.dylib' (no such file)
Error in utils::download.file(fileURL, destfile = tmpFile, quiet = TRUE, :
'wget' call had nonzero exit status
dyld[49367]: Library not loaded: '/usr/local/opt/openssl@3/lib/libssl.3.dylib'
Referenced from: '/usr/local/Cellar/wget/1.21.4/bin/wget'
Reason: tried: '/usr/local/opt/openssl@3/lib/libssl.3.dylib' (no such file), '/usr/local/lib/libssl.3.dylib' (no such file), '/usr/lib/libssl.3.dylib' (no such file)
Error in utils::download.file(fileURL, destfile = tmpFile, quiet = TRUE, :
'wget' call had nonzero exit status
dyld[49369]: Library not loaded: '/usr/local/opt/openssl@3/lib/libssl.3.dylib'
Referenced from: '/usr/local/Cellar/wget/1.21.4/bin/wget'
Reason: tried: '/usr/local/opt/openssl@3/lib/libssl.3.dylib' (no such file), '/usr/local/lib/libssl.3.dylib' (no such file), '/usr/lib/libssl.3.dylib' (no such file)
Error in utils::download.file(fileURL, destfile = tmpFile, quiet = TRUE, :
'wget' call had nonzero exit status
dyld[49371]: Library not loaded: '/usr/local/opt/openssl@3/lib/libssl.3.dylib'
Referenced from: '/usr/local/Cellar/wget/1.21.4/bin/wget'
Reason: tried: '/usr/local/opt/openssl@3/lib/libssl.3.dylib' (no such file), '/usr/local/lib/libssl.3.dylib' (no such file), '/usr/lib/libssl.3.dylib' (no such file)
Error in utils::download.file(fileURL, destfile = tmpFile, quiet = TRUE, :
'wget' call had nonzero exit status
dyld[49381]: Library not loaded: '/usr/local/opt/openssl@3/lib/libssl.3.dylib'
Referenced from: '/usr/local/Cellar/wget/1.21.4/bin/wget'
Reason: tried: '/usr/local/opt/openssl@3/lib/libssl.3.dylib' (no such file), '/usr/local/lib/libssl.3.dylib' (no such file), '/usr/lib/libssl.3.dylib' (no such file)
Error in utils::download.file(fileURL, destfile = tmpFile, quiet = TRUE, :
'wget' call had nonzero exit status
dyld[49399]: Library not loaded: '/usr/local/opt/openssl@3/lib/libssl.3.dylib'
Referenced from: '/usr/local/Cellar/wget/1.21.4/bin/wget'
Reason: tried: '/usr/local/opt/openssl@3/lib/libssl.3.dylib' (no such file), '/usr/local/lib/libssl.3.dylib' (no such file), '/usr/lib/libssl.3.dylib' (no such file)
Error in utils::download.file(fileURL, destfile = tmpFile, quiet = TRUE, :
'wget' call had nonzero exit status
dyld[49401]: Library not loaded: '/usr/local/opt/openssl@3/lib/libssl.3.dylib'
Referenced from: '/usr/local/Cellar/wget/1.21.4/bin/wget'
Reason: tried: '/usr/local/opt/openssl@3/lib/libssl.3.dylib' (no such file), '/usr/local/lib/libssl.3.dylib' (no such file), '/usr/lib/libssl.3.dylib' (no such file)
Error in utils::download.file(fileURL, destfile = tmpFile, quiet = TRUE, :
'wget' call had nonzero exit status
dyld[49403]: Library not loaded: '/usr/local/opt/openssl@3/lib/libssl.3.dylib'
Referenced from: '/usr/local/Cellar/wget/1.21.4/bin/wget'
Reason: tried: '/usr/local/opt/openssl@3/lib/libssl.3.dylib' (no such file), '/usr/local/lib/libssl.3.dylib' (no such file), '/usr/lib/libssl.3.dylib' (no such file)
Error in utils::download.file(fileURL, destfile = tmpFile, quiet = TRUE, :
'wget' call had nonzero exit status
dyld[49404]: Library not loaded: '/usr/local/opt/openssl@3/lib/libssl.3.dylib'
Referenced from: '/usr/local/Cellar/wget/1.21.4/bin/wget'
Reason: tried: '/usr/local/opt/openssl@3/lib/libssl.3.dylib' (no such file), '/usr/local/lib/libssl.3.dylib' (no such file), '/usr/lib/libssl.3.dylib' (no such file)
Error in utils::download.file(fileURL, destfile = tmpFile, quiet = TRUE, :
'wget' call had nonzero exit status
dyld[49414]: Library not loaded: '/usr/local/opt/openssl@3/lib/libssl.3.dylib'
Referenced from: '/usr/local/Cellar/wget/1.21.4/bin/wget'
Reason: tried: '/usr/local/opt/openssl@3/lib/libssl.3.dylib' (no such file), '/usr/local/lib/libssl.3.dylib' (no such file), '/usr/lib/libssl.3.dylib' (no such file)
Error in utils::download.file(fileURL, destfile = tmpFile, quiet = TRUE, :
'wget' call had nonzero exit status
dyld[49435]: Library not loaded: '/usr/local/opt/openssl@3/lib/libssl.3.dylib'
Referenced from: '/usr/local/Cellar/wget/1.21.4/bin/wget'
Reason: tried: '/usr/local/opt/openssl@3/lib/libssl.3.dylib' (no such file), '/usr/local/lib/libssl.3.dylib' (no such file), '/usr/lib/libssl.3.dylib' (no such file)
Error in utils::download.file(fileURL, destfile = tmpFile, quiet = TRUE, :
'wget' call had nonzero exit status
dyld[49437]: Library not loaded: '/usr/local/opt/openssl@3/lib/libssl.3.dylib'
Referenced from: '/usr/local/Cellar/wget/1.21.4/bin/wget'
Reason: tried: '/usr/local/opt/openssl@3/lib/libssl.3.dylib' (no such file), '/usr/local/lib/libssl.3.dylib' (no such file), '/usr/lib/libssl.3.dylib' (no such file)
Error in utils::download.file(fileURL, destfile = tmpFile, quiet = TRUE, :
'wget' call had nonzero exit status
dyld[49439]: Library not loaded: '/usr/local/opt/openssl@3/lib/libssl.3.dylib'
Referenced from: '/usr/local/Cellar/wget/1.21.4/bin/wget'
Reason: tried: '/usr/local/opt/openssl@3/lib/libssl.3.dylib' (no such file), '/usr/local/lib/libssl.3.dylib' (no such file), '/usr/lib/libssl.3.dylib' (no such file)
Error in utils::download.file(fileURL, destfile = tmpFile, quiet = TRUE, :
'wget' call had nonzero exit status
dyld[49441]: Library not loaded: '/usr/local/opt/openssl@3/lib/libssl.3.dylib'
Referenced from: '/usr/local/Cellar/wget/1.21.4/bin/wget'
Reason: tried: '/usr/local/opt/openssl@3/lib/libssl.3.dylib' (no such file), '/usr/local/lib/libssl.3.dylib' (no such file), '/usr/lib/libssl.3.dylib' (no such file)
Error in utils::download.file(fileURL, destfile = tmpFile, quiet = TRUE, :
'wget' call had nonzero exit status
dyld[49451]: Library not loaded: '/usr/local/opt/openssl@3/lib/libssl.3.dylib'
Referenced from: '/usr/local/Cellar/wget/1.21.4/bin/wget'
Reason: tried: '/usr/local/opt/openssl@3/lib/libssl.3.dylib' (no such file), '/usr/local/lib/libssl.3.dylib' (no such file), '/usr/lib/libssl.3.dylib' (no such file)
Error in utils::download.file(fileURL, destfile = tmpFile, quiet = TRUE, :
'wget' call had nonzero exit status
Error in read.table(file = file, header = header, sep = sep, quote = quote, :
more columns than column names
Error in read.table(file = file, header = header, sep = sep, quote = quote, :
more columns than column names
dyld[50092]: Library not loaded: '/usr/local/opt/openssl@3/lib/libssl.3.dylib'
Referenced from: '/usr/local/Cellar/wget/1.21.4/bin/wget'
Reason: tried: '/usr/local/opt/openssl@3/lib/libssl.3.dylib' (no such file), '/usr/local/lib/libssl.3.dylib' (no such file), '/usr/lib/libssl.3.dylib' (no such file)
Error in utils::download.file(fileURL, destfile = tmpFile, quiet = TRUE, :
'wget' call had nonzero exit status
dyld[50118]: Library not loaded: '/usr/local/opt/openssl@3/lib/libssl.3.dylib'
Referenced from: '/usr/local/Cellar/wget/1.21.4/bin/wget'
Reason: tried: '/usr/local/opt/openssl@3/lib/libssl.3.dylib' (no such file), '/usr/local/lib/libssl.3.dylib' (no such file), '/usr/lib/libssl.3.dylib' (no such file)
Error in utils::download.file(fileURL, destfile = tmpFile, quiet = TRUE, :
'wget' call had nonzero exit status
dyld[50121]: Library not loaded: '/usr/local/opt/openssl@3/lib/libssl.3.dylib'
Referenced from: '/usr/local/Cellar/wget/1.21.4/bin/wget'
Reason: tried: '/usr/local/opt/openssl@3/lib/libssl.3.dylib' (no such file), '/usr/local/lib/libssl.3.dylib' (no such file), '/usr/lib/libssl.3.dylib' (no such file)
Error in utils::download.file(fileURL, destfile = tmpFile, quiet = TRUE, :
'wget' call had nonzero exit status
dyld[50123]: Library not loaded: '/usr/local/opt/openssl@3/lib/libssl.3.dylib'
Referenced from: '/usr/local/Cellar/wget/1.21.4/bin/wget'
Reason: tried: '/usr/local/opt/openssl@3/lib/libssl.3.dylib' (no such file), '/usr/local/lib/libssl.3.dylib' (no such file), '/usr/lib/libssl.3.dylib' (no such file)
Error in utils::download.file(fileURL, destfile = tmpFile, quiet = TRUE, :
'wget' call had nonzero exit status
dyld[50125]: Library not loaded: '/usr/local/opt/openssl@3/lib/libssl.3.dylib'
Referenced from: '/usr/local/Cellar/wget/1.21.4/bin/wget'
Reason: tried: '/usr/local/opt/openssl@3/lib/libssl.3.dylib' (no such file), '/usr/local/lib/libssl.3.dylib' (no such file), '/usr/lib/libssl.3.dylib' (no such file)
Error in utils::download.file(fileURL, destfile = tmpFile, quiet = TRUE, :
'wget' call had nonzero exit status
dyld[50126]: Library not loaded: '/usr/local/opt/openssl@3/lib/libssl.3.dylib'
Referenced from: '/usr/local/Cellar/wget/1.21.4/bin/wget'
Reason: tried: '/usr/local/opt/openssl@3/lib/libssl.3.dylib' (no such file), '/usr/local/lib/libssl.3.dylib' (no such file), '/usr/lib/libssl.3.dylib' (no such file)
Error in utils::download.file(fileURL, destfile = tmpFile, quiet = TRUE, :
'wget' call had nonzero exit status
dyld[50153]: Library not loaded: '/usr/local/opt/openssl@3/lib/libssl.3.dylib'
Referenced from: '/usr/local/Cellar/wget/1.21.4/bin/wget'
Reason: tried: '/usr/local/opt/openssl@3/lib/libssl.3.dylib' (no such file), '/usr/local/lib/libssl.3.dylib' (no such file), '/usr/lib/libssl.3.dylib' (no such file)
Error in utils::download.file(fileURL, destfile = tmpFile, quiet = TRUE, :
'wget' call had nonzero exit status
dyld[50155]: Library not loaded: '/usr/local/opt/openssl@3/lib/libssl.3.dylib'
Referenced from: '/usr/local/Cellar/wget/1.21.4/bin/wget'
Reason: tried: '/usr/local/opt/openssl@3/lib/libssl.3.dylib' (no such file), '/usr/local/lib/libssl.3.dylib' (no such file), '/usr/lib/libssl.3.dylib' (no such file)
Error in utils::download.file(fileURL, destfile = tmpFile, quiet = TRUE, :
'wget' call had nonzero exit status
dyld[50156]: Library not loaded: '/usr/local/opt/openssl@3/lib/libssl.3.dylib'
Referenced from: '/usr/local/Cellar/wget/1.21.4/bin/wget'
Reason: tried: '/usr/local/opt/openssl@3/lib/libssl.3.dylib' (no such file), '/usr/local/lib/libssl.3.dylib' (no such file), '/usr/lib/libssl.3.dylib' (no such file)
Error in utils::download.file(fileURL, destfile = tmpFile, quiet = TRUE, :
'wget' call had nonzero exit status
dyld[50158]: Library not loaded: '/usr/local/opt/openssl@3/lib/libssl.3.dylib'
Referenced from: '/usr/local/Cellar/wget/1.21.4/bin/wget'
Reason: tried: '/usr/local/opt/openssl@3/lib/libssl.3.dylib' (no such file), '/usr/local/lib/libssl.3.dylib' (no such file), '/usr/lib/libssl.3.dylib' (no such file)
Error in utils::download.file(fileURL, destfile = tmpFile, quiet = TRUE, :
'wget' call had nonzero exit status
dyld[50159]: Library not loaded: '/usr/local/opt/openssl@3/lib/libssl.3.dylib'
Referenced from: '/usr/local/Cellar/wget/1.21.4/bin/wget'
Reason: tried: '/usr/local/opt/openssl@3/lib/libssl.3.dylib' (no such file), '/usr/local/lib/libssl.3.dylib' (no such file), '/usr/lib/libssl.3.dylib' (no such file)
Error in utils::download.file(fileURL, destfile = tmpFile, quiet = TRUE, :
'wget' call had nonzero exit status
dyld[50186]: Library not loaded: '/usr/local/opt/openssl@3/lib/libssl.3.dylib'
Referenced from: '/usr/local/Cellar/wget/1.21.4/bin/wget'
Reason: tried: '/usr/local/opt/openssl@3/lib/libssl.3.dylib' (no such file), '/usr/local/lib/libssl.3.dylib' (no such file), '/usr/lib/libssl.3.dylib' (no such file)
Error in utils::download.file(fileURL, destfile = tmpFile, quiet = TRUE, :
'wget' call had nonzero exit status
dyld[50188]: Library not loaded: '/usr/local/opt/openssl@3/lib/libssl.3.dylib'
Referenced from: '/usr/local/Cellar/wget/1.21.4/bin/wget'
Reason: tried: '/usr/local/opt/openssl@3/lib/libssl.3.dylib' (no such file), '/usr/local/lib/libssl.3.dylib' (no such file), '/usr/lib/libssl.3.dylib' (no such file)
Error in utils::download.file(fileURL, destfile = tmpFile, quiet = TRUE, :
'wget' call had nonzero exit status
dyld[50189]: Library not loaded: '/usr/local/opt/openssl@3/lib/libssl.3.dylib'
Referenced from: '/usr/local/Cellar/wget/1.21.4/bin/wget'
Reason: tried: '/usr/local/opt/openssl@3/lib/libssl.3.dylib' (no such file), '/usr/local/lib/libssl.3.dylib' (no such file), '/usr/lib/libssl.3.dylib' (no such file)
Error in utils::download.file(fileURL, destfile = tmpFile, quiet = TRUE, :
'wget' call had nonzero exit status
dyld[50191]: Library not loaded: '/usr/local/opt/openssl@3/lib/libssl.3.dylib'
Referenced from: '/usr/local/Cellar/wget/1.21.4/bin/wget'
Reason: tried: '/usr/local/opt/openssl@3/lib/libssl.3.dylib' (no such file), '/usr/local/lib/libssl.3.dylib' (no such file), '/usr/lib/libssl.3.dylib' (no such file)
Error in utils::download.file(fileURL, destfile = tmpFile, quiet = TRUE, :
'wget' call had nonzero exit status
dyld[50192]: Library not loaded: '/usr/local/opt/openssl@3/lib/libssl.3.dylib'
Referenced from: '/usr/local/Cellar/wget/1.21.4/bin/wget'
Reason: tried: '/usr/local/opt/openssl@3/lib/libssl.3.dylib' (no such file), '/usr/local/lib/libssl.3.dylib' (no such file), '/usr/lib/libssl.3.dylib' (no such file)
Error in utils::download.file(fileURL, destfile = tmpFile, quiet = TRUE, :
'wget' call had nonzero exit status
dyld[50219]: Library not loaded: '/usr/local/opt/openssl@3/lib/libssl.3.dylib'
Referenced from: '/usr/local/Cellar/wget/1.21.4/bin/wget'
Reason: tried: '/usr/local/opt/openssl@3/lib/libssl.3.dylib' (no such file), '/usr/local/lib/libssl.3.dylib' (no such file), '/usr/lib/libssl.3.dylib' (no such file)
Error in utils::download.file(fileURL, destfile = tmpFile, quiet = TRUE, :
'wget' call had nonzero exit status
dyld[50221]: Library not loaded: '/usr/local/opt/openssl@3/lib/libssl.3.dylib'
Referenced from: '/usr/local/Cellar/wget/1.21.4/bin/wget'
Reason: tried: '/usr/local/opt/openssl@3/lib/libssl.3.dylib' (no such file), '/usr/local/lib/libssl.3.dylib' (no such file), '/usr/lib/libssl.3.dylib' (no such file)
Error in utils::download.file(fileURL, destfile = tmpFile, quiet = TRUE, :
'wget' call had nonzero exit status
Error in .invoke_fun(api, name, use_cache, ...) : Bad Request (HTTP 400).
Error in curl::curl_fetch_memory(url, handle = handle) :
HTTP/2 stream 57 was reset
Error in curl::curl_fetch_memory(url, handle = handle) :
HTTP/2 stream 545 was reset
Error in TCGAutils::uniformBuilds(x[[BCOL]]) :
Frequency of NA values higher than the cutoff tolerance
Error in vec_init(value, nrow * ncol) :
`n` must be a single number, not an integer `NA`.
Error in .checkBarcodes(barcodes) : Barcodes must start with 'TCGA'
Error in .checkBarcodes(barcodes) : Barcodes must start with 'TCGA'
Error in TCGAutils::uniformBuilds(x[[BCOL]]) :
Frequency of NA values higher than the cutoff tolerance
Error in .checkBarcodes(barcodes) : Barcodes must start with 'TCGA'
Error in .invoke_fun(api, name, use_cache, ...) :
Internal Server Error (HTTP 500).
Error in .validateNCBI(build) : Inconsistent build numbers found
Error in .checkFixSampleMap(sampleMap) :
'sampleMap' does not have required columns
Error in .normarg_genome(value, seqnames(x)) :
when the length of the supplied 'genome' vector is not 1, then it must
be equal to the number of sequences
Error in .invoke_fun(api, name, use_cache, ...) : Bad Request (HTTP 400).
Error in .validateNCBI(build) : Inconsistent build numbers found
Error in curl::curl_fetch_memory(url, handle = handle) :
HTTP/2 stream 1947 was reset
[ FAIL 1 | WARN 974 | SKIP 0 | PASS 7 ]
══ Failed tests ════════════════════════════════════════════════════════════════
── Failure ('test_cBioDataPack.R:19:5'): cBioDataPack works on at least 70% of studies ──
successrate > 80 is not TRUE
`actual`: FALSE
`expected`: TRUE
[ FAIL 1 | WARN 974 | SKIP 0 | PASS 7 ]
Error: Test failures
Execution halted
##############################################################################
##############################################################################
###
### Running command:
###
### /Library/Frameworks/R.framework/Resources/bin/R CMD check --test-dir=longtests --no-stop-on-test-error --no-codoc --no-examples --no-manual --ignore-vignettes --check-subdirs=no cBioPortalData_2.16.0.tar.gz
###
##############################################################################
##############################################################################
* using log directory ‘/Users/biocbuild/bbs-3.19-bioc-longtests/meat/cBioPortalData.Rcheck’
* using R version 4.4.0 (2024-04-24)
* using platform: x86_64-apple-darwin20
* R was compiled by
Apple clang version 14.0.0 (clang-1400.0.29.202)
GNU Fortran (GCC) 12.2.0
* running under: macOS Monterey 12.7.1
* using session charset: UTF-8
* using options ‘--no-codoc --no-examples --no-manual --ignore-vignettes --no-stop-on-test-error’
* checking for file ‘cBioPortalData/DESCRIPTION’ ... OK
* this is package ‘cBioPortalData’ version ‘2.16.0’
* package encoding: UTF-8
* checking package namespace information ... OK
* checking package dependencies ... OK
* checking if this is a source package ... OK
* checking if there is a namespace ... OK
* checking for hidden files and directories ... OK
* checking for portable file names ... OK
* checking for sufficient/correct file permissions ... OK
* checking whether package ‘cBioPortalData’ can be installed ... OK
* checking installed package size ... OK
* checking package directory ... OK
* checking DESCRIPTION meta-information ... OK
* checking top-level files ... OK
* checking for left-over files ... OK
* checking index information ... OK
* checking package subdirectories ... OK
* checking code files for non-ASCII characters ... OK
* checking R files for syntax errors ... OK
* checking whether the package can be loaded ... OK
* checking whether the package can be loaded with stated dependencies ... OK
* checking whether the package can be unloaded cleanly ... OK
* checking whether the namespace can be loaded with stated dependencies ... OK
* checking whether the namespace can be unloaded cleanly ... OK
* checking dependencies in R code ... OK
* checking S3 generic/method consistency ... OK
* checking replacement functions ... OK
* checking foreign function calls ... OK
* checking R code for possible problems ... OK
* checking Rd files ... OK
* checking Rd metadata ... OK
* checking Rd cross-references ... OK
* checking for missing documentation entries ... OK
* checking for code/documentation mismatches ... SKIPPED
* checking Rd \usage sections ... OK
* checking Rd contents ... OK
* checking for unstated dependencies in examples ... OK
* checking files in ‘vignettes’ ... SKIPPED
* checking examples ... SKIPPED
* checking for unstated dependencies in ‘longtests’ ... OK
* checking tests in ‘longtests’ ...
Running ‘testthat.R’
ERROR
Running the tests in ‘longtests/testthat.R’ failed.
Last 13 lines of output:
Error in .validateNCBI(build) : Inconsistent build numbers found
Error in curl::curl_fetch_memory(url, handle = handle) :
HTTP/2 stream 1947 was reset
[ FAIL 1 | WARN 974 | SKIP 0 | PASS 7 ]
══ Failed tests ════════════════════════════════════════════════════════════════
── Failure ('test_cBioDataPack.R:19:5'): cBioDataPack works on at least 70% of studies ──
successrate > 80 is not TRUE
`actual`: FALSE
`expected`: TRUE
[ FAIL 1 | WARN 974 | SKIP 0 | PASS 7 ]
Error: Test failures
Execution halted
* DONE
Status: 1 ERROR
See
‘/Users/biocbuild/bbs-3.19-bioc-longtests/meat/cBioPortalData.Rcheck/00check.log’
for details.
cBioPortalData.Rcheck/00install.out
* installing *source* package ‘cBioPortalData’ ... ** using staged installation ** R ** inst ** byte-compile and prepare package for lazy loading ** help *** installing help indices ** building package indices ** installing vignettes ** testing if installed package can be loaded from temporary location ** testing if installed package can be loaded from final location ** testing if installed package keeps a record of temporary installation path * DONE (cBioPortalData)