| Back to Long Tests report for BioC 3.19 |
This page was generated on 2024-10-12 23:55 -0400 (Sat, 12 Oct 2024).
| Hostname | OS | Arch (*) | R version | Installed pkgs |
|---|---|---|---|---|
| nebbiolo1 | Linux (Ubuntu 22.04.3 LTS) | x86_64 | 4.4.1 (2024-06-14) -- "Race for Your Life" | 4763 |
| palomino7 | Windows Server 2022 Datacenter | x64 | 4.4.1 (2024-06-14 ucrt) -- "Race for Your Life" | 4500 |
| merida1 | macOS 12.7.5 Monterey | x86_64 | 4.4.1 (2024-06-14) -- "Race for Your Life" | 4529 |
| Click on any hostname to see more info about the system (e.g. compilers) (*) as reported by 'uname -p', except on Windows and Mac OS X | ||||
| Package 9/33 | Hostname | OS / Arch | CHECK | |||||||
| biodbKegg 1.10.2 (landing page) Pierrick Roger
| nebbiolo1 | Linux (Ubuntu 22.04.3 LTS) / x86_64 | ERROR | |||||||
| palomino7 | Windows Server 2022 Datacenter / x64 | ERROR | ||||||||
| merida1 | macOS 12.7.5 Monterey / x86_64 | ERROR | ||||||||
|
To the developers/maintainers of the biodbKegg package: - Use the following Renviron settings to reproduce errors and warnings. - If 'R CMD check' started to fail recently on the Linux builder(s) over a missing dependency, add the missing dependency to 'Suggests:' in your DESCRIPTION file. See Renviron.bioc for more information. |
| Package: biodbKegg |
| Version: 1.10.2 |
| Command: /home/biocbuild/bbs-3.19-bioc/R/bin/R CMD check --test-dir=longtests --no-stop-on-test-error --no-codoc --no-examples --no-manual --ignore-vignettes --check-subdirs=no biodbKegg_1.10.2.tar.gz |
| StartedAt: 2024-10-12 16:06:10 -0400 (Sat, 12 Oct 2024) |
| EndedAt: 2024-10-12 16:10:56 -0400 (Sat, 12 Oct 2024) |
| EllapsedTime: 286.5 seconds |
| RetCode: 1 |
| Status: ERROR |
| CheckDir: biodbKegg.Rcheck |
| Warnings: NA |
biodbKegg.Rcheck/tests/testthat.Rout.fail
R version 4.4.1 (2024-06-14) -- "Race for Your Life"
Copyright (C) 2024 The R Foundation for Statistical Computing
Platform: x86_64-pc-linux-gnu
R is free software and comes with ABSOLUTELY NO WARRANTY.
You are welcome to redistribute it under certain conditions.
Type 'license()' or 'licence()' for distribution details.
R is a collaborative project with many contributors.
Type 'contributors()' for more information and
'citation()' on how to cite R or R packages in publications.
Type 'demo()' for some demos, 'help()' for on-line help, or
'help.start()' for an HTML browser interface to help.
Type 'q()' to quit R.
> # Script needed to run testthat automatically from ‘R CMD check’. See
> # testthat::test_dir documentation.
> library(testthat)
> library(biodbKegg)
> Sys.setenv(TESTTHAT_REPORTER="summary")
> test_check("biodbKegg")
[ FAIL 4 | WARN 0 | SKIP 0 | PASS 1831 ]
══ Failed tests ════════════════════════════════════════════════════════════════
── Failure ('test_long_100_compound.R:16:1'): We can search for an entry by searchable field ──
c(C00133 = "C00133") %in% "C00041" is not TRUE
`actual`: FALSE
`expected`: TRUE
Backtrace:
▆
1. ├─base::do.call(fct, params)
2. └─biodb (local) `<fn>`(conn = `<KggCmpnC>`, opt = `<named list>`)
3. └─testthat::expect_true(!!id %in% !!ids)
── Failure ('test_long_100_compound.R:16:1'): We can search for an entry by name. ──
id %in% ids is not TRUE
`actual`: FALSE
`expected`: TRUE
While searching for entry C00133 by name "D-Alanine".
Backtrace:
▆
1. ├─base::do.call(fct, params)
2. └─biodb (local) `<fn>`(conn = `<KggCmpnC>`, opt = `<named list>`)
3. └─testthat::expect_true(id %in% ids, msg)
── Failure ('test_long_100_compound.R:16:1'): We can search for a compound ─────
id %in% ids is not TRUE
`actual`: FALSE
`expected`: TRUE
While searching for entry C00133 by name "D-Alanine".
Backtrace:
▆
1. ├─base::do.call(fct, params)
2. └─biodb (local) `<fn>`(db = `<KggCmpnC>`, opt = `<named list>`)
3. └─testthat::expect_true(id %in% ids, msg)
── Failure ('test_long_100_compound.R:16:1'): ppm tolerance works in annotateMzValues() ──
any(is.na(ret[[id.col]])) is not FALSE
`actual`: TRUE
`expected`: FALSE
Backtrace:
▆
1. ├─base::do.call(fct, params)
2. └─biodb (local) `<fn>`(conn = `<KggCmpnC>`, opt = `<named list>`)
3. └─testthat::expect_false(any(is.na(ret[[id.col]])))
[ FAIL 4 | WARN 0 | SKIP 0 | PASS 1831 ]
Error: Test failures
Execution halted
##############################################################################
##############################################################################
###
### Running command:
###
### /home/biocbuild/bbs-3.19-bioc/R/bin/R CMD check --test-dir=longtests --no-stop-on-test-error --no-codoc --no-examples --no-manual --ignore-vignettes --check-subdirs=no biodbKegg_1.10.2.tar.gz
###
##############################################################################
##############################################################################
* using log directory ‘/home/biocbuild/bbs-3.19-bioc-longtests/meat/biodbKegg.Rcheck’
* using R version 4.4.1 (2024-06-14)
* using platform: x86_64-pc-linux-gnu
* R was compiled by
gcc (Ubuntu 11.4.0-1ubuntu1~22.04) 11.4.0
GNU Fortran (Ubuntu 11.4.0-1ubuntu1~22.04) 11.4.0
* running under: Ubuntu 22.04.5 LTS
* using session charset: UTF-8
* using options ‘--no-codoc --no-examples --no-manual --ignore-vignettes --no-stop-on-test-error’
* checking for file ‘biodbKegg/DESCRIPTION’ ... OK
* this is package ‘biodbKegg’ version ‘1.10.2’
* package encoding: UTF-8
* checking package namespace information ... OK
* checking package dependencies ... OK
* checking if this is a source package ... OK
* checking if there is a namespace ... OK
* checking for hidden files and directories ... OK
* checking for portable file names ... OK
* checking for sufficient/correct file permissions ... OK
* checking whether package ‘biodbKegg’ can be installed ... OK
* checking installed package size ... OK
* checking package directory ... OK
* checking DESCRIPTION meta-information ... OK
* checking top-level files ... OK
* checking for left-over files ... OK
* checking index information ... OK
* checking package subdirectories ... OK
* checking code files for non-ASCII characters ... OK
* checking R files for syntax errors ... OK
* checking whether the package can be loaded ... OK
* checking whether the package can be loaded with stated dependencies ... OK
* checking whether the package can be unloaded cleanly ... OK
* checking whether the namespace can be loaded with stated dependencies ... OK
* checking whether the namespace can be unloaded cleanly ... OK
* checking loading without being on the library search path ... OK
* checking dependencies in R code ... OK
* checking S3 generic/method consistency ... OK
* checking replacement functions ... OK
* checking foreign function calls ... OK
* checking R code for possible problems ... OK
* checking Rd files ... OK
* checking Rd metadata ... OK
* checking Rd cross-references ... OK
* checking for missing documentation entries ... OK
* checking for code/documentation mismatches ... SKIPPED
* checking Rd \usage sections ... OK
* checking Rd contents ... OK
* checking for unstated dependencies in examples ... OK
* checking files in ‘vignettes’ ... SKIPPED
* checking examples ... SKIPPED
* checking for unstated dependencies in ‘longtests’ ... OK
* checking tests in ‘longtests’ ...
Running ‘testthat.R’
ERROR
Running the tests in ‘longtests/testthat.R’ failed.
Last 13 lines of output:
3. └─testthat::expect_true(id %in% ids, msg)
── Failure ('test_long_100_compound.R:16:1'): ppm tolerance works in annotateMzValues() ──
any(is.na(ret[[id.col]])) is not FALSE
`actual`: TRUE
`expected`: FALSE
Backtrace:
▆
1. ├─base::do.call(fct, params)
2. └─biodb (local) `<fn>`(conn = `<KggCmpnC>`, opt = `<named list>`)
3. └─testthat::expect_false(any(is.na(ret[[id.col]])))
[ FAIL 4 | WARN 0 | SKIP 0 | PASS 1831 ]
Error: Test failures
Execution halted
* DONE
Status: 1 ERROR
See
‘/home/biocbuild/bbs-3.19-bioc-longtests/meat/biodbKegg.Rcheck/00check.log’
for details.
biodbKegg.Rcheck/00install.out
* installing *source* package ‘biodbKegg’ ... ** using staged installation ** R ** inst ** byte-compile and prepare package for lazy loading ** help *** installing help indices ** building package indices ** installing vignettes ** testing if installed package can be loaded from temporary location ** testing if installed package can be loaded from final location ** testing if installed package keeps a record of temporary installation path * DONE (biodbKegg)