| Back to Multiple platform build/check report for BioC 3.19: simplified long | 
 | 
This page was generated on 2024-10-18 20:43 -0400 (Fri, 18 Oct 2024).
| Hostname | OS | Arch (*) | R version | Installed pkgs | 
|---|---|---|---|---|
| nebbiolo1 | Linux (Ubuntu 22.04.3 LTS) | x86_64 | 4.4.1 (2024-06-14) -- "Race for Your Life" | 4763 | 
| palomino7 | Windows Server 2022 Datacenter | x64 | 4.4.1 (2024-06-14 ucrt) -- "Race for Your Life" | 4500 | 
| merida1 | macOS 12.7.5 Monterey | x86_64 | 4.4.1 (2024-06-14) -- "Race for Your Life" | 4530 | 
| kjohnson1 | macOS 13.6.6 Ventura | arm64 | 4.4.1 (2024-06-14) -- "Race for Your Life" | 4480 | 
| Click on any hostname to see more info about the system (e.g. compilers) (*) as reported by 'uname -p', except on Windows and Mac OS X | ||||
| Package 2295/2300 | Hostname | OS / Arch | INSTALL | BUILD | CHECK | BUILD BIN | ||||||||
| zellkonverter 1.14.1  (landing page) Luke Zappia 
 | nebbiolo1 | Linux (Ubuntu 22.04.3 LTS) / x86_64 | OK | OK | OK |  | ||||||||
| palomino7 | Windows Server 2022 Datacenter / x64 | OK | ERROR | skipped | skipped | |||||||||
| merida1 | macOS 12.7.5 Monterey / x86_64 | OK | OK | OK | OK |  | ||||||||
| kjohnson1 | macOS 13.6.6 Ventura / arm64 | OK | OK | OK | NA | |||||||||
| To the developers/maintainers of the zellkonverter package: - Allow up to 24 hours (and sometimes 48 hours) for your latest push to git@git.bioconductor.org:packages/zellkonverter.git to reflect on this report. See Troubleshooting Build Report for more information. - Use the following Renviron settings to reproduce errors and warnings. - If 'R CMD check' started to fail recently on the Linux builder(s) over a missing dependency, add the missing dependency to 'Suggests:' in your DESCRIPTION file. See Renviron.bioc for more information. | 
| Package: zellkonverter | 
| Version: 1.14.1 | 
| Command: /Library/Frameworks/R.framework/Resources/bin/R CMD check --install=check:zellkonverter.install-out.txt --library=/Library/Frameworks/R.framework/Resources/library --no-vignettes --timings zellkonverter_1.14.1.tar.gz | 
| StartedAt: 2024-10-18 16:57:18 -0400 (Fri, 18 Oct 2024) | 
| EndedAt: 2024-10-18 17:07:31 -0400 (Fri, 18 Oct 2024) | 
| EllapsedTime: 613.9 seconds | 
| RetCode: 0 | 
| Status: OK | 
| CheckDir: zellkonverter.Rcheck | 
| Warnings: 0 | 
##############################################################################
##############################################################################
###
### Running command:
###
###   /Library/Frameworks/R.framework/Resources/bin/R CMD check --install=check:zellkonverter.install-out.txt --library=/Library/Frameworks/R.framework/Resources/library --no-vignettes --timings zellkonverter_1.14.1.tar.gz
###
##############################################################################
##############################################################################
* using log directory ‘/Users/biocbuild/bbs-3.19-bioc/meat/zellkonverter.Rcheck’
* using R version 4.4.1 (2024-06-14)
* using platform: aarch64-apple-darwin20
* R was compiled by
    Apple clang version 14.0.0 (clang-1400.0.29.202)
    GNU Fortran (GCC) 12.2.0
* running under: macOS Ventura 13.6.6
* using session charset: UTF-8
* using option ‘--no-vignettes’
* checking for file ‘zellkonverter/DESCRIPTION’ ... OK
* this is package ‘zellkonverter’ version ‘1.14.1’
* package encoding: UTF-8
* checking package namespace information ... OK
* checking package dependencies ... OK
* checking if this is a source package ... OK
* checking if there is a namespace ... OK
* checking for hidden files and directories ... OK
* checking for portable file names ... OK
* checking for sufficient/correct file permissions ... OK
* checking whether package ‘zellkonverter’ can be installed ... NOTE
Found the following notes/warnings:
  Non-staged installation was used
See ‘/Users/biocbuild/bbs-3.19-bioc/meat/zellkonverter.Rcheck/00install.out’ for details.
* checking installed package size ... OK
* checking package directory ... OK
* checking ‘build’ directory ... OK
* checking DESCRIPTION meta-information ... OK
* checking top-level files ... OK
* checking for left-over files ... OK
* checking index information ... OK
* checking package subdirectories ... OK
* checking code files for non-ASCII characters ... OK
* checking R files for syntax errors ... OK
* checking whether the package can be loaded ... OK
* checking whether the package can be loaded with stated dependencies ... OK
* checking whether the package can be unloaded cleanly ... OK
* checking whether the namespace can be loaded with stated dependencies ... OK
* checking whether the namespace can be unloaded cleanly ... OK
* checking dependencies in R code ... OK
* checking S3 generic/method consistency ... OK
* checking replacement functions ... OK
* checking foreign function calls ... OK
* checking R code for possible problems ... OK
* checking Rd files ... OK
* checking Rd metadata ... OK
* checking Rd cross-references ... OK
* checking for missing documentation entries ... OK
* checking for code/documentation mismatches ... OK
* checking Rd \usage sections ... OK
* checking Rd contents ... OK
* checking for unstated dependencies in examples ... OK
* checking line endings in shell scripts ... OK
* checking files in ‘vignettes’ ... OK
* checking examples ... OK
Examples with CPU (user + system) or elapsed time > 5s
                     user system elapsed
AnnData-Conversion 29.776  3.837  36.192
writeH5AD           3.495  0.537   6.449
* checking for unstated dependencies in ‘tests’ ... OK
* checking tests ...
  Running ‘spelling.R’
  Running ‘testthat.R’
 OK
* checking for unstated dependencies in vignettes ... OK
* checking package vignettes ... OK
* checking running R code from vignettes ... SKIPPED
* checking re-building of vignette outputs ... SKIPPED
* checking PDF version of manual ... OK
* DONE
Status: 1 NOTE
See
  ‘/Users/biocbuild/bbs-3.19-bioc/meat/zellkonverter.Rcheck/00check.log’
for details.
zellkonverter.Rcheck/00install.out
############################################################################## ############################################################################## ### ### Running command: ### ### /Library/Frameworks/R.framework/Resources/bin/R CMD INSTALL zellkonverter ### ############################################################################## ############################################################################## * installing to library ‘/Library/Frameworks/R.framework/Versions/4.4-arm64/Resources/library’ * installing *source* package ‘zellkonverter’ ... ** using non-staged installation via StagedInstall field ** R ** inst ** byte-compile and prepare package for lazy loading ** help *** installing help indices *** copying figures ** building package indices ** installing vignettes ** testing if installed package can be loaded * DONE (zellkonverter)
zellkonverter.Rcheck/tests/spelling.Rout
R version 4.4.1 (2024-06-14) -- "Race for Your Life"
Copyright (C) 2024 The R Foundation for Statistical Computing
Platform: aarch64-apple-darwin20
R is free software and comes with ABSOLUTELY NO WARRANTY.
You are welcome to redistribute it under certain conditions.
Type 'license()' or 'licence()' for distribution details.
R is a collaborative project with many contributors.
Type 'contributors()' for more information and
'citation()' on how to cite R or R packages in publications.
Type 'demo()' for some demos, 'help()' for on-line help, or
'help.start()' for an HTML browser interface to help.
Type 'q()' to quit R.
> if (requireNamespace("spelling", quietly = TRUE)) {
+     spelling::spell_check_test(
+         vignettes = TRUE,
+         error = FALSE,
+         skip_on_cran = TRUE
+     )
+ }
NULL
> 
> proc.time()
   user  system elapsed 
  0.141   0.045   0.393 
zellkonverter.Rcheck/tests/testthat.Rout
R version 4.4.1 (2024-06-14) -- "Race for Your Life"
Copyright (C) 2024 The R Foundation for Statistical Computing
Platform: aarch64-apple-darwin20
R is free software and comes with ABSOLUTELY NO WARRANTY.
You are welcome to redistribute it under certain conditions.
Type 'license()' or 'licence()' for distribution details.
R is a collaborative project with many contributors.
Type 'contributors()' for more information and
'citation()' on how to cite R or R packages in publications.
Type 'demo()' for some demos, 'help()' for on-line help, or
'help.start()' for an HTML browser interface to help.
Type 'q()' to quit R.
> library(testthat)
> library(zellkonverter)
Registered S3 method overwritten by 'zellkonverter':
  method                                             from      
  py_to_r.pandas.core.arrays.categorical.Categorical reticulate
> 
> test_check("zellkonverter")
/Users/biocbuild/Library/Caches/org.R-project.R/R/basilisk/1.16.0/zellkonverter/1.14.1/zellkonverterAnnDataEnv-0.10.6/lib/python3.12/site-packages/anndata/_core/anndata.py:430: FutureWarning: The dtype argument is deprecated and will be removed in late 2024.
  warnings.warn(
/Users/biocbuild/Library/Caches/org.R-project.R/R/basilisk/1.16.0/zellkonverter/1.14.1/zellkonverterAnnDataEnv-0.10.6/lib/python3.12/site-packages/anndata/_core/anndata.py:430: FutureWarning: The dtype argument is deprecated and will be removed in late 2024.
  warnings.warn(
/Users/biocbuild/Library/Caches/org.R-project.R/R/basilisk/1.16.0/zellkonverter/1.14.1/zellkonverterAnnDataEnv-0.10.2/lib/python3.11/site-packages/anndata/_core/anndata.py:522: FutureWarning: The dtype argument is deprecated and will be removed in late 2024.
  warnings.warn(
/Users/biocbuild/Library/Caches/org.R-project.R/R/basilisk/1.16.0/zellkonverter/1.14.1/zellkonverterAnnDataEnv-0.10.6/lib/python3.12/site-packages/anndata/_core/anndata.py:430: FutureWarning: The dtype argument is deprecated and will be removed in late 2024.
  warnings.warn(
/Users/biocbuild/Library/Caches/org.R-project.R/R/basilisk/1.16.0/zellkonverter/1.14.1/zellkonverterAnnDataEnv-0.10.6/lib/python3.12/site-packages/anndata/_core/anndata.py:430: FutureWarning: The dtype argument is deprecated and will be removed in late 2024.
  warnings.warn(
/Users/biocbuild/Library/Caches/org.R-project.R/R/basilisk/1.16.0/zellkonverter/1.14.1/zellkonverterAnnDataEnv-0.10.6/lib/python3.12/site-packages/anndata/_core/anndata.py:430: FutureWarning: The dtype argument is deprecated and will be removed in late 2024.
  warnings.warn(
/Users/biocbuild/Library/Caches/org.R-project.R/R/basilisk/1.16.0/zellkonverter/1.14.1/zellkonverterAnnDataEnv-0.10.6/lib/python3.12/site-packages/anndata/_core/anndata.py:430: FutureWarning: The dtype argument is deprecated and will be removed in late 2024.
  warnings.warn(
/Users/biocbuild/Library/Caches/org.R-project.R/R/basilisk/1.16.0/zellkonverter/1.14.1/zellkonverterAnnDataEnv-0.10.6/lib/python3.12/site-packages/anndata/_core/anndata.py:430: FutureWarning: The dtype argument is deprecated and will be removed in late 2024.
  warnings.warn(
/Users/biocbuild/Library/Caches/org.R-project.R/R/basilisk/1.16.0/zellkonverter/1.14.1/zellkonverterAnnDataEnv-0.10.6/lib/python3.12/site-packages/anndata/_core/anndata.py:430: FutureWarning: The dtype argument is deprecated and will be removed in late 2024.
  warnings.warn(
/Users/biocbuild/Library/Caches/org.R-project.R/R/basilisk/1.16.0/zellkonverter/1.14.1/zellkonverterAnnDataEnv-0.10.6/lib/python3.12/site-packages/anndata/_core/anndata.py:430: FutureWarning: The dtype argument is deprecated and will be removed in late 2024.
  warnings.warn(
/Users/biocbuild/Library/Caches/org.R-project.R/R/basilisk/1.16.0/zellkonverter/1.14.1/zellkonverterAnnDataEnv-0.10.6/lib/python3.12/site-packages/anndata/_core/anndata.py:430: FutureWarning: The dtype argument is deprecated and will be removed in late 2024.
  warnings.warn(
/Users/biocbuild/Library/Caches/org.R-project.R/R/basilisk/1.16.0/zellkonverter/1.14.1/zellkonverterAnnDataEnv-0.10.6/lib/python3.12/site-packages/anndata/_core/anndata.py:430: FutureWarning: The dtype argument is deprecated and will be removed in late 2024.
  warnings.warn(
/Users/biocbuild/Library/Caches/org.R-project.R/R/basilisk/1.16.0/zellkonverter/1.14.1/zellkonverterAnnDataEnv-0.10.6/lib/python3.12/site-packages/anndata/_core/anndata.py:430: FutureWarning: The dtype argument is deprecated and will be removed in late 2024.
  warnings.warn(
/Users/biocbuild/Library/Caches/org.R-project.R/R/basilisk/1.16.0/zellkonverter/1.14.1/zellkonverterAnnDataEnv-0.10.6/lib/python3.12/site-packages/anndata/_core/anndata.py:430: FutureWarning: The dtype argument is deprecated and will be removed in late 2024.
  warnings.warn(
/Users/biocbuild/Library/Caches/org.R-project.R/R/basilisk/1.16.0/zellkonverter/1.14.1/zellkonverterAnnDataEnv-0.10.6/lib/python3.12/site-packages/anndata/_core/anndata.py:430: FutureWarning: The dtype argument is deprecated and will be removed in late 2024.
  warnings.warn(
/Users/biocbuild/Library/Caches/org.R-project.R/R/basilisk/1.16.0/zellkonverter/1.14.1/zellkonverterAnnDataEnv-0.10.6/lib/python3.12/site-packages/anndata/_core/anndata.py:430: FutureWarning: The dtype argument is deprecated and will be removed in late 2024.
  warnings.warn(
/Users/biocbuild/Library/Caches/org.R-project.R/R/basilisk/1.16.0/zellkonverter/1.14.1/zellkonverterAnnDataEnv-0.10.6/lib/python3.12/site-packages/anndata/_core/anndata.py:430: FutureWarning: The dtype argument is deprecated and will be removed in late 2024.
  warnings.warn(
[ FAIL 0 | WARN 20 | SKIP 5 | PASS 143 ]
══ Skipped tests (5) ═══════════════════════════════════════════════════════════
• On CRAN (3): 'test-read.R:178:5', 'test-zzz-anndata.R:6:5',
  'test-zzz-anndata.R:54:5'
• On Mac aarch64 (2): 'test-read.R:60:5', 'test-write.R:133:5'
[ FAIL 0 | WARN 20 | SKIP 5 | PASS 143 ]
> 
> proc.time()
   user  system elapsed 
 80.181  18.029 384.604 
zellkonverter.Rcheck/zellkonverter-Ex.timings
| name | user | system | elapsed | |
| AnnData-Conversion | 29.776 | 3.837 | 36.192 | |
| AnnData-Environment | 0.003 | 0.002 | 0.006 | |
| readH5AD | 0.900 | 0.090 | 1.332 | |
| setZellkonverterVerbose | 0.000 | 0.000 | 0.001 | |
| writeH5AD | 3.495 | 0.537 | 6.449 | |