| Back to Multiple platform build/check report for BioC 3.19: simplified long |
|
This page was generated on 2024-10-18 20:43 -0400 (Fri, 18 Oct 2024).
| Hostname | OS | Arch (*) | R version | Installed pkgs |
|---|---|---|---|---|
| nebbiolo1 | Linux (Ubuntu 22.04.3 LTS) | x86_64 | 4.4.1 (2024-06-14) -- "Race for Your Life" | 4763 |
| palomino7 | Windows Server 2022 Datacenter | x64 | 4.4.1 (2024-06-14 ucrt) -- "Race for Your Life" | 4500 |
| merida1 | macOS 12.7.5 Monterey | x86_64 | 4.4.1 (2024-06-14) -- "Race for Your Life" | 4530 |
| kjohnson1 | macOS 13.6.6 Ventura | arm64 | 4.4.1 (2024-06-14) -- "Race for Your Life" | 4480 |
| Click on any hostname to see more info about the system (e.g. compilers) (*) as reported by 'uname -p', except on Windows and Mac OS X | ||||
| Package 2282/2300 | Hostname | OS / Arch | INSTALL | BUILD | CHECK | BUILD BIN | ||||||||
| wppi 1.12.0 (landing page) Ana Galhoz
| nebbiolo1 | Linux (Ubuntu 22.04.3 LTS) / x86_64 | OK | OK | ERROR | |||||||||
| palomino7 | Windows Server 2022 Datacenter / x64 | OK | OK | ERROR | OK | |||||||||
| merida1 | macOS 12.7.5 Monterey / x86_64 | OK | OK | OK | OK | |||||||||
| kjohnson1 | macOS 13.6.6 Ventura / arm64 | OK | OK | OK | NA | |||||||||
|
To the developers/maintainers of the wppi package: - Allow up to 24 hours (and sometimes 48 hours) for your latest push to git@git.bioconductor.org:packages/wppi.git to reflect on this report. See Troubleshooting Build Report for more information. - Use the following Renviron settings to reproduce errors and warnings. - If 'R CMD check' started to fail recently on the Linux builder(s) over a missing dependency, add the missing dependency to 'Suggests:' in your DESCRIPTION file. See Renviron.bioc for more information. |
| Package: wppi |
| Version: 1.12.0 |
| Command: /Library/Frameworks/R.framework/Resources/bin/R CMD check --install=check:wppi.install-out.txt --library=/Library/Frameworks/R.framework/Resources/library --no-vignettes --timings wppi_1.12.0.tar.gz |
| StartedAt: 2024-10-18 16:46:22 -0400 (Fri, 18 Oct 2024) |
| EndedAt: 2024-10-18 16:50:41 -0400 (Fri, 18 Oct 2024) |
| EllapsedTime: 259.4 seconds |
| RetCode: 0 |
| Status: OK |
| CheckDir: wppi.Rcheck |
| Warnings: 0 |
##############################################################################
##############################################################################
###
### Running command:
###
### /Library/Frameworks/R.framework/Resources/bin/R CMD check --install=check:wppi.install-out.txt --library=/Library/Frameworks/R.framework/Resources/library --no-vignettes --timings wppi_1.12.0.tar.gz
###
##############################################################################
##############################################################################
* using log directory ‘/Users/biocbuild/bbs-3.19-bioc/meat/wppi.Rcheck’
* using R version 4.4.1 (2024-06-14)
* using platform: aarch64-apple-darwin20
* R was compiled by
Apple clang version 14.0.0 (clang-1400.0.29.202)
GNU Fortran (GCC) 12.2.0
* running under: macOS Ventura 13.6.6
* using session charset: UTF-8
* using option ‘--no-vignettes’
* checking for file ‘wppi/DESCRIPTION’ ... OK
* checking extension type ... Package
* this is package ‘wppi’ version ‘1.12.0’
* package encoding: UTF-8
* checking package namespace information ... OK
* checking package dependencies ... OK
* checking if this is a source package ... OK
* checking if there is a namespace ... OK
* checking for hidden files and directories ... OK
* checking for portable file names ... OK
* checking for sufficient/correct file permissions ... OK
* checking whether package ‘wppi’ can be installed ... OK
* checking installed package size ... OK
* checking package directory ... OK
* checking ‘build’ directory ... OK
* checking DESCRIPTION meta-information ... NOTE
License stub is invalid DCF.
* checking top-level files ... OK
* checking for left-over files ... OK
* checking index information ... OK
* checking package subdirectories ... OK
* checking code files for non-ASCII characters ... OK
* checking R files for syntax errors ... OK
* checking whether the package can be loaded ... OK
* checking whether the package can be loaded with stated dependencies ... OK
* checking whether the package can be unloaded cleanly ... OK
* checking whether the namespace can be loaded with stated dependencies ... OK
* checking whether the namespace can be unloaded cleanly ... OK
* checking whether startup messages can be suppressed ... NOTE
[2024-10-18 16:46:51] [TRACE] [OmnipathR] Reading JSON from `/Users/biocbuild/Library/Caches/OmnipathR/cache.json` (encoding: UTF-8).
[2024-10-18 16:46:51] [TRACE] [OmnipathR] JSON validation successful: TRUE
[2024-10-18 16:46:51] [INFO] [OmnipathR] Initialized cache: `/Users/biocbuild/Library/Caches/OmnipathR`.
[2024-10-18 16:46:51] [TRACE] [OmnipathR] Running on a build server, wiping cache.
[2024-10-18 16:46:51] [TRACE] [OmnipathR] Cache is at `/Users/biocbuild/Library/Caches/OmnipathR`.
[2024-10-18 16:46:51] [TRACE] [OmnipathR] Contains 1 files.
[2024-10-18 16:46:51] [TRACE] [OmnipathR] Cache is locked: FALSE.
[2024-10-18 16:46:51] [TRACE] [OmnipathR] Reading JSON from `/Users/biocbuild/Library/Caches/OmnipathR/cache.json` (encoding: UTF-8).
[2024-10-18 16:46:51] [TRACE] [OmnipathR] JSON validation successful: TRUE
[2024-10-18 16:46:51] [SUCCESS] [OmnipathR] Removing all cache contents from `/Users/biocbuild/Library/Caches/OmnipathR`.
[2024-10-18 16:46:51] [TRACE] [OmnipathR] Pandoc version: `3.1.2`.
[2024-10-18 16:46:51] [TRACE] [OmnipathR] Reading JSON from `/Library/Frameworks/R.framework/Versions/4.4-arm64/Resources/library/OmnipathR/db/db_def.json` (encoding: UTF-8).
[2024-10-18 16:46:51] [TRACE] [OmnipathR] JSON validation successful: TRUE
[2024-10-18 16:46:51] [TRACE] [OmnipathR] Reading JSON from `/Library/Frameworks/R.framework/Versions/4.4-arm64/Resources/library/OmnipathR/internal/magic_bytes.json` (encoding: UTF-8).
[2024-10-18 16:46:51] [TRACE] [OmnipathR] JSON validation successful: TRUE
[2024-10-18 16:46:51] [TRACE] [OmnipathR] Reading JSON from `/Library/Frameworks/R.framework/Versions/4.4-arm64/Resources/library/OmnipathR/internal/urls.json` (encoding: UTF-8).
[2024-10-18 16:46:51] [TRACE] [OmnipathR] JSON validation successful: TRUE
[2024-10-18 16:46:51] [TRACE] [OmnipathR] Reading JSON from `/Library/Frameworks/R.framework/Versions/4.4-arm64/Resources/library/OmnipathR/internal/id_types.json` (encoding: UTF-8).
[2024-10-18 16:46:52] [TRACE] [OmnipathR] JSON validation successful: TRUE
[2024-10-18 16:46:52] [TRACE] [OmnipathR] Cache locked: FALSE
It looks like this package (or a package it requires) has a startup
message which cannot be suppressed: see ?packageStartupMessage.
* checking dependencies in R code ... OK
* checking S3 generic/method consistency ... OK
* checking replacement functions ... OK
* checking foreign function calls ... OK
* checking R code for possible problems ... NOTE
[2024-10-18 16:47:10] [TRACE] [OmnipathR] Reading JSON from `/Users/biocbuild/Library/Caches/OmnipathR/cache.json` (encoding: UTF-8).
[2024-10-18 16:47:10] [TRACE] [OmnipathR] JSON validation successful: TRUE
[2024-10-18 16:47:10] [INFO] [OmnipathR] Initialized cache: `/Users/biocbuild/Library/Caches/OmnipathR`.
[2024-10-18 16:47:10] [TRACE] [OmnipathR] Running on a build server, wiping cache.
[2024-10-18 16:47:10] [TRACE] [OmnipathR] Cache is at `/Users/biocbuild/Library/Caches/OmnipathR`.
[2024-10-18 16:47:10] [TRACE] [OmnipathR] Contains 1 files.
[2024-10-18 16:47:10] [TRACE] [OmnipathR] Cache is locked: FALSE.
[2024-10-18 16:47:10] [TRACE] [OmnipathR] Reading JSON from `/Users/biocbuild/Library/Caches/OmnipathR/cache.json` (encoding: UTF-8).
[2024-10-18 16:47:10] [TRACE] [OmnipathR] JSON validation successful: TRUE
[2024-10-18 16:47:10] [SUCCESS] [OmnipathR] Removing all cache contents from `/Users/biocbuild/Library/Caches/OmnipathR`.
[2024-10-18 16:47:10] [TRACE] [OmnipathR] Pandoc version: `3.1.2`.
[2024-10-18 16:47:10] [TRACE] [OmnipathR] Reading JSON from `/Library/Frameworks/R.framework/Versions/4.4-arm64/Resources/library/OmnipathR/db/db_def.json` (encoding: UTF-8).
[2024-10-18 16:47:10] [TRACE] [OmnipathR] JSON validation successful: TRUE
[2024-10-18 16:47:10] [TRACE] [OmnipathR] Reading JSON from `/Library/Frameworks/R.framework/Versions/4.4-arm64/Resources/library/OmnipathR/internal/magic_bytes.json` (encoding: UTF-8).
[2024-10-18 16:47:10] [TRACE] [OmnipathR] JSON validation successful: TRUE
[2024-10-18 16:47:10] [TRACE] [OmnipathR] Reading JSON from `/Library/Frameworks/R.framework/Versions/4.4-arm64/Resources/library/OmnipathR/internal/urls.json` (encoding: UTF-8).
[2024-10-18 16:47:10] [TRACE] [OmnipathR] JSON validation successful: TRUE
[2024-10-18 16:47:10] [TRACE] [OmnipathR] Reading JSON from `/Library/Frameworks/R.framework/Versions/4.4-arm64/Resources/library/OmnipathR/internal/id_types.json` (encoding: UTF-8).
[2024-10-18 16:47:10] [TRACE] [OmnipathR] JSON validation successful: TRUE
[2024-10-18 16:47:10] [TRACE] [OmnipathR] Cache locked: FALSE
* checking Rd files ... OK
* checking Rd metadata ... OK
* checking Rd cross-references ... OK
* checking for missing documentation entries ... OK
* checking for code/documentation mismatches ... OK
* checking Rd \usage sections ... OK
* checking Rd contents ... OK
* checking for unstated dependencies in examples ... OK
* checking files in ‘vignettes’ ... OK
* checking examples ... OK
Examples with CPU (user + system) or elapsed time > 5s
user system elapsed
wppi 33.133 0.708 34.193
score_candidate_genes_from_PPI 17.851 0.425 18.480
prioritization_genes 17.200 0.383 18.028
random_walk 16.537 0.480 17.472
weighted_adj 13.307 0.291 13.843
count_genes 12.301 0.563 13.118
wppi_data 9.732 0.177 10.059
filter_annot_with_network 8.522 0.337 9.382
common_neighbors 6.776 0.297 8.505
wppi_go_data 4.837 0.139 5.032
* checking for unstated dependencies in vignettes ... OK
* checking package vignettes ... OK
* checking running R code from vignettes ... SKIPPED
* checking re-building of vignette outputs ... SKIPPED
* checking PDF version of manual ... OK
* DONE
Status: 3 NOTEs
See
‘/Users/biocbuild/bbs-3.19-bioc/meat/wppi.Rcheck/00check.log’
for details.
wppi.Rcheck/00install.out
############################################################################## ############################################################################## ### ### Running command: ### ### /Library/Frameworks/R.framework/Resources/bin/R CMD INSTALL wppi ### ############################################################################## ############################################################################## * installing to library ‘/Library/Frameworks/R.framework/Versions/4.4-arm64/Resources/library’ * installing *source* package ‘wppi’ ... ** using staged installation ** R ** byte-compile and prepare package for lazy loading [2024-10-16 17:34:04] [TRACE] [OmnipathR] Reading JSON from `/Users/biocbuild/Library/Caches/OmnipathR/cache.json` (encoding: UTF-8). [2024-10-16 17:34:04] [TRACE] [OmnipathR] JSON validation successful: TRUE [2024-10-16 17:34:04] [INFO] [OmnipathR] Initialized cache: `/Users/biocbuild/Library/Caches/OmnipathR`. [2024-10-16 17:34:04] [TRACE] [OmnipathR] Running on a build server, wiping cache. [2024-10-16 17:34:04] [TRACE] [OmnipathR] Cache is at `/Users/biocbuild/Library/Caches/OmnipathR`. [2024-10-16 17:34:04] [TRACE] [OmnipathR] Contains 1 files. [2024-10-16 17:34:04] [TRACE] [OmnipathR] Cache is locked: FALSE. [2024-10-16 17:34:04] [TRACE] [OmnipathR] Reading JSON from `/Users/biocbuild/Library/Caches/OmnipathR/cache.json` (encoding: UTF-8). [2024-10-16 17:34:04] [TRACE] [OmnipathR] JSON validation successful: TRUE [2024-10-16 17:34:04] [SUCCESS] [OmnipathR] Removing all cache contents from `/Users/biocbuild/Library/Caches/OmnipathR`. [2024-10-16 17:34:04] [TRACE] [OmnipathR] Pandoc version: `3.1.2`. [2024-10-16 17:34:04] [TRACE] [OmnipathR] Reading JSON from `/Library/Frameworks/R.framework/Versions/4.4-arm64/Resources/library/OmnipathR/db/db_def.json` (encoding: UTF-8). [2024-10-16 17:34:04] [TRACE] [OmnipathR] JSON validation successful: TRUE [2024-10-16 17:34:04] [TRACE] [OmnipathR] Reading JSON from `/Library/Frameworks/R.framework/Versions/4.4-arm64/Resources/library/OmnipathR/internal/magic_bytes.json` (encoding: UTF-8). [2024-10-16 17:34:04] [TRACE] [OmnipathR] JSON validation successful: TRUE [2024-10-16 17:34:04] [TRACE] [OmnipathR] Reading JSON from `/Library/Frameworks/R.framework/Versions/4.4-arm64/Resources/library/OmnipathR/internal/urls.json` (encoding: UTF-8). [2024-10-16 17:34:04] [TRACE] [OmnipathR] JSON validation successful: TRUE [2024-10-16 17:34:04] [TRACE] [OmnipathR] Reading JSON from `/Library/Frameworks/R.framework/Versions/4.4-arm64/Resources/library/OmnipathR/internal/id_types.json` (encoding: UTF-8). [2024-10-16 17:34:04] [TRACE] [OmnipathR] JSON validation successful: TRUE [2024-10-16 17:34:04] [TRACE] [OmnipathR] Cache locked: FALSE Note: wrong number of arguments to '/' ** help *** installing help indices ** building package indices ** installing vignettes ** testing if installed package can be loaded from temporary location [2024-10-16 17:34:08] [TRACE] [OmnipathR] Reading JSON from `/Users/biocbuild/Library/Caches/OmnipathR/cache.json` (encoding: UTF-8). [2024-10-16 17:34:08] [TRACE] [OmnipathR] JSON validation successful: TRUE [2024-10-16 17:34:08] [INFO] [OmnipathR] Initialized cache: `/Users/biocbuild/Library/Caches/OmnipathR`. [2024-10-16 17:34:08] [TRACE] [OmnipathR] Running on a build server, wiping cache. [2024-10-16 17:34:08] [TRACE] [OmnipathR] Cache is at `/Users/biocbuild/Library/Caches/OmnipathR`. [2024-10-16 17:34:08] [TRACE] [OmnipathR] Contains 1 files. [2024-10-16 17:34:08] [TRACE] [OmnipathR] Cache is locked: FALSE. [2024-10-16 17:34:08] [TRACE] [OmnipathR] Reading JSON from `/Users/biocbuild/Library/Caches/OmnipathR/cache.json` (encoding: UTF-8). [2024-10-16 17:34:08] [TRACE] [OmnipathR] JSON validation successful: TRUE [2024-10-16 17:34:08] [SUCCESS] [OmnipathR] Removing all cache contents from `/Users/biocbuild/Library/Caches/OmnipathR`. [2024-10-16 17:34:08] [TRACE] [OmnipathR] Pandoc version: `3.1.2`. [2024-10-16 17:34:08] [TRACE] [OmnipathR] Reading JSON from `/Library/Frameworks/R.framework/Versions/4.4-arm64/Resources/library/OmnipathR/db/db_def.json` (encoding: UTF-8). [2024-10-16 17:34:08] [TRACE] [OmnipathR] JSON validation successful: TRUE [2024-10-16 17:34:08] [TRACE] [OmnipathR] Reading JSON from `/Library/Frameworks/R.framework/Versions/4.4-arm64/Resources/library/OmnipathR/internal/magic_bytes.json` (encoding: UTF-8). [2024-10-16 17:34:08] [TRACE] [OmnipathR] JSON validation successful: TRUE [2024-10-16 17:34:08] [TRACE] [OmnipathR] Reading JSON from `/Library/Frameworks/R.framework/Versions/4.4-arm64/Resources/library/OmnipathR/internal/urls.json` (encoding: UTF-8). [2024-10-16 17:34:08] [TRACE] [OmnipathR] JSON validation successful: TRUE [2024-10-16 17:34:08] [TRACE] [OmnipathR] Reading JSON from `/Library/Frameworks/R.framework/Versions/4.4-arm64/Resources/library/OmnipathR/internal/id_types.json` (encoding: UTF-8). [2024-10-16 17:34:08] [TRACE] [OmnipathR] JSON validation successful: TRUE [2024-10-16 17:34:08] [TRACE] [OmnipathR] Cache locked: FALSE ** testing if installed package can be loaded from final location [2024-10-16 17:34:10] [TRACE] [OmnipathR] Reading JSON from `/Users/biocbuild/Library/Caches/OmnipathR/cache.json` (encoding: UTF-8). [2024-10-16 17:34:10] [TRACE] [OmnipathR] JSON validation successful: TRUE [2024-10-16 17:34:10] [INFO] [OmnipathR] Initialized cache: `/Users/biocbuild/Library/Caches/OmnipathR`. [2024-10-16 17:34:10] [TRACE] [OmnipathR] Running on a build server, wiping cache. [2024-10-16 17:34:10] [TRACE] [OmnipathR] Cache is at `/Users/biocbuild/Library/Caches/OmnipathR`. [2024-10-16 17:34:10] [TRACE] [OmnipathR] Contains 1 files. [2024-10-16 17:34:10] [TRACE] [OmnipathR] Cache is locked: FALSE. [2024-10-16 17:34:10] [TRACE] [OmnipathR] Reading JSON from `/Users/biocbuild/Library/Caches/OmnipathR/cache.json` (encoding: UTF-8). [2024-10-16 17:34:10] [TRACE] [OmnipathR] JSON validation successful: TRUE [2024-10-16 17:34:10] [SUCCESS] [OmnipathR] Removing all cache contents from `/Users/biocbuild/Library/Caches/OmnipathR`. [2024-10-16 17:34:10] [TRACE] [OmnipathR] Pandoc version: `3.1.2`. [2024-10-16 17:34:10] [TRACE] [OmnipathR] Reading JSON from `/Library/Frameworks/R.framework/Versions/4.4-arm64/Resources/library/OmnipathR/db/db_def.json` (encoding: UTF-8). [2024-10-16 17:34:10] [TRACE] [OmnipathR] JSON validation successful: TRUE [2024-10-16 17:34:10] [TRACE] [OmnipathR] Reading JSON from `/Library/Frameworks/R.framework/Versions/4.4-arm64/Resources/library/OmnipathR/internal/magic_bytes.json` (encoding: UTF-8). [2024-10-16 17:34:10] [TRACE] [OmnipathR] JSON validation successful: TRUE [2024-10-16 17:34:10] [TRACE] [OmnipathR] Reading JSON from `/Library/Frameworks/R.framework/Versions/4.4-arm64/Resources/library/OmnipathR/internal/urls.json` (encoding: UTF-8). [2024-10-16 17:34:10] [TRACE] [OmnipathR] JSON validation successful: TRUE [2024-10-16 17:34:10] [TRACE] [OmnipathR] Reading JSON from `/Library/Frameworks/R.framework/Versions/4.4-arm64/Resources/library/OmnipathR/internal/id_types.json` (encoding: UTF-8). [2024-10-16 17:34:10] [TRACE] [OmnipathR] JSON validation successful: TRUE [2024-10-16 17:34:10] [TRACE] [OmnipathR] Cache locked: FALSE ** testing if installed package keeps a record of temporary installation path * DONE (wppi)
wppi.Rcheck/wppi-Ex.timings
| name | user | system | elapsed | |
| common_neighbors | 6.776 | 0.297 | 8.505 | |
| count_genes | 12.301 | 0.563 | 13.118 | |
| filter_annot_with_network | 8.522 | 0.337 | 9.382 | |
| functional_annot | 2.234 | 0.172 | 3.658 | |
| graph_from_op | 3.726 | 0.054 | 3.807 | |
| in_omnipath | 4.098 | 0.068 | 4.330 | |
| prioritization_genes | 17.200 | 0.383 | 18.028 | |
| process_annot | 1.161 | 0.047 | 1.262 | |
| random_walk | 16.537 | 0.480 | 17.472 | |
| score_candidate_genes_from_PPI | 17.851 | 0.425 | 18.480 | |
| subgraph_op | 3.643 | 0.039 | 3.768 | |
| weighted_adj | 13.307 | 0.291 | 13.843 | |
| wppi | 33.133 | 0.708 | 34.193 | |
| wppi_data | 9.732 | 0.177 | 10.059 | |
| wppi_go_data | 4.837 | 0.139 | 5.032 | |
| wppi_hpo_data | 0.915 | 0.035 | 0.956 | |
| wppi_omnipath_data | 3.908 | 0.053 | 4.144 | |