| Back to Multiple platform build/check report for BioC 3.19: simplified long | 
 | 
This page was generated on 2024-10-18 20:41 -0400 (Fri, 18 Oct 2024).
| Hostname | OS | Arch (*) | R version | Installed pkgs | 
|---|---|---|---|---|
| nebbiolo1 | Linux (Ubuntu 22.04.3 LTS) | x86_64 | 4.4.1 (2024-06-14) -- "Race for Your Life" | 4763 | 
| palomino7 | Windows Server 2022 Datacenter | x64 | 4.4.1 (2024-06-14 ucrt) -- "Race for Your Life" | 4500 | 
| merida1 | macOS 12.7.5 Monterey | x86_64 | 4.4.1 (2024-06-14) -- "Race for Your Life" | 4530 | 
| kjohnson1 | macOS 13.6.6 Ventura | arm64 | 4.4.1 (2024-06-14) -- "Race for Your Life" | 4480 | 
| Click on any hostname to see more info about the system (e.g. compilers) (*) as reported by 'uname -p', except on Windows and Mac OS X | ||||
| Package 2278/2300 | Hostname | OS / Arch | INSTALL | BUILD | CHECK | BUILD BIN | ||||||||
| weitrix 1.16.0  (landing page) Paul Harrison 
 | nebbiolo1 | Linux (Ubuntu 22.04.3 LTS) / x86_64 | OK | OK | OK |  | ||||||||
| palomino7 | Windows Server 2022 Datacenter / x64 | OK | OK | OK | OK |  | ||||||||
| merida1 | macOS 12.7.5 Monterey / x86_64 | OK | OK | OK | OK |  | ||||||||
| kjohnson1 | macOS 13.6.6 Ventura / arm64 | OK | OK | OK | NA | |||||||||
| To the developers/maintainers of the weitrix package: - Allow up to 24 hours (and sometimes 48 hours) for your latest push to git@git.bioconductor.org:packages/weitrix.git to reflect on this report. See Troubleshooting Build Report for more information. - Use the following Renviron settings to reproduce errors and warnings. - If 'R CMD check' started to fail recently on the Linux builder(s) over a missing dependency, add the missing dependency to 'Suggests:' in your DESCRIPTION file. See Renviron.bioc for more information. | 
| Package: weitrix | 
| Version: 1.16.0 | 
| Command: /Library/Frameworks/R.framework/Resources/bin/R CMD check --install=check:weitrix.install-out.txt --library=/Library/Frameworks/R.framework/Resources/library --no-vignettes --timings weitrix_1.16.0.tar.gz | 
| StartedAt: 2024-10-17 15:04:48 -0400 (Thu, 17 Oct 2024) | 
| EndedAt: 2024-10-17 15:14:14 -0400 (Thu, 17 Oct 2024) | 
| EllapsedTime: 566.1 seconds | 
| RetCode: 0 | 
| Status: OK | 
| CheckDir: weitrix.Rcheck | 
| Warnings: 0 | 
##############################################################################
##############################################################################
###
### Running command:
###
###   /Library/Frameworks/R.framework/Resources/bin/R CMD check --install=check:weitrix.install-out.txt --library=/Library/Frameworks/R.framework/Resources/library --no-vignettes --timings weitrix_1.16.0.tar.gz
###
##############################################################################
##############################################################################
* using log directory ‘/Users/biocbuild/bbs-3.19-bioc/meat/weitrix.Rcheck’
* using R version 4.4.1 (2024-06-14)
* using platform: x86_64-apple-darwin20
* R was compiled by
    Apple clang version 14.0.0 (clang-1400.0.29.202)
    GNU Fortran (GCC) 12.2.0
* running under: macOS Monterey 12.7.6
* using session charset: UTF-8
* using option ‘--no-vignettes’
* checking for file ‘weitrix/DESCRIPTION’ ... OK
* this is package ‘weitrix’ version ‘1.16.0’
* package encoding: UTF-8
* checking package namespace information ... OK
* checking package dependencies ... OK
* checking if this is a source package ... OK
* checking if there is a namespace ... OK
* checking for hidden files and directories ... OK
* checking for portable file names ... OK
* checking for sufficient/correct file permissions ... OK
* checking whether package ‘weitrix’ can be installed ... OK
* checking installed package size ... OK
* checking package directory ... OK
* checking ‘build’ directory ... OK
* checking DESCRIPTION meta-information ... OK
* checking top-level files ... OK
* checking for left-over files ... OK
* checking index information ... OK
* checking package subdirectories ... OK
* checking code files for non-ASCII characters ... OK
* checking R files for syntax errors ... OK
* checking whether the package can be loaded ... OK
* checking whether the package can be loaded with stated dependencies ... OK
* checking whether the package can be unloaded cleanly ... OK
* checking whether the namespace can be loaded with stated dependencies ... OK
* checking whether the namespace can be unloaded cleanly ... OK
* checking dependencies in R code ... OK
* checking S3 generic/method consistency ... OK
* checking replacement functions ... OK
* checking foreign function calls ... OK
* checking R code for possible problems ... OK
* checking Rd files ... NOTE
checkRd: (-1) weitrix_calibrate_trend.Rd:27: Lost braces in \itemize; \value handles \item{}{} directly
checkRd: (-1) weitrix_calibrate_trend.Rd:28: Lost braces in \itemize; \value handles \item{}{} directly
checkRd: (-1) weitrix_calibrate_trend.Rd:29: Lost braces in \itemize; \value handles \item{}{} directly
checkRd: (-1) weitrix_calibrate_trend.Rd:30: Lost braces in \itemize; \value handles \item{}{} directly
checkRd: (-1) weitrix_components.Rd:64-68: Lost braces in \itemize; \value handles \item{}{} directly
checkRd: (-1) weitrix_components.Rd:69-73: Lost braces in \itemize; \value handles \item{}{} directly
checkRd: (-1) weitrix_components.Rd:74-76: Lost braces in \itemize; \value handles \item{}{} directly
checkRd: (-1) weitrix_components.Rd:77-80: Lost braces in \itemize; \value handles \item{}{} directly
checkRd: (-1) weitrix_components.Rd:81: Lost braces in \itemize; \value handles \item{}{} directly
checkRd: (-1) weitrix_components.Rd:82: Lost braces in \itemize; \value handles \item{}{} directly
checkRd: (-1) weitrix_confects.Rd:51: Lost braces in \itemize; \value handles \item{}{} directly
checkRd: (-1) weitrix_confects.Rd:52: Lost braces in \itemize; \value handles \item{}{} directly
checkRd: (-1) weitrix_confects.Rd:53: Lost braces in \itemize; \value handles \item{}{} directly
checkRd: (-1) weitrix_confects.Rd:54: Lost braces in \itemize; \value handles \item{}{} directly
checkRd: (-1) weitrix_confects.Rd:55: Lost braces in \itemize; \value handles \item{}{} directly
checkRd: (-1) weitrix_sd_confects.Rd:33: Lost braces in \itemize; \value handles \item{}{} directly
checkRd: (-1) weitrix_sd_confects.Rd:34: Lost braces in \itemize; \value handles \item{}{} directly
checkRd: (-1) weitrix_sd_confects.Rd:35: Lost braces in \itemize; \value handles \item{}{} directly
checkRd: (-1) weitrix_sd_confects.Rd:36: Lost braces in \itemize; \value handles \item{}{} directly
checkRd: (-1) weitrix_sd_confects.Rd:37: Lost braces in \itemize; \value handles \item{}{} directly
checkRd: (-1) weitrix_sd_confects.Rd:38: Lost braces in \itemize; \value handles \item{}{} directly
checkRd: (-1) weitrix_sd_confects.Rd:39: Lost braces in \itemize; \value handles \item{}{} directly
checkRd: (-1) weitrix_sd_confects.Rd:40: Lost braces in \itemize; \value handles \item{}{} directly
* checking Rd metadata ... OK
* checking Rd cross-references ... OK
* checking for missing documentation entries ... OK
* checking for code/documentation mismatches ... OK
* checking Rd \usage sections ... OK
* checking Rd contents ... OK
* checking for unstated dependencies in examples ... OK
* checking contents of ‘data’ directory ... OK
* checking data for non-ASCII characters ... OK
* checking LazyData ... OK
* checking data for ASCII and uncompressed saves ... OK
* checking line endings in Makefiles ... OK
* checking for GNU extensions in Makefiles ... OK
* checking include directives in Makefiles ... OK
* checking files in ‘vignettes’ ... OK
* checking examples ... OK
Examples with CPU (user + system) or elapsed time > 5s
                          user system elapsed
components_seq_scree    62.880 13.120  41.241
weitrix_calibrate_trend 18.326  7.519  14.522
weitrix_dispersions     18.007  7.544  14.425
weitrix_calibrate       16.040  6.204  11.877
weitrix_calplot         14.559  6.375  17.110
weitrix_components       5.823  2.891   5.019
weitrix_sd_confects      3.986  2.237   4.657
* checking for unstated dependencies in ‘tests’ ... OK
* checking tests ...
  Running ‘testthat.R’
 OK
* checking for unstated dependencies in vignettes ... OK
* checking package vignettes ... OK
* checking running R code from vignettes ... SKIPPED
* checking re-building of vignette outputs ... SKIPPED
* checking PDF version of manual ... OK
* DONE
Status: 1 NOTE
See
  ‘/Users/biocbuild/bbs-3.19-bioc/meat/weitrix.Rcheck/00check.log’
for details.
weitrix.Rcheck/00install.out
############################################################################## ############################################################################## ### ### Running command: ### ### /Library/Frameworks/R.framework/Resources/bin/R CMD INSTALL weitrix ### ############################################################################## ############################################################################## * installing to library ‘/Library/Frameworks/R.framework/Versions/4.4-x86_64/Resources/library’ * installing *source* package ‘weitrix’ ... ** using staged installation ** R ** data *** moving datasets to lazyload DB ** inst ** byte-compile and prepare package for lazy loading ** help *** installing help indices ** building package indices ** installing vignettes ** testing if installed package can be loaded from temporary location ** testing if installed package can be loaded from final location ** testing if installed package keeps a record of temporary installation path * DONE (weitrix)
weitrix.Rcheck/tests/testthat.Rout
R version 4.4.1 (2024-06-14) -- "Race for Your Life"
Copyright (C) 2024 The R Foundation for Statistical Computing
Platform: x86_64-apple-darwin20
R is free software and comes with ABSOLUTELY NO WARRANTY.
You are welcome to redistribute it under certain conditions.
Type 'license()' or 'licence()' for distribution details.
R is a collaborative project with many contributors.
Type 'contributors()' for more information and
'citation()' on how to cite R or R packages in publications.
Type 'demo()' for some demos, 'help()' for on-line help, or
'help.start()' for an HTML browser interface to help.
Type 'q()' to quit R.
> library(testthat)
> library(weitrix)
Loading required package: SummarizedExperiment
Loading required package: MatrixGenerics
Loading required package: matrixStats
Attaching package: 'MatrixGenerics'
The following objects are masked from 'package:matrixStats':
    colAlls, colAnyNAs, colAnys, colAvgsPerRowSet, colCollapse,
    colCounts, colCummaxs, colCummins, colCumprods, colCumsums,
    colDiffs, colIQRDiffs, colIQRs, colLogSumExps, colMadDiffs,
    colMads, colMaxs, colMeans2, colMedians, colMins, colOrderStats,
    colProds, colQuantiles, colRanges, colRanks, colSdDiffs, colSds,
    colSums2, colTabulates, colVarDiffs, colVars, colWeightedMads,
    colWeightedMeans, colWeightedMedians, colWeightedSds,
    colWeightedVars, rowAlls, rowAnyNAs, rowAnys, rowAvgsPerColSet,
    rowCollapse, rowCounts, rowCummaxs, rowCummins, rowCumprods,
    rowCumsums, rowDiffs, rowIQRDiffs, rowIQRs, rowLogSumExps,
    rowMadDiffs, rowMads, rowMaxs, rowMeans2, rowMedians, rowMins,
    rowOrderStats, rowProds, rowQuantiles, rowRanges, rowRanks,
    rowSdDiffs, rowSds, rowSums2, rowTabulates, rowVarDiffs, rowVars,
    rowWeightedMads, rowWeightedMeans, rowWeightedMedians,
    rowWeightedSds, rowWeightedVars
Loading required package: GenomicRanges
Loading required package: stats4
Loading required package: BiocGenerics
Attaching package: 'BiocGenerics'
The following objects are masked from 'package:stats':
    IQR, mad, sd, var, xtabs
The following objects are masked from 'package:base':
    Filter, Find, Map, Position, Reduce, anyDuplicated, aperm, append,
    as.data.frame, basename, cbind, colnames, dirname, do.call,
    duplicated, eval, evalq, get, grep, grepl, intersect, is.unsorted,
    lapply, mapply, match, mget, order, paste, pmax, pmax.int, pmin,
    pmin.int, rank, rbind, rownames, sapply, setdiff, table, tapply,
    union, unique, unsplit, which.max, which.min
Loading required package: S4Vectors
Attaching package: 'S4Vectors'
The following object is masked from 'package:utils':
    findMatches
The following objects are masked from 'package:base':
    I, expand.grid, unname
Loading required package: IRanges
Loading required package: GenomeInfoDb
Loading required package: Biobase
Welcome to Bioconductor
    Vignettes contain introductory material; view with
    'browseVignettes()'. To cite Bioconductor, see
    'citation("Biobase")', and for packages 'citation("pkgname")'.
Attaching package: 'Biobase'
The following object is masked from 'package:MatrixGenerics':
    rowMedians
The following objects are masked from 'package:matrixStats':
    anyMissing, rowMedians
> 
> test_check("weitrix")
[ FAIL 0 | WARN 0 | SKIP 0 | PASS 15 ]
> 
> proc.time()
   user  system elapsed 
 32.093   7.313  36.937 
weitrix.Rcheck/weitrix-Ex.timings
| name | user | system | elapsed | |
| as_weitrix | 0.152 | 0.003 | 0.169 | |
| bless_weitrix | 0.043 | 0.001 | 0.046 | |
| components_seq_scree | 62.880 | 13.120 | 41.241 | |
| counts_proportions | 0.130 | 0.011 | 0.149 | |
| counts_shift | 0.102 | 0.008 | 0.121 | |
| matrix_long | 0.040 | 0.006 | 0.050 | |
| weitrix_calibrate | 16.040 | 6.204 | 11.877 | |
| weitrix_calibrate_all | 2.032 | 1.057 | 2.351 | |
| weitrix_calibrate_trend | 18.326 | 7.519 | 14.522 | |
| weitrix_calplot | 14.559 | 6.375 | 17.110 | |
| weitrix_components | 5.823 | 2.891 | 5.019 | |
| weitrix_confects | 1.562 | 0.804 | 2.036 | |
| weitrix_dispersions | 18.007 | 7.544 | 14.425 | |
| weitrix_elist | 0.079 | 0.047 | 0.137 | |
| weitrix_hill | 0.072 | 0.014 | 0.094 | |
| weitrix_randomize | 0.065 | 0.011 | 0.081 | |
| weitrix_sd_confects | 3.986 | 2.237 | 4.657 | |
| weitrix_weights | 0.010 | 0.004 | 0.014 | |
| weitrix_x | 0.061 | 0.015 | 0.076 | |
| well_knotted_spline | 1.667 | 0.281 | 2.127 | |