| Back to Multiple platform build/check report for BioC 3.19: simplified long |
|
This page was generated on 2024-05-08 11:41:33 -0400 (Wed, 08 May 2024).
| Hostname | OS | Arch (*) | R version | Installed pkgs |
|---|---|---|---|---|
| nebbiolo1 | Linux (Ubuntu 22.04.3 LTS) | x86_64 | 4.4.0 (2024-04-24) -- "Puppy Cup" | 4707 |
| palomino3 | Windows Server 2022 Datacenter | x64 | 4.4.0 (2024-04-24 ucrt) -- "Puppy Cup" | 4484 |
| lconway | macOS 12.7.1 Monterey | x86_64 | 4.4.0 (2024-04-24) -- "Puppy Cup" | 4514 |
| kunpeng2 | Linux (openEuler 22.03 LTS-SP1) | aarch64 | 4.4.0 beta (2024-04-15 r86425) -- "Puppy Cup" | 4480 |
| Click on any hostname to see more info about the system (e.g. compilers) (*) as reported by 'uname -p', except on Windows and Mac OS X | ||||
| Package 2278/2300 | Hostname | OS / Arch | INSTALL | BUILD | CHECK | BUILD BIN | ||||||||
| weitrix 1.16.0 (landing page) Paul Harrison
| nebbiolo1 | Linux (Ubuntu 22.04.3 LTS) / x86_64 | OK | OK | OK | |||||||||
| palomino3 | Windows Server 2022 Datacenter / x64 | OK | OK | OK | OK | |||||||||
| lconway | macOS 12.7.1 Monterey / x86_64 | OK | OK | OK | OK | |||||||||
| kunpeng2 | Linux (openEuler 22.03 LTS-SP1) / aarch64 | OK | OK | OK | ||||||||||
| kjohnson3 | macOS 13.6.5 Ventura / arm64 | see weekly results here | ||||||||||||
|
To the developers/maintainers of the weitrix package: - Allow up to 24 hours (and sometimes 48 hours) for your latest push to git@git.bioconductor.org:packages/weitrix.git to reflect on this report. See Troubleshooting Build Report for more information. - Use the following Renviron settings to reproduce errors and warnings. - If 'R CMD check' started to fail recently on the Linux builder(s) over a missing dependency, add the missing dependency to 'Suggests:' in your DESCRIPTION file. See Renviron.bioc for more information. - See Martin Grigorov's blog post for how to debug Linux ARM64 related issues on a x86_64 host. |
| Package: weitrix |
| Version: 1.16.0 |
| Command: /home/biocbuild/R/R-beta-2024-04-15_r86425/bin/R CMD check --install=check:weitrix.install-out.txt --library=/home/biocbuild/R/R-beta-2024-04-15_r86425/site-library --no-vignettes --timings weitrix_1.16.0.tar.gz |
| StartedAt: 2024-05-08 13:07:37 -0000 (Wed, 08 May 2024) |
| EndedAt: 2024-05-08 13:13:14 -0000 (Wed, 08 May 2024) |
| EllapsedTime: 337.6 seconds |
| RetCode: 0 |
| Status: OK |
| CheckDir: weitrix.Rcheck |
| Warnings: 0 |
##############################################################################
##############################################################################
###
### Running command:
###
### /home/biocbuild/R/R-beta-2024-04-15_r86425/bin/R CMD check --install=check:weitrix.install-out.txt --library=/home/biocbuild/R/R-beta-2024-04-15_r86425/site-library --no-vignettes --timings weitrix_1.16.0.tar.gz
###
##############################################################################
##############################################################################
* using log directory ‘/home/biocbuild/bbs-3.19-bioc/meat/weitrix.Rcheck’
* using R version 4.4.0 beta (2024-04-15 r86425)
* using platform: aarch64-unknown-linux-gnu
* R was compiled by
gcc (GCC) 10.3.1
GNU Fortran (GCC) 10.3.1
* running under: openEuler 22.03 (LTS-SP1)
* using session charset: UTF-8
* using option ‘--no-vignettes’
* checking for file ‘weitrix/DESCRIPTION’ ... OK
* this is package ‘weitrix’ version ‘1.16.0’
* package encoding: UTF-8
* checking package namespace information ... OK
* checking package dependencies ... OK
* checking if this is a source package ... OK
* checking if there is a namespace ... OK
* checking for hidden files and directories ... OK
* checking for portable file names ... OK
* checking for sufficient/correct file permissions ... OK
* checking whether package ‘weitrix’ can be installed ... OK
* checking installed package size ... OK
* checking package directory ... OK
* checking ‘build’ directory ... OK
* checking DESCRIPTION meta-information ... OK
* checking top-level files ... OK
* checking for left-over files ... OK
* checking index information ... OK
* checking package subdirectories ... OK
* checking code files for non-ASCII characters ... OK
* checking R files for syntax errors ... OK
* checking whether the package can be loaded ... OK
* checking whether the package can be loaded with stated dependencies ... OK
* checking whether the package can be unloaded cleanly ... OK
* checking whether the namespace can be loaded with stated dependencies ... OK
* checking whether the namespace can be unloaded cleanly ... OK
* checking loading without being on the library search path ... OK
* checking dependencies in R code ... OK
* checking S3 generic/method consistency ... OK
* checking replacement functions ... OK
* checking foreign function calls ... OK
* checking R code for possible problems ... OK
* checking Rd files ... NOTE
checkRd: (-1) weitrix_calibrate_trend.Rd:27: Lost braces in \itemize; \value handles \item{}{} directly
checkRd: (-1) weitrix_calibrate_trend.Rd:28: Lost braces in \itemize; \value handles \item{}{} directly
checkRd: (-1) weitrix_calibrate_trend.Rd:29: Lost braces in \itemize; \value handles \item{}{} directly
checkRd: (-1) weitrix_calibrate_trend.Rd:30: Lost braces in \itemize; \value handles \item{}{} directly
checkRd: (-1) weitrix_components.Rd:64-68: Lost braces in \itemize; \value handles \item{}{} directly
checkRd: (-1) weitrix_components.Rd:69-73: Lost braces in \itemize; \value handles \item{}{} directly
checkRd: (-1) weitrix_components.Rd:74-76: Lost braces in \itemize; \value handles \item{}{} directly
checkRd: (-1) weitrix_components.Rd:77-80: Lost braces in \itemize; \value handles \item{}{} directly
checkRd: (-1) weitrix_components.Rd:81: Lost braces in \itemize; \value handles \item{}{} directly
checkRd: (-1) weitrix_components.Rd:82: Lost braces in \itemize; \value handles \item{}{} directly
checkRd: (-1) weitrix_confects.Rd:51: Lost braces in \itemize; \value handles \item{}{} directly
checkRd: (-1) weitrix_confects.Rd:52: Lost braces in \itemize; \value handles \item{}{} directly
checkRd: (-1) weitrix_confects.Rd:53: Lost braces in \itemize; \value handles \item{}{} directly
checkRd: (-1) weitrix_confects.Rd:54: Lost braces in \itemize; \value handles \item{}{} directly
checkRd: (-1) weitrix_confects.Rd:55: Lost braces in \itemize; \value handles \item{}{} directly
checkRd: (-1) weitrix_sd_confects.Rd:33: Lost braces in \itemize; \value handles \item{}{} directly
checkRd: (-1) weitrix_sd_confects.Rd:34: Lost braces in \itemize; \value handles \item{}{} directly
checkRd: (-1) weitrix_sd_confects.Rd:35: Lost braces in \itemize; \value handles \item{}{} directly
checkRd: (-1) weitrix_sd_confects.Rd:36: Lost braces in \itemize; \value handles \item{}{} directly
checkRd: (-1) weitrix_sd_confects.Rd:37: Lost braces in \itemize; \value handles \item{}{} directly
checkRd: (-1) weitrix_sd_confects.Rd:38: Lost braces in \itemize; \value handles \item{}{} directly
checkRd: (-1) weitrix_sd_confects.Rd:39: Lost braces in \itemize; \value handles \item{}{} directly
checkRd: (-1) weitrix_sd_confects.Rd:40: Lost braces in \itemize; \value handles \item{}{} directly
* checking Rd metadata ... OK
* checking Rd cross-references ... OK
* checking for missing documentation entries ... OK
* checking for code/documentation mismatches ... OK
* checking Rd \usage sections ... OK
* checking Rd contents ... OK
* checking for unstated dependencies in examples ... OK
* checking contents of ‘data’ directory ... OK
* checking data for non-ASCII characters ... OK
* checking LazyData ... OK
* checking data for ASCII and uncompressed saves ... OK
* checking line endings in Makefiles ... OK
* checking for GNU extensions in Makefiles ... OK
* checking include directives in Makefiles ... OK
* checking files in ‘vignettes’ ... OK
* checking examples ... OK
Examples with CPU (user + system) or elapsed time > 5s
user system elapsed
components_seq_scree 37.508 4.346 30.425
weitrix_calibrate_trend 10.594 3.946 10.958
weitrix_calplot 9.577 4.717 12.188
weitrix_calibrate 8.904 2.629 7.499
weitrix_dispersions 5.432 1.873 10.238
weitrix_elist 4.778 1.877 0.056
* checking for unstated dependencies in ‘tests’ ... OK
* checking tests ...
Running ‘testthat.R’
OK
* checking for unstated dependencies in vignettes ... OK
* checking package vignettes ... OK
* checking running R code from vignettes ... SKIPPED
* checking re-building of vignette outputs ... SKIPPED
* checking PDF version of manual ... OK
* DONE
Status: 1 NOTE
See
‘/home/biocbuild/bbs-3.19-bioc/meat/weitrix.Rcheck/00check.log’
for details.
weitrix.Rcheck/00install.out
############################################################################## ############################################################################## ### ### Running command: ### ### /home/biocbuild/R/R-beta-2024-04-15_r86425/bin/R CMD INSTALL weitrix ### ############################################################################## ############################################################################## * installing to library ‘/home/biocbuild/R/R-beta-2024-04-15_r86425/site-library’ * installing *source* package ‘weitrix’ ... ** using staged installation ** R ** data *** moving datasets to lazyload DB ** inst ** byte-compile and prepare package for lazy loading ** help *** installing help indices ** building package indices ** installing vignettes ** testing if installed package can be loaded from temporary location ** testing if installed package can be loaded from final location ** testing if installed package keeps a record of temporary installation path * DONE (weitrix)
weitrix.Rcheck/tests/testthat.Rout
R version 4.4.0 beta (2024-04-15 r86425) -- "Puppy Cup"
Copyright (C) 2024 The R Foundation for Statistical Computing
Platform: aarch64-unknown-linux-gnu
R is free software and comes with ABSOLUTELY NO WARRANTY.
You are welcome to redistribute it under certain conditions.
Type 'license()' or 'licence()' for distribution details.
R is a collaborative project with many contributors.
Type 'contributors()' for more information and
'citation()' on how to cite R or R packages in publications.
Type 'demo()' for some demos, 'help()' for on-line help, or
'help.start()' for an HTML browser interface to help.
Type 'q()' to quit R.
> library(testthat)
> library(weitrix)
Loading required package: SummarizedExperiment
Loading required package: MatrixGenerics
Loading required package: matrixStats
Attaching package: 'MatrixGenerics'
The following objects are masked from 'package:matrixStats':
colAlls, colAnyNAs, colAnys, colAvgsPerRowSet, colCollapse,
colCounts, colCummaxs, colCummins, colCumprods, colCumsums,
colDiffs, colIQRDiffs, colIQRs, colLogSumExps, colMadDiffs,
colMads, colMaxs, colMeans2, colMedians, colMins, colOrderStats,
colProds, colQuantiles, colRanges, colRanks, colSdDiffs, colSds,
colSums2, colTabulates, colVarDiffs, colVars, colWeightedMads,
colWeightedMeans, colWeightedMedians, colWeightedSds,
colWeightedVars, rowAlls, rowAnyNAs, rowAnys, rowAvgsPerColSet,
rowCollapse, rowCounts, rowCummaxs, rowCummins, rowCumprods,
rowCumsums, rowDiffs, rowIQRDiffs, rowIQRs, rowLogSumExps,
rowMadDiffs, rowMads, rowMaxs, rowMeans2, rowMedians, rowMins,
rowOrderStats, rowProds, rowQuantiles, rowRanges, rowRanks,
rowSdDiffs, rowSds, rowSums2, rowTabulates, rowVarDiffs, rowVars,
rowWeightedMads, rowWeightedMeans, rowWeightedMedians,
rowWeightedSds, rowWeightedVars
Loading required package: GenomicRanges
Loading required package: stats4
Loading required package: BiocGenerics
Attaching package: 'BiocGenerics'
The following objects are masked from 'package:stats':
IQR, mad, sd, var, xtabs
The following objects are masked from 'package:base':
Filter, Find, Map, Position, Reduce, anyDuplicated, aperm, append,
as.data.frame, basename, cbind, colnames, dirname, do.call,
duplicated, eval, evalq, get, grep, grepl, intersect, is.unsorted,
lapply, mapply, match, mget, order, paste, pmax, pmax.int, pmin,
pmin.int, rank, rbind, rownames, sapply, setdiff, table, tapply,
union, unique, unsplit, which.max, which.min
Loading required package: S4Vectors
Attaching package: 'S4Vectors'
The following object is masked from 'package:utils':
findMatches
The following objects are masked from 'package:base':
I, expand.grid, unname
Loading required package: IRanges
Loading required package: GenomeInfoDb
Loading required package: Biobase
Welcome to Bioconductor
Vignettes contain introductory material; view with
'browseVignettes()'. To cite Bioconductor, see
'citation("Biobase")', and for packages 'citation("pkgname")'.
Attaching package: 'Biobase'
The following object is masked from 'package:MatrixGenerics':
rowMedians
The following objects are masked from 'package:matrixStats':
anyMissing, rowMedians
>
> test_check("weitrix")
[ FAIL 0 | WARN 0 | SKIP 0 | PASS 15 ]
>
> proc.time()
user system elapsed
22.980 7.023 27.241
weitrix.Rcheck/weitrix-Ex.timings
| name | user | system | elapsed | |
| as_weitrix | 0.105 | 0.000 | 0.106 | |
| bless_weitrix | 0.026 | 0.000 | 0.026 | |
| components_seq_scree | 37.508 | 4.346 | 30.425 | |
| counts_proportions | 0.085 | 0.004 | 0.090 | |
| counts_shift | 0.064 | 0.004 | 0.068 | |
| matrix_long | 0.023 | 0.004 | 0.028 | |
| weitrix_calibrate | 8.904 | 2.629 | 7.499 | |
| weitrix_calibrate_all | 1.320 | 0.977 | 1.838 | |
| weitrix_calibrate_trend | 10.594 | 3.946 | 10.958 | |
| weitrix_calplot | 9.577 | 4.717 | 12.188 | |
| weitrix_components | 2.586 | 0.906 | 3.395 | |
| weitrix_confects | 1.595 | 0.854 | 1.398 | |
| weitrix_dispersions | 5.432 | 1.873 | 10.238 | |
| weitrix_elist | 4.778 | 1.877 | 0.056 | |
| weitrix_hill | 0.040 | 0.004 | 0.045 | |
| weitrix_randomize | 0.039 | 0.003 | 0.042 | |
| weitrix_sd_confects | 2.706 | 1.496 | 3.501 | |
| weitrix_weights | 0.007 | 0.000 | 0.007 | |
| weitrix_x | 0.084 | 0.053 | 0.038 | |
| well_knotted_spline | 1.302 | 0.068 | 1.377 | |