| Back to Multiple platform build/check report for BioC 3.19: simplified long | 
 | 
This page was generated on 2024-10-18 20:39 -0400 (Fri, 18 Oct 2024).
| Hostname | OS | Arch (*) | R version | Installed pkgs | 
|---|---|---|---|---|
| nebbiolo1 | Linux (Ubuntu 22.04.3 LTS) | x86_64 | 4.4.1 (2024-06-14) -- "Race for Your Life" | 4763 | 
| palomino7 | Windows Server 2022 Datacenter | x64 | 4.4.1 (2024-06-14 ucrt) -- "Race for Your Life" | 4500 | 
| merida1 | macOS 12.7.5 Monterey | x86_64 | 4.4.1 (2024-06-14) -- "Race for Your Life" | 4530 | 
| kjohnson1 | macOS 13.6.6 Ventura | arm64 | 4.4.1 (2024-06-14) -- "Race for Your Life" | 4480 | 
| Click on any hostname to see more info about the system (e.g. compilers) (*) as reported by 'uname -p', except on Windows and Mac OS X | ||||
| Package 2248/2300 | Hostname | OS / Arch | INSTALL | BUILD | CHECK | BUILD BIN | ||||||||
| variancePartition 1.34.0  (landing page) Gabriel E. Hoffman 
 | nebbiolo1 | Linux (Ubuntu 22.04.3 LTS) / x86_64 | OK | OK | OK |  | ||||||||
| palomino7 | Windows Server 2022 Datacenter / x64 | OK | OK | OK | OK |  | ||||||||
| merida1 | macOS 12.7.5 Monterey / x86_64 | OK | OK | OK | OK |  | ||||||||
| kjohnson1 | macOS 13.6.6 Ventura / arm64 | OK | OK | OK | NA | |||||||||
| To the developers/maintainers of the variancePartition package: - Allow up to 24 hours (and sometimes 48 hours) for your latest push to git@git.bioconductor.org:packages/variancePartition.git to reflect on this report. See Troubleshooting Build Report for more information. - Use the following Renviron settings to reproduce errors and warnings. - If 'R CMD check' started to fail recently on the Linux builder(s) over a missing dependency, add the missing dependency to 'Suggests:' in your DESCRIPTION file. See Renviron.bioc for more information. | 
| Package: variancePartition | 
| Version: 1.34.0 | 
| Command: /home/biocbuild/bbs-3.19-bioc/R/bin/R CMD check --install=check:variancePartition.install-out.txt --library=/home/biocbuild/bbs-3.19-bioc/R/site-library --timings variancePartition_1.34.0.tar.gz | 
| StartedAt: 2024-10-17 06:13:06 -0400 (Thu, 17 Oct 2024) | 
| EndedAt: 2024-10-17 06:30:43 -0400 (Thu, 17 Oct 2024) | 
| EllapsedTime: 1056.3 seconds | 
| RetCode: 0 | 
| Status: OK | 
| CheckDir: variancePartition.Rcheck | 
| Warnings: 0 | 
##############################################################################
##############################################################################
###
### Running command:
###
###   /home/biocbuild/bbs-3.19-bioc/R/bin/R CMD check --install=check:variancePartition.install-out.txt --library=/home/biocbuild/bbs-3.19-bioc/R/site-library --timings variancePartition_1.34.0.tar.gz
###
##############################################################################
##############################################################################
* using log directory ‘/home/biocbuild/bbs-3.19-bioc/meat/variancePartition.Rcheck’
* using R version 4.4.1 (2024-06-14)
* using platform: x86_64-pc-linux-gnu
* R was compiled by
    gcc (Ubuntu 11.4.0-1ubuntu1~22.04) 11.4.0
    GNU Fortran (Ubuntu 11.4.0-1ubuntu1~22.04) 11.4.0
* running under: Ubuntu 22.04.5 LTS
* using session charset: UTF-8
* checking for file ‘variancePartition/DESCRIPTION’ ... OK
* checking extension type ... Package
* this is package ‘variancePartition’ version ‘1.34.0’
* package encoding: UTF-8
* checking package namespace information ... OK
* checking package dependencies ... OK
* checking if this is a source package ... OK
* checking if there is a namespace ... OK
* checking for hidden files and directories ... OK
* checking for portable file names ... OK
* checking for sufficient/correct file permissions ... OK
* checking whether package ‘variancePartition’ can be installed ... OK
* checking installed package size ... OK
* checking package directory ... OK
* checking ‘build’ directory ... OK
* checking DESCRIPTION meta-information ... OK
* checking top-level files ... OK
* checking for left-over files ... OK
* checking index information ... OK
* checking package subdirectories ... OK
* checking code files for non-ASCII characters ... OK
* checking R files for syntax errors ... OK
* checking whether the package can be loaded ... OK
* checking whether the package can be loaded with stated dependencies ... OK
* checking whether the package can be unloaded cleanly ... OK
* checking whether the namespace can be loaded with stated dependencies ... OK
* checking whether the namespace can be unloaded cleanly ... OK
* checking loading without being on the library search path ... OK
* checking dependencies in R code ... NOTE
Unexported object imported by a ':::' call: ‘lmerTest:::as_lmerModLT’
  See the note in ?`:::` about the use of this operator.
* checking S3 generic/method consistency ... OK
* checking replacement functions ... OK
* checking foreign function calls ... OK
* checking R code for possible problems ... OK
* checking Rd files ... OK
* checking Rd metadata ... OK
* checking Rd cross-references ... OK
* checking for missing documentation entries ... OK
* checking for code/documentation mismatches ... OK
* checking Rd \usage sections ... NOTE
S3 methods shown with full name in Rd file 'residuals.MArrayLM2.Rd':
  ‘residuals.MArrayLM2’
The \usage entries for S3 methods should use the \method markup and not
their full name.
See chapter ‘Writing R documentation files’ in the ‘Writing R
Extensions’ manual.
* checking Rd contents ... OK
* checking for unstated dependencies in examples ... OK
* checking contents of ‘data’ directory ... OK
* checking data for non-ASCII characters ... OK
* checking data for ASCII and uncompressed saves ... OK
* checking files in ‘vignettes’ ... NOTE
The following directory looks like a leftover from 'knitr':
  ‘figure’
Please remove from your package.
* checking examples ... OK
Examples with CPU (user + system) or elapsed time > 5s
                                 user system elapsed
fitVarPartModel-method         25.348  0.128  25.476
fitExtractVarPartModel-method  20.612  0.184  20.796
getTreat-method                17.310  0.040  17.350
plotCompareP-method            13.680  0.244  13.924
extractVarPart                 13.105  0.244  13.349
varPartConfInf                  9.441  0.012   9.453
plotPercentBars-method          7.190  0.080   7.270
sortCols-method                 6.692  0.048   6.740
plotVarPart-method              6.562  0.064   6.626
residuals-VarParFitList-method  6.199  0.048   6.248
mvTest-method                   5.267  0.072  11.036
dream-method                    3.015  0.105   8.019
* checking for unstated dependencies in ‘tests’ ... OK
* checking tests ...
  Running ‘runTests.R’
 OK
* checking for unstated dependencies in vignettes ... OK
* checking package vignettes ... OK
* checking re-building of vignette outputs ... OK
* checking PDF version of manual ... OK
* DONE
Status: 3 NOTEs
See
  ‘/home/biocbuild/bbs-3.19-bioc/meat/variancePartition.Rcheck/00check.log’
for details.
variancePartition.Rcheck/00install.out
############################################################################## ############################################################################## ### ### Running command: ### ### /home/biocbuild/bbs-3.19-bioc/R/bin/R CMD INSTALL variancePartition ### ############################################################################## ############################################################################## * installing to library ‘/home/biocbuild/bbs-3.19-bioc/R/site-library’ * installing *source* package ‘variancePartition’ ... ** using staged installation ** R ** data ** inst ** byte-compile and prepare package for lazy loading in method for ‘calcVarPart’ with signature ‘"negbin"’: no definition for class “negbin” in method for ‘checkModelStatus’ with signature ‘"negbin"’: no definition for class “negbin” Creating a new generic function for ‘classifyTestsF’ in package ‘variancePartition’ Creating a new generic function for ‘topTable’ in package ‘variancePartition’ ** help Loading required namespace: variancePartition *** installing help indices *** copying figures ** building package indices ** installing vignettes ** testing if installed package can be loaded from temporary location ** testing if installed package can be loaded from final location ** testing if installed package keeps a record of temporary installation path * DONE (variancePartition)
variancePartition.Rcheck/tests/runTests.Rout
R version 4.4.1 (2024-06-14) -- "Race for Your Life"
Copyright (C) 2024 The R Foundation for Statistical Computing
Platform: x86_64-pc-linux-gnu
R is free software and comes with ABSOLUTELY NO WARRANTY.
You are welcome to redistribute it under certain conditions.
Type 'license()' or 'licence()' for distribution details.
R is a collaborative project with many contributors.
Type 'contributors()' for more information and
'citation()' on how to cite R or R packages in publications.
Type 'demo()' for some demos, 'help()' for on-line help, or
'help.start()' for an HTML browser interface to help.
Type 'q()' to quit R.
> BiocGenerics:::testPackage("variancePartition")
Attaching package: 'variancePartition'
The following object is masked from 'package:limma':
    topTable
Loading required package: lme4
Loading required package: Matrix
Attaching package: 'lmerTest'
The following object is masked from 'package:lme4':
    lmer
The following object is masked from 'package:stats':
    step
boundary (singular) fit: see help('isSingular')
boundary (singular) fit: see help('isSingular')
Removing intercept from test coefficients
Removing intercept from test coefficients
boundary (singular) fit: see help('isSingular')
boundary (singular) fit: see help('isSingular')
boundary (singular) fit: see help('isSingular')
boundary (singular) fit: see help('isSingular')
boundary (singular) fit: see help('isSingular')
boundary (singular) fit: see help('isSingular')
boundary (singular) fit: see help('isSingular')
boundary (singular) fit: see help('isSingular')
boundary (singular) fit: see help('isSingular')
boundary (singular) fit: see help('isSingular')
boundary (singular) fit: see help('isSingular')
boundary (singular) fit: see help('isSingular')
boundary (singular) fit: see help('isSingular')
boundary (singular) fit: see help('isSingular')
boundary (singular) fit: see help('isSingular')
boundary (singular) fit: see help('isSingular')
boundary (singular) fit: see help('isSingular')
boundary (singular) fit: see help('isSingular')
Removing intercept from test coefficients
Removing intercept from test coefficients
Loading required package: Rcpp
Loading required package: RcppZiggurat
Loading required package: RcppParallel
Attaching package: 'RcppParallel'
The following object is masked from 'package:Rcpp':
    LdFlags
Rfast: 2.1.0
 ___ __ __ __ __    __ __ __ __ __ _             _               __ __ __ __ __     __ __ __ __ __ __   
|  __ __ __ __  |  |  __ __ __ __ _/            / \             |  __ __ __ __ /   /__ __ _   _ __ __\  
| |           | |  | |                         / _ \            | |                        / /          
| |           | |  | |                        / / \ \           | |                       / /          
| |           | |  | |                       / /   \ \          | |                      / /          
| |__ __ __ __| |  | |__ __ __ __           / /     \ \         | |__ __ __ __ _        / /__/\          
|    __ __ __ __|  |  __ __ __ __|         / /__ _ __\ \        |_ __ __ __ _   |      / ___  /           
|   \              | |                    / _ _ _ _ _ _ \                     | |      \/  / /       
| |\ \             | |                   / /           \ \                    | |         / /          
| | \ \            | |                  / /             \ \                   | |        / /          
| |  \ \           | |                 / /               \ \                  | |       / /          
| |   \ \__ __ _   | |                / /                 \ \     _ __ __ __ _| |      / /          
|_|    \__ __ __\  |_|               /_/                   \_\   /_ __ __ __ ___|      \/             team
Warning: 
Variables contain NA's: Disease 
Samples with missing data will be dropped.
RUNIT TEST PROTOCOL -- Thu Oct 17 06:20:10 2024 
*********************************************** 
Number of test functions: 30 
Number of errors: 0 
Number of failures: 0 
 
1 Test Suite : 
variancePartition RUnit Tests - 30 test functions, 0 errors, 0 failures
Number of test functions: 30 
Number of errors: 0 
Number of failures: 0 
There were 29 warnings (use warnings() to see them)
> 
> proc.time()
   user  system elapsed 
144.843   1.888 182.771 
variancePartition.Rcheck/variancePartition-Ex.timings
| name | user | system | elapsed | |
| ESS-method | 0.130 | 0.028 | 0.158 | |
| as.data.frame.varPartResults | 0.294 | 0.001 | 0.294 | |
| as.matrix-varPartResults-method | 0.255 | 0.000 | 0.255 | |
| augmentPriorCount | 0.766 | 0.016 | 0.782 | |
| calcVarPart-method | 0.055 | 0.000 | 0.055 | |
| canCorPairs | 0.059 | 0.008 | 0.067 | |
| colinearityScore | 0.395 | 0.000 | 0.395 | |
| deviation-method | 1.178 | 0.052 | 1.230 | |
| diffVar-method | 1.118 | 0.012 | 1.130 | |
| dream-method | 3.015 | 0.105 | 8.019 | |
| extractVarPart | 13.105 | 0.244 | 13.349 | |
| fitExtractVarPartModel-method | 20.612 | 0.184 | 20.796 | |
| fitVarPartModel-method | 25.348 | 0.128 | 25.476 | |
| getContrast-method | 0.008 | 0.000 | 0.007 | |
| getTreat-method | 17.31 | 0.04 | 17.35 | |
| get_prediction-method | 0.076 | 0.012 | 0.090 | |
| ggColorHue | 0.001 | 0.000 | 0.000 | |
| makeContrastsDream | 1.278 | 0.008 | 1.285 | |
| mvTest-method | 5.267 | 0.072 | 11.036 | |
| plotCompareP-method | 13.680 | 0.244 | 13.924 | |
| plotContrasts | 0.167 | 0.000 | 0.167 | |
| plotCorrMatrix | 0.067 | 0.004 | 0.072 | |
| plotCorrStructure | 0.726 | 0.016 | 0.742 | |
| plotPercentBars-method | 7.19 | 0.08 | 7.27 | |
| plotStratify | 0.666 | 0.000 | 0.666 | |
| plotStratifyBy | 0.621 | 0.000 | 0.620 | |
| plotVarPart-method | 6.562 | 0.064 | 6.626 | |
| rdf | 0.022 | 0.000 | 0.022 | |
| rdf.merMod | 0.042 | 0.004 | 0.047 | |
| residuals-VarParFitList-method | 6.199 | 0.048 | 6.248 | |
| sortCols-method | 6.692 | 0.048 | 6.740 | |
| varPartConfInf | 9.441 | 0.012 | 9.453 | |
| vcovSqrt-method | 0.018 | 0.000 | 0.018 | |
| voomWithDreamWeights | 2.649 | 0.051 | 2.700 | |