| Back to Multiple platform build/check report for BioC 3.19: simplified long | 
 | 
This page was generated on 2024-06-11 14:44 -0400 (Tue, 11 Jun 2024).
| Hostname | OS | Arch (*) | R version | Installed pkgs | 
|---|---|---|---|---|
| nebbiolo1 | Linux (Ubuntu 22.04.3 LTS) | x86_64 | 4.4.0 (2024-04-24) -- "Puppy Cup" | 4757 | 
| palomino3 | Windows Server 2022 Datacenter | x64 | 4.4.0 (2024-04-24 ucrt) -- "Puppy Cup" | 4491 | 
| lconway | macOS 12.7.1 Monterey | x86_64 | 4.4.0 (2024-04-24) -- "Puppy Cup" | 4522 | 
| kjohnson3 | macOS 13.6.5 Ventura | arm64 | 4.4.0 (2024-04-24) -- "Puppy Cup" | 4468 | 
| Click on any hostname to see more info about the system (e.g. compilers) (*) as reported by 'uname -p', except on Windows and Mac OS X | ||||
| Package 2211/2300 | Hostname | OS / Arch | INSTALL | BUILD | CHECK | BUILD BIN | ||||||||
| trio 3.42.0  (landing page) Holger Schwender 
 | nebbiolo1 | Linux (Ubuntu 22.04.3 LTS) / x86_64 | OK | OK | OK |  | ||||||||
| palomino3 | Windows Server 2022 Datacenter / x64 | OK | OK | OK | OK |  | ||||||||
| lconway | macOS 12.7.1 Monterey / x86_64 | OK | OK | OK | OK |  | ||||||||
| kjohnson3 | macOS 13.6.5 Ventura / arm64 | OK | OK | OK | OK |  | ||||||||
| To the developers/maintainers of the trio package: - Allow up to 24 hours (and sometimes 48 hours) for your latest push to git@git.bioconductor.org:packages/trio.git to reflect on this report. See Troubleshooting Build Report for more information. - Use the following Renviron settings to reproduce errors and warnings. - If 'R CMD check' started to fail recently on the Linux builder(s) over a missing dependency, add the missing dependency to 'Suggests:' in your DESCRIPTION file. See Renviron.bioc for more information. | 
| Package: trio | 
| Version: 3.42.0 | 
| Command: /Library/Frameworks/R.framework/Resources/bin/R CMD check --install=check:trio.install-out.txt --library=/Library/Frameworks/R.framework/Resources/library --no-vignettes --timings trio_3.42.0.tar.gz | 
| StartedAt: 2024-06-11 08:53:12 -0400 (Tue, 11 Jun 2024) | 
| EndedAt: 2024-06-11 08:57:13 -0400 (Tue, 11 Jun 2024) | 
| EllapsedTime: 241.2 seconds | 
| RetCode: 0 | 
| Status: OK | 
| CheckDir: trio.Rcheck | 
| Warnings: 0 | 
##############################################################################
##############################################################################
###
### Running command:
###
###   /Library/Frameworks/R.framework/Resources/bin/R CMD check --install=check:trio.install-out.txt --library=/Library/Frameworks/R.framework/Resources/library --no-vignettes --timings trio_3.42.0.tar.gz
###
##############################################################################
##############################################################################
* using log directory ‘/Users/biocbuild/bbs-3.19-bioc/meat/trio.Rcheck’
* using R version 4.4.0 (2024-04-24)
* using platform: aarch64-apple-darwin20
* R was compiled by
    Apple clang version 14.0.0 (clang-1400.0.29.202)
    GNU Fortran (GCC) 12.2.0
* running under: macOS Ventura 13.6.5
* using session charset: UTF-8
* using option ‘--no-vignettes’
* checking for file ‘trio/DESCRIPTION’ ... OK
* checking extension type ... Package
* this is package ‘trio’ version ‘3.42.0’
* checking package namespace information ... OK
* checking package dependencies ... OK
* checking if this is a source package ... OK
* checking if there is a namespace ... OK
* checking for hidden files and directories ... OK
* checking for portable file names ... OK
* checking for sufficient/correct file permissions ... OK
* checking whether package ‘trio’ can be installed ... OK
* checking installed package size ... OK
* checking package directory ... OK
* checking ‘build’ directory ... OK
* checking DESCRIPTION meta-information ... OK
* checking top-level files ... OK
* checking for left-over files ... OK
* checking index information ... OK
* checking package subdirectories ... OK
* checking code files for non-ASCII characters ... OK
* checking R files for syntax errors ... OK
* checking whether the package can be loaded ... OK
* checking whether the package can be loaded with stated dependencies ... OK
* checking whether the package can be unloaded cleanly ... OK
* checking whether the namespace can be loaded with stated dependencies ... OK
* checking whether the namespace can be unloaded cleanly ... OK
* checking whether startup messages can be suppressed ... OK
* checking dependencies in R code ... OK
* checking S3 generic/method consistency ... OK
* checking replacement functions ... OK
* checking foreign function calls ... NOTE
Foreign function call to a different package:
  .C("clogreg", ..., PACKAGE = "LogicReg")
See chapter ‘System and foreign language interfaces’ in the ‘Writing R
Extensions’ manual.
* checking R code for possible problems ... OK
* checking Rd files ... OK
* checking Rd metadata ... OK
* checking Rd cross-references ... OK
* checking for missing documentation entries ... OK
* checking for code/documentation mismatches ... OK
* checking Rd \usage sections ... OK
* checking Rd contents ... OK
* checking for unstated dependencies in examples ... OK
* checking contents of ‘data’ directory ... OK
* checking data for non-ASCII characters ... OK
* checking data for ASCII and uncompressed saves ... OK
* checking sizes of PDF files under ‘inst/doc’ ... OK
* checking installed files from ‘inst/doc’ ... OK
* checking files in ‘vignettes’ ... OK
* checking examples ... OK
Examples with CPU (user + system) or elapsed time > 5s
               user system elapsed
print.trioFS  5.346  0.064   7.946
trio.permTest 5.151  0.058   8.334
trioFS        4.870  0.052   7.784
colGxGPerms   4.680  0.090   7.850
plot.trioLR   3.670  0.176   6.101
* checking for unstated dependencies in vignettes ... OK
* checking package vignettes ... OK
* checking running R code from vignettes ... SKIPPED
* checking re-building of vignette outputs ... SKIPPED
* checking PDF version of manual ... OK
* DONE
Status: 1 NOTE
See
  ‘/Users/biocbuild/bbs-3.19-bioc/meat/trio.Rcheck/00check.log’
for details.
trio.Rcheck/00install.out
############################################################################## ############################################################################## ### ### Running command: ### ### /Library/Frameworks/R.framework/Resources/bin/R CMD INSTALL trio ### ############################################################################## ############################################################################## * installing to library ‘/Library/Frameworks/R.framework/Versions/4.4-arm64/Resources/library’ * installing *source* package ‘trio’ ... ** using staged installation ** R ** data ** inst ** byte-compile and prepare package for lazy loading ** help *** installing help indices ** building package indices ** installing vignettes ** testing if installed package can be loaded from temporary location ** testing if installed package can be loaded from final location ** testing if installed package keeps a record of temporary installation path * DONE (trio)
trio.Rcheck/trio-Ex.timings
| name | user | system | elapsed | |
| allelicTDT | 0.026 | 0.007 | 0.055 | |
| colEMlrt | 0.091 | 0.005 | 0.152 | |
| colGxE | 0.008 | 0.002 | 0.017 | |
| colGxGPerms | 4.68 | 0.09 | 7.85 | |
| colPOlrt | 0.014 | 0.003 | 0.024 | |
| colTDTmaxTest | 0.046 | 0.006 | 0.084 | |
| colTDTsam | 0.039 | 0.005 | 0.065 | |
| findLDblocks | 0.309 | 0.007 | 0.482 | |
| getLD | 0.015 | 0.003 | 0.033 | |
| getMatPseudo | 0.006 | 0.002 | 0.014 | |
| lrControl | 0 | 0 | 0 | |
| ped2geno | 0 | 0 | 0 | |
| plot.LDblocks | 0.059 | 0.006 | 0.110 | |
| plot.getLD | 0.027 | 0.007 | 0.050 | |
| plot.trioLR | 3.670 | 0.176 | 6.101 | |
| poly4root | 0 | 0 | 0 | |
| print.colGxE | 0.049 | 0.007 | 0.097 | |
| print.trioFS | 5.346 | 0.064 | 7.946 | |
| print.trioLR | 2.589 | 0.031 | 4.165 | |
| probTDT | 0.037 | 0.015 | 0.094 | |
| read.pedfile | 0 | 0 | 0 | |
| removeSNPs | 0.005 | 0.002 | 0.011 | |
| scoreTDT | 0.009 | 0.002 | 0.019 | |
| tdt | 0.044 | 0.004 | 0.085 | |
| tdtGxG | 1.402 | 0.022 | 2.439 | |
| trio.check | 0.722 | 0.011 | 1.227 | |
| trio.data | 0.004 | 0.002 | 0.011 | |
| trio.permTest | 5.151 | 0.058 | 8.334 | |
| trio.power | 0.011 | 0.001 | 0.014 | |
| trio.prepare | 2.292 | 0.035 | 3.727 | |
| trio.sim | 0.562 | 0.007 | 0.892 | |
| trioFS | 4.870 | 0.052 | 7.784 | |
| trioLR | 2.376 | 0.038 | 3.957 | |