| Back to Multiple platform build/check report for BioC 3.19: simplified long |
|
This page was generated on 2024-06-11 14:43 -0400 (Tue, 11 Jun 2024).
| Hostname | OS | Arch (*) | R version | Installed pkgs |
|---|---|---|---|---|
| nebbiolo1 | Linux (Ubuntu 22.04.3 LTS) | x86_64 | 4.4.0 (2024-04-24) -- "Puppy Cup" | 4757 |
| palomino3 | Windows Server 2022 Datacenter | x64 | 4.4.0 (2024-04-24 ucrt) -- "Puppy Cup" | 4491 |
| lconway | macOS 12.7.1 Monterey | x86_64 | 4.4.0 (2024-04-24) -- "Puppy Cup" | 4522 |
| kjohnson3 | macOS 13.6.5 Ventura | arm64 | 4.4.0 (2024-04-24) -- "Puppy Cup" | 4468 |
| Click on any hostname to see more info about the system (e.g. compilers) (*) as reported by 'uname -p', except on Windows and Mac OS X | ||||
| Package 2191/2300 | Hostname | OS / Arch | INSTALL | BUILD | CHECK | BUILD BIN | ||||||||
| transcriptogramer 1.26.0 (landing page) Diego Morais
| nebbiolo1 | Linux (Ubuntu 22.04.3 LTS) / x86_64 | OK | OK | OK | |||||||||
| palomino3 | Windows Server 2022 Datacenter / x64 | OK | OK | OK | OK | |||||||||
| lconway | macOS 12.7.1 Monterey / x86_64 | OK | OK | OK | OK | |||||||||
| kjohnson3 | macOS 13.6.5 Ventura / arm64 | OK | OK | OK | OK | |||||||||
|
To the developers/maintainers of the transcriptogramer package: - Allow up to 24 hours (and sometimes 48 hours) for your latest push to git@git.bioconductor.org:packages/transcriptogramer.git to reflect on this report. See Troubleshooting Build Report for more information. - Use the following Renviron settings to reproduce errors and warnings. - If 'R CMD check' started to fail recently on the Linux builder(s) over a missing dependency, add the missing dependency to 'Suggests:' in your DESCRIPTION file. See Renviron.bioc for more information. |
| Package: transcriptogramer |
| Version: 1.26.0 |
| Command: /Library/Frameworks/R.framework/Resources/bin/R CMD check --install=check:transcriptogramer.install-out.txt --library=/Library/Frameworks/R.framework/Resources/library --no-vignettes --timings transcriptogramer_1.26.0.tar.gz |
| StartedAt: 2024-06-09 23:37:11 -0400 (Sun, 09 Jun 2024) |
| EndedAt: 2024-06-09 23:41:46 -0400 (Sun, 09 Jun 2024) |
| EllapsedTime: 275.7 seconds |
| RetCode: 0 |
| Status: OK |
| CheckDir: transcriptogramer.Rcheck |
| Warnings: 0 |
##############################################################################
##############################################################################
###
### Running command:
###
### /Library/Frameworks/R.framework/Resources/bin/R CMD check --install=check:transcriptogramer.install-out.txt --library=/Library/Frameworks/R.framework/Resources/library --no-vignettes --timings transcriptogramer_1.26.0.tar.gz
###
##############################################################################
##############################################################################
* using log directory ‘/Users/biocbuild/bbs-3.19-bioc/meat/transcriptogramer.Rcheck’
* using R version 4.4.0 (2024-04-24)
* using platform: x86_64-apple-darwin20
* R was compiled by
Apple clang version 14.0.0 (clang-1400.0.29.202)
GNU Fortran (GCC) 12.2.0
* running under: macOS Monterey 12.7.1
* using session charset: UTF-8
* using option ‘--no-vignettes’
* checking for file ‘transcriptogramer/DESCRIPTION’ ... OK
* checking extension type ... Package
* this is package ‘transcriptogramer’ version ‘1.26.0’
* package encoding: UTF-8
* checking package namespace information ... OK
* checking package dependencies ... OK
* checking if this is a source package ... OK
* checking if there is a namespace ... OK
* checking for hidden files and directories ... OK
* checking for portable file names ... OK
* checking for sufficient/correct file permissions ... OK
* checking whether package ‘transcriptogramer’ can be installed ... OK
* checking installed package size ... NOTE
installed size is 5.6Mb
sub-directories of 1Mb or more:
data 5.0Mb
* checking package directory ... OK
* checking ‘build’ directory ... OK
* checking DESCRIPTION meta-information ... OK
* checking top-level files ... OK
* checking for left-over files ... OK
* checking index information ... OK
* checking package subdirectories ... OK
* checking code files for non-ASCII characters ... OK
* checking R files for syntax errors ... OK
* checking whether the package can be loaded ... OK
* checking whether the package can be loaded with stated dependencies ... OK
* checking whether the package can be unloaded cleanly ... OK
* checking whether the namespace can be loaded with stated dependencies ... OK
* checking whether the namespace can be unloaded cleanly ... OK
* checking dependencies in R code ... OK
* checking S3 generic/method consistency ... OK
* checking replacement functions ... OK
* checking foreign function calls ... OK
* checking R code for possible problems ... OK
* checking Rd files ... OK
* checking Rd metadata ... OK
* checking Rd cross-references ... OK
* checking for missing documentation entries ... OK
* checking for code/documentation mismatches ... OK
* checking Rd \usage sections ... OK
* checking Rd contents ... OK
* checking for unstated dependencies in examples ... OK
* checking contents of ‘data’ directory ... OK
* checking data for non-ASCII characters ... OK
* checking LazyData ... OK
* checking data for ASCII and uncompressed saves ... OK
* checking files in ‘vignettes’ ... OK
* checking examples ... OK
* checking for unstated dependencies in ‘tests’ ... OK
* checking tests ...
Running ‘runTests.R’
OK
* checking for unstated dependencies in vignettes ... OK
* checking package vignettes ... OK
* checking running R code from vignettes ... SKIPPED
* checking re-building of vignette outputs ... SKIPPED
* checking PDF version of manual ... OK
* DONE
Status: 1 NOTE
See
‘/Users/biocbuild/bbs-3.19-bioc/meat/transcriptogramer.Rcheck/00check.log’
for details.
transcriptogramer.Rcheck/00install.out
############################################################################## ############################################################################## ### ### Running command: ### ### /Library/Frameworks/R.framework/Resources/bin/R CMD INSTALL transcriptogramer ### ############################################################################## ############################################################################## * installing to library ‘/Library/Frameworks/R.framework/Versions/4.4-x86_64/Resources/library’ * installing *source* package ‘transcriptogramer’ ... ** using staged installation ** R ** data *** moving datasets to lazyload DB ** inst ** byte-compile and prepare package for lazy loading ** help *** installing help indices ** building package indices ** installing vignettes ** testing if installed package can be loaded from temporary location ** testing if installed package can be loaded from final location ** testing if installed package keeps a record of temporary installation path * DONE (transcriptogramer)
transcriptogramer.Rcheck/tests/runTests.Rout
R version 4.4.0 (2024-04-24) -- "Puppy Cup"
Copyright (C) 2024 The R Foundation for Statistical Computing
Platform: x86_64-apple-darwin20
R is free software and comes with ABSOLUTELY NO WARRANTY.
You are welcome to redistribute it under certain conditions.
Type 'license()' or 'licence()' for distribution details.
R is a collaborative project with many contributors.
Type 'contributors()' for more information and
'citation()' on how to cite R or R packages in publications.
Type 'demo()' for some demos, 'help()' for on-line help, or
'help.start()' for an HTML browser interface to help.
Type 'q()' to quit R.
> BiocGenerics:::testPackage("transcriptogramer")
preprocessing input data... step 1 of 1
calculating node properties... step 1 of 2
** this may take some time...
applying sliding window and mounting resulting data... step 2 of 2
** this may take some time...
done!
mapping identifiers to ENSEMBL Peptide ID... step 1 of 2
averaging over all identifiers related to the same protein... step 2 of 2
done!
applying sliding window and mounting resulting data... step 1 of 1
done!
RUNIT TEST PROTOCOL -- Sun Jun 9 23:41:33 2024
***********************************************
Number of test functions: 3
Number of errors: 0
Number of failures: 0
1 Test Suite :
transcriptogramer RUnit Tests - 3 test functions, 0 errors, 0 failures
Number of test functions: 3
Number of errors: 0
Number of failures: 0
>
> proc.time()
user system elapsed
11.069 1.637 112.015
transcriptogramer.Rcheck/transcriptogramer-Ex.timings
| name | user | system | elapsed | |
| DE-method | 1.353 | 0.047 | 1.402 | |
| DEsymbols | 0.173 | 0.171 | 0.344 | |
| GPL570 | 0.584 | 0.452 | 1.042 | |
| GSE9988 | 0.527 | 0.572 | 1.102 | |
| Hs700 | 0.116 | 0.130 | 0.248 | |
| Hs800 | 0.098 | 0.115 | 0.215 | |
| Hs900 | 0.062 | 0.080 | 0.142 | |
| HsBPTerms | 0.770 | 0.685 | 1.461 | |
| Mm700 | 0.107 | 0.137 | 0.244 | |
| Mm800 | 0.092 | 0.127 | 0.219 | |
| Mm900 | 0.070 | 0.099 | 0.170 | |
| Rn700 | 0.120 | 0.156 | 0.277 | |
| Rn800 | 0.084 | 0.096 | 0.180 | |
| Rn900 | 0.055 | 0.067 | 0.122 | |
| Sc700 | 0.020 | 0.033 | 0.053 | |
| Sc800 | 0.019 | 0.030 | 0.049 | |
| Sc900 | 0.024 | 0.039 | 0.063 | |
| Terms-method | 0.076 | 0.009 | 0.084 | |
| association | 0.848 | 0.663 | 1.515 | |
| clusterEnrichment-method | 0.036 | 0.006 | 0.041 | |
| clusterVisualization-method | 0.068 | 0.008 | 0.076 | |
| connectivityProperties-method | 0.029 | 0.001 | 0.031 | |
| differentiallyExpressed-method | 0.045 | 0.005 | 0.051 | |
| enrichmentPlot-method | 0.039 | 0.003 | 0.041 | |
| orderingProperties-method | 0.051 | 0.003 | 0.055 | |
| radius-method | 0.037 | 0.002 | 0.039 | |
| transcriptogramPreprocess | 0.486 | 0.007 | 0.493 | |
| transcriptogramStep1-method | 0.026 | 0.000 | 0.027 | |
| transcriptogramStep2-method | 0.026 | 0.001 | 0.027 | |