| Back to Multiple platform build/check report for BioC 3.19: simplified long |
|
This page was generated on 2024-05-08 11:41:30 -0400 (Wed, 08 May 2024).
| Hostname | OS | Arch (*) | R version | Installed pkgs |
|---|---|---|---|---|
| nebbiolo1 | Linux (Ubuntu 22.04.3 LTS) | x86_64 | 4.4.0 (2024-04-24) -- "Puppy Cup" | 4707 |
| palomino3 | Windows Server 2022 Datacenter | x64 | 4.4.0 (2024-04-24 ucrt) -- "Puppy Cup" | 4484 |
| lconway | macOS 12.7.1 Monterey | x86_64 | 4.4.0 (2024-04-24) -- "Puppy Cup" | 4514 |
| kunpeng2 | Linux (openEuler 22.03 LTS-SP1) | aarch64 | 4.4.0 beta (2024-04-15 r86425) -- "Puppy Cup" | 4480 |
| Click on any hostname to see more info about the system (e.g. compilers) (*) as reported by 'uname -p', except on Windows and Mac OS X | ||||
| Package 2192/2300 | Hostname | OS / Arch | INSTALL | BUILD | CHECK | BUILD BIN | ||||||||
| transcriptR 1.32.0 (landing page) Armen R. Karapetyan
| nebbiolo1 | Linux (Ubuntu 22.04.3 LTS) / x86_64 | OK | OK | OK | |||||||||
| palomino3 | Windows Server 2022 Datacenter / x64 | OK | OK | OK | OK | |||||||||
| lconway | macOS 12.7.1 Monterey / x86_64 | OK | OK | OK | OK | |||||||||
| kunpeng2 | Linux (openEuler 22.03 LTS-SP1) / aarch64 | OK | OK | OK | ||||||||||
| kjohnson3 | macOS 13.6.5 Ventura / arm64 | see weekly results here | ||||||||||||
|
To the developers/maintainers of the transcriptR package: - Allow up to 24 hours (and sometimes 48 hours) for your latest push to git@git.bioconductor.org:packages/transcriptR.git to reflect on this report. See Troubleshooting Build Report for more information. - Use the following Renviron settings to reproduce errors and warnings. - If 'R CMD check' started to fail recently on the Linux builder(s) over a missing dependency, add the missing dependency to 'Suggests:' in your DESCRIPTION file. See Renviron.bioc for more information. - See Martin Grigorov's blog post for how to debug Linux ARM64 related issues on a x86_64 host. |
| Package: transcriptR |
| Version: 1.32.0 |
| Command: /home/biocbuild/R/R-beta-2024-04-15_r86425/bin/R CMD check --install=check:transcriptR.install-out.txt --library=/home/biocbuild/R/R-beta-2024-04-15_r86425/site-library --no-vignettes --timings transcriptR_1.32.0.tar.gz |
| StartedAt: 2024-05-08 12:48:25 -0000 (Wed, 08 May 2024) |
| EndedAt: 2024-05-08 12:57:13 -0000 (Wed, 08 May 2024) |
| EllapsedTime: 527.9 seconds |
| RetCode: 0 |
| Status: OK |
| CheckDir: transcriptR.Rcheck |
| Warnings: 0 |
##############################################################################
##############################################################################
###
### Running command:
###
### /home/biocbuild/R/R-beta-2024-04-15_r86425/bin/R CMD check --install=check:transcriptR.install-out.txt --library=/home/biocbuild/R/R-beta-2024-04-15_r86425/site-library --no-vignettes --timings transcriptR_1.32.0.tar.gz
###
##############################################################################
##############################################################################
* using log directory ‘/home/biocbuild/bbs-3.19-bioc/meat/transcriptR.Rcheck’
* using R version 4.4.0 beta (2024-04-15 r86425)
* using platform: aarch64-unknown-linux-gnu
* R was compiled by
gcc (GCC) 10.3.1
GNU Fortran (GCC) 10.3.1
* running under: openEuler 22.03 (LTS-SP1)
* using session charset: UTF-8
* using option ‘--no-vignettes’
* checking for file ‘transcriptR/DESCRIPTION’ ... OK
* checking extension type ... Package
* this is package ‘transcriptR’ version ‘1.32.0’
* checking package namespace information ... OK
* checking package dependencies ... OK
* checking if this is a source package ... OK
* checking if there is a namespace ... OK
* checking for hidden files and directories ... OK
* checking for portable file names ... OK
* checking for sufficient/correct file permissions ... OK
* checking whether package ‘transcriptR’ can be installed ... OK
* checking installed package size ... OK
* checking package directory ... OK
* checking ‘build’ directory ... OK
* checking DESCRIPTION meta-information ... OK
* checking top-level files ... OK
* checking for left-over files ... OK
* checking index information ... OK
* checking package subdirectories ... OK
* checking code files for non-ASCII characters ... OK
* checking R files for syntax errors ... OK
* checking whether the package can be loaded ... OK
* checking whether the package can be loaded with stated dependencies ... OK
* checking whether the package can be unloaded cleanly ... OK
* checking whether the namespace can be loaded with stated dependencies ... OK
* checking whether the namespace can be unloaded cleanly ... OK
* checking loading without being on the library search path ... OK
* checking dependencies in R code ... OK
* checking S3 generic/method consistency ... OK
* checking replacement functions ... OK
* checking foreign function calls ... OK
* checking R code for possible problems ... OK
* checking Rd files ... OK
* checking Rd metadata ... OK
* checking Rd cross-references ... OK
* checking for missing documentation entries ... OK
* checking for code/documentation mismatches ... OK
* checking Rd \usage sections ... OK
* checking Rd contents ... OK
* checking for unstated dependencies in examples ... OK
* checking contents of ‘data’ directory ... OK
* checking data for non-ASCII characters ... OK
* checking data for ASCII and uncompressed saves ... OK
* checking files in ‘vignettes’ ... OK
* checking examples ... OK
Examples with CPU (user + system) or elapsed time > 5s
user system elapsed
breakTranscriptsByPeaks-methods 10.799 0.184 11.005
predictStrand-methods 6.479 0.128 6.621
peaksToBed-methods 5.318 0.035 5.366
* checking for unstated dependencies in ‘tests’ ... OK
* checking tests ...
Running ‘testthat.R’
OK
* checking for unstated dependencies in vignettes ... OK
* checking package vignettes ... OK
* checking running R code from vignettes ... SKIPPED
* checking re-building of vignette outputs ... SKIPPED
* checking PDF version of manual ... OK
* DONE
Status: OK
transcriptR.Rcheck/00install.out
############################################################################## ############################################################################## ### ### Running command: ### ### /home/biocbuild/R/R-beta-2024-04-15_r86425/bin/R CMD INSTALL transcriptR ### ############################################################################## ############################################################################## * installing to library ‘/home/biocbuild/R/R-beta-2024-04-15_r86425/site-library’ * installing *source* package ‘transcriptR’ ... ** using staged installation ** R ** data ** inst ** byte-compile and prepare package for lazy loading ** help *** installing help indices ** building package indices ** installing vignettes ** testing if installed package can be loaded from temporary location ** testing if installed package can be loaded from final location ** testing if installed package keeps a record of temporary installation path * DONE (transcriptR)
transcriptR.Rcheck/tests/testthat.Rout
R version 4.4.0 beta (2024-04-15 r86425) -- "Puppy Cup"
Copyright (C) 2024 The R Foundation for Statistical Computing
Platform: aarch64-unknown-linux-gnu
R is free software and comes with ABSOLUTELY NO WARRANTY.
You are welcome to redistribute it under certain conditions.
Type 'license()' or 'licence()' for distribution details.
R is a collaborative project with many contributors.
Type 'contributors()' for more information and
'citation()' on how to cite R or R packages in publications.
Type 'demo()' for some demos, 'help()' for on-line help, or
'help.start()' for an HTML browser interface to help.
Type 'q()' to quit R.
> library(testthat)
> library(transcriptR)
>
> test_check("transcriptR")
[ FAIL 0 | WARN 0 | SKIP 0 | PASS 87 ]
>
> proc.time()
user system elapsed
76.376 1.903 78.522
transcriptR.Rcheck/transcriptR-Ex.timings
| name | user | system | elapsed | |
| addFeature-methods | 0.125 | 0.012 | 0.136 | |
| annotateTranscripts-methods | 3.490 | 0.056 | 3.554 | |
| breakTranscriptsByPeaks-methods | 10.799 | 0.184 | 11.005 | |
| constructCDS | 0.003 | 0.000 | 0.003 | |
| constructTDS | 0.192 | 0.004 | 0.196 | |
| detectTranscripts-methods | 1.724 | 0.008 | 1.735 | |
| estimateBackground-methods | 0.480 | 0.008 | 0.490 | |
| estimateGapDistance-methods | 1.250 | 0.008 | 1.261 | |
| exportCoverage-methods | 0.195 | 0.008 | 0.204 | |
| getConfusionMatrix-methods | 0.002 | 0.000 | 0.002 | |
| getGenomicAnnot-methods | 0.004 | 0.000 | 0.004 | |
| getPeaks-methods | 0.029 | 0.000 | 0.029 | |
| getPredictorSignificance-methods | 0.003 | 0.000 | 0.003 | |
| getProbTreshold-methods | 0.003 | 0.000 | 0.003 | |
| getQuadProb-methods | 0.184 | 0.012 | 0.196 | |
| getTestedGapDistances-methods | 0.225 | 0.000 | 0.225 | |
| getTranscripts-methods | 0.194 | 0.008 | 0.202 | |
| peaksToBed-methods | 5.318 | 0.035 | 5.366 | |
| plotErrorRate-methods | 1.196 | 0.023 | 1.223 | |
| plotFeatures-methods | 2.718 | 0.020 | 2.745 | |
| plotGenomicAnnot-methods | 0.686 | 0.004 | 0.692 | |
| plotROC-methods | 0.879 | 0.020 | 0.902 | |
| predictStrand-methods | 6.479 | 0.128 | 6.621 | |
| predictTssOverlap-methods | 0.859 | 0.008 | 0.868 | |
| show | 0.195 | 0.004 | 0.199 | |
| transcriptsToBed-methods | 1.707 | 0.012 | 1.723 | |