| Back to Multiple platform build/check report for BioC 3.19: simplified long | 
 | 
This page was generated on 2024-05-08 11:41:30 -0400 (Wed, 08 May 2024).
| Hostname | OS | Arch (*) | R version | Installed pkgs | 
|---|---|---|---|---|
| nebbiolo1 | Linux (Ubuntu 22.04.3 LTS) | x86_64 | 4.4.0 (2024-04-24) -- "Puppy Cup" | 4707 | 
| palomino3 | Windows Server 2022 Datacenter | x64 | 4.4.0 (2024-04-24 ucrt) -- "Puppy Cup" | 4484 | 
| lconway | macOS 12.7.1 Monterey | x86_64 | 4.4.0 (2024-04-24) -- "Puppy Cup" | 4514 | 
| kunpeng2 | Linux (openEuler 22.03 LTS-SP1) | aarch64 | 4.4.0 beta (2024-04-15 r86425) -- "Puppy Cup" | 4480 | 
| Click on any hostname to see more info about the system (e.g. compilers) (*) as reported by 'uname -p', except on Windows and Mac OS X | ||||
| Package 2176/2300 | Hostname | OS / Arch | INSTALL | BUILD | CHECK | BUILD BIN | ||||||||
| tomoda 1.14.0  (landing page) Wendao Liu 
 | nebbiolo1 | Linux (Ubuntu 22.04.3 LTS) / x86_64 | OK | OK | OK |  | ||||||||
| palomino3 | Windows Server 2022 Datacenter / x64 | OK | OK | OK | OK |  | ||||||||
| lconway | macOS 12.7.1 Monterey / x86_64 | OK | OK | OK | OK |  | ||||||||
| kunpeng2 | Linux (openEuler 22.03 LTS-SP1) / aarch64 | OK | OK | OK | ||||||||||
| kjohnson3 | macOS 13.6.5 Ventura / arm64 | see weekly results here | ||||||||||||
| To the developers/maintainers of the tomoda package: - Allow up to 24 hours (and sometimes 48 hours) for your latest push to git@git.bioconductor.org:packages/tomoda.git to reflect on this report. See Troubleshooting Build Report for more information. - Use the following Renviron settings to reproduce errors and warnings. - If 'R CMD check' started to fail recently on the Linux builder(s) over a missing dependency, add the missing dependency to 'Suggests:' in your DESCRIPTION file. See Renviron.bioc for more information. - See Martin Grigorov's blog post for how to debug Linux ARM64 related issues on a x86_64 host. | 
| Package: tomoda | 
| Version: 1.14.0 | 
| Command: /home/biocbuild/R/R-beta-2024-04-15_r86425/bin/R CMD check --install=check:tomoda.install-out.txt --library=/home/biocbuild/R/R-beta-2024-04-15_r86425/site-library --no-vignettes --timings tomoda_1.14.0.tar.gz | 
| StartedAt: 2024-05-08 12:46:19 -0000 (Wed, 08 May 2024) | 
| EndedAt: 2024-05-08 12:54:45 -0000 (Wed, 08 May 2024) | 
| EllapsedTime: 505.9 seconds | 
| RetCode: 0 | 
| Status: OK | 
| CheckDir: tomoda.Rcheck | 
| Warnings: 0 | 
##############################################################################
##############################################################################
###
### Running command:
###
###   /home/biocbuild/R/R-beta-2024-04-15_r86425/bin/R CMD check --install=check:tomoda.install-out.txt --library=/home/biocbuild/R/R-beta-2024-04-15_r86425/site-library --no-vignettes --timings tomoda_1.14.0.tar.gz
###
##############################################################################
##############################################################################
* using log directory ‘/home/biocbuild/bbs-3.19-bioc/meat/tomoda.Rcheck’
* using R version 4.4.0 beta (2024-04-15 r86425)
* using platform: aarch64-unknown-linux-gnu
* R was compiled by
    gcc (GCC) 10.3.1
    GNU Fortran (GCC) 10.3.1
* running under: openEuler 22.03 (LTS-SP1)
* using session charset: UTF-8
* using option ‘--no-vignettes’
* checking for file ‘tomoda/DESCRIPTION’ ... OK
* this is package ‘tomoda’ version ‘1.14.0’
* package encoding: UTF-8
* checking package namespace information ... OK
* checking package dependencies ... OK
* checking if this is a source package ... OK
* checking if there is a namespace ... OK
* checking for hidden files and directories ... OK
* checking for portable file names ... OK
* checking for sufficient/correct file permissions ... OK
* checking whether package ‘tomoda’ can be installed ... OK
* checking installed package size ... OK
* checking package directory ... OK
* checking ‘build’ directory ... OK
* checking DESCRIPTION meta-information ... OK
* checking top-level files ... OK
* checking for left-over files ... OK
* checking index information ... OK
* checking package subdirectories ... OK
* checking code files for non-ASCII characters ... OK
* checking R files for syntax errors ... OK
* checking whether the package can be loaded ... OK
* checking whether the package can be loaded with stated dependencies ... OK
* checking whether the package can be unloaded cleanly ... OK
* checking whether the namespace can be loaded with stated dependencies ... OK
* checking whether the namespace can be unloaded cleanly ... OK
* checking loading without being on the library search path ... OK
* checking dependencies in R code ... OK
* checking S3 generic/method consistency ... OK
* checking replacement functions ... OK
* checking foreign function calls ... OK
* checking R code for possible problems ... OK
* checking Rd files ... OK
* checking Rd metadata ... OK
* checking Rd cross-references ... OK
* checking for missing documentation entries ... OK
* checking for code/documentation mismatches ... OK
* checking Rd \usage sections ... OK
* checking Rd contents ... OK
* checking for unstated dependencies in examples ... OK
* checking contents of ‘data’ directory ... OK
* checking data for non-ASCII characters ... OK
* checking data for ASCII and uncompressed saves ... OK
* checking files in ‘vignettes’ ... OK
* checking examples ... OK
Examples with CPU (user + system) or elapsed time > 5s
                 user system elapsed
findPeakGene   87.968  0.280  94.505
geneCorHeatmap 49.124  0.163  61.062
geneEmbedPlot  40.907  0.076  41.064
expHeatmap     36.906  0.227  37.201
corHeatmap      5.984  0.172   6.165
embedPlot       5.285  0.112   5.405
* checking for unstated dependencies in ‘tests’ ... OK
* checking tests ...
  Running ‘testthat.R’
 OK
* checking for unstated dependencies in vignettes ... OK
* checking package vignettes ... OK
* checking running R code from vignettes ... SKIPPED
* checking re-building of vignette outputs ... SKIPPED
* checking PDF version of manual ... OK
* DONE
Status: OK
tomoda.Rcheck/00install.out
############################################################################## ############################################################################## ### ### Running command: ### ### /home/biocbuild/R/R-beta-2024-04-15_r86425/bin/R CMD INSTALL tomoda ### ############################################################################## ############################################################################## * installing to library ‘/home/biocbuild/R/R-beta-2024-04-15_r86425/site-library’ * installing *source* package ‘tomoda’ ... ** using staged installation ** R ** data ** byte-compile and prepare package for lazy loading ** help *** installing help indices ** building package indices ** installing vignettes ** testing if installed package can be loaded from temporary location ** testing if installed package can be loaded from final location ** testing if installed package keeps a record of temporary installation path * DONE (tomoda)
tomoda.Rcheck/tests/testthat.Rout
R version 4.4.0 beta (2024-04-15 r86425) -- "Puppy Cup"
Copyright (C) 2024 The R Foundation for Statistical Computing
Platform: aarch64-unknown-linux-gnu
R is free software and comes with ABSOLUTELY NO WARRANTY.
You are welcome to redistribute it under certain conditions.
Type 'license()' or 'licence()' for distribution details.
R is a collaborative project with many contributors.
Type 'contributors()' for more information and
'citation()' on how to cite R or R packages in publications.
Type 'demo()' for some demos, 'help()' for on-line help, or
'help.start()' for an HTML browser interface to help.
Type 'q()' to quit R.
> library(testthat)
> library(tomoda)
> 
> test_check("tomoda")
[ FAIL 0 | WARN 1 | SKIP 0 | PASS 43 ]
[ FAIL 0 | WARN 1 | SKIP 0 | PASS 43 ]
> 
> proc.time()
   user  system elapsed 
 52.553   1.353  54.009 
tomoda.Rcheck/tomoda-Ex.timings
| name | user | system | elapsed | |
| corHeatmap | 5.984 | 0.172 | 6.165 | |
| createTomo | 2.462 | 0.144 | 2.610 | |
| embedPlot | 5.285 | 0.112 | 5.405 | |
| expHeatmap | 36.906 | 0.227 | 37.201 | |
| findPeak | 0.001 | 0.000 | 0.000 | |
| findPeakGene | 87.968 | 0.280 | 94.505 | |
| geneCorHeatmap | 49.124 | 0.163 | 61.062 | |
| geneEmbedPlot | 40.907 | 0.076 | 41.064 | |
| hierarchClust | 1.922 | 0.008 | 1.934 | |
| kmeansClust | 1.763 | 0.004 | 1.771 | |
| linePlot | 2.184 | 0.008 | 2.198 | |
| normalizeTomo | 0.266 | 0.000 | 0.267 | |
| runPCA | 1.401 | 0.004 | 1.408 | |
| runTSNE | 1.763 | 0.012 | 1.778 | |
| runUMAP | 1.980 | 0.020 | 2.004 | |
| scaleTomo | 0.867 | 0.004 | 0.873 | |
| tomoMatrix | 0.914 | 0.000 | 0.916 | |
| tomoSummarizedExperiment | 0.903 | 0.004 | 0.911 | |