| Back to Multiple platform build/check report for BioC 3.19: simplified long | 
 | 
This page was generated on 2024-10-18 20:42 -0400 (Fri, 18 Oct 2024).
| Hostname | OS | Arch (*) | R version | Installed pkgs | 
|---|---|---|---|---|
| nebbiolo1 | Linux (Ubuntu 22.04.3 LTS) | x86_64 | 4.4.1 (2024-06-14) -- "Race for Your Life" | 4763 | 
| palomino7 | Windows Server 2022 Datacenter | x64 | 4.4.1 (2024-06-14 ucrt) -- "Race for Your Life" | 4500 | 
| merida1 | macOS 12.7.5 Monterey | x86_64 | 4.4.1 (2024-06-14) -- "Race for Your Life" | 4530 | 
| kjohnson1 | macOS 13.6.6 Ventura | arm64 | 4.4.1 (2024-06-14) -- "Race for Your Life" | 4480 | 
| Click on any hostname to see more info about the system (e.g. compilers) (*) as reported by 'uname -p', except on Windows and Mac OS X | ||||
| Package 2171/2300 | Hostname | OS / Arch | INSTALL | BUILD | CHECK | BUILD BIN | ||||||||
| tLOH 1.12.0  (landing page) Michelle Webb 
 | nebbiolo1 | Linux (Ubuntu 22.04.3 LTS) / x86_64 | OK | OK | OK |  | ||||||||
| palomino7 | Windows Server 2022 Datacenter / x64 | OK | OK | OK | OK |  | ||||||||
| merida1 | macOS 12.7.5 Monterey / x86_64 | OK | OK | OK | OK |  | ||||||||
| kjohnson1 | macOS 13.6.6 Ventura / arm64 | OK | OK | OK | NA | |||||||||
| To the developers/maintainers of the tLOH package: - Allow up to 24 hours (and sometimes 48 hours) for your latest push to git@git.bioconductor.org:packages/tLOH.git to reflect on this report. See Troubleshooting Build Report for more information. - Use the following Renviron settings to reproduce errors and warnings. - If 'R CMD check' started to fail recently on the Linux builder(s) over a missing dependency, add the missing dependency to 'Suggests:' in your DESCRIPTION file. See Renviron.bioc for more information. | 
| Package: tLOH | 
| Version: 1.12.0 | 
| Command: /Library/Frameworks/R.framework/Resources/bin/R CMD check --install=check:tLOH.install-out.txt --library=/Library/Frameworks/R.framework/Resources/library --no-vignettes --timings tLOH_1.12.0.tar.gz | 
| StartedAt: 2024-10-18 15:19:06 -0400 (Fri, 18 Oct 2024) | 
| EndedAt: 2024-10-18 15:31:32 -0400 (Fri, 18 Oct 2024) | 
| EllapsedTime: 745.6 seconds | 
| RetCode: 0 | 
| Status: OK | 
| CheckDir: tLOH.Rcheck | 
| Warnings: 0 | 
##############################################################################
##############################################################################
###
### Running command:
###
###   /Library/Frameworks/R.framework/Resources/bin/R CMD check --install=check:tLOH.install-out.txt --library=/Library/Frameworks/R.framework/Resources/library --no-vignettes --timings tLOH_1.12.0.tar.gz
###
##############################################################################
##############################################################################
* using log directory ‘/Users/biocbuild/bbs-3.19-bioc/meat/tLOH.Rcheck’
* using R version 4.4.1 (2024-06-14)
* using platform: aarch64-apple-darwin20
* R was compiled by
    Apple clang version 14.0.0 (clang-1400.0.29.202)
    GNU Fortran (GCC) 12.2.0
* running under: macOS Ventura 13.6.6
* using session charset: UTF-8
* using option ‘--no-vignettes’
* checking for file ‘tLOH/DESCRIPTION’ ... OK
* checking extension type ... Package
* this is package ‘tLOH’ version ‘1.12.0’
* package encoding: UTF-8
* checking package namespace information ... OK
* checking package dependencies ... OK
* checking if this is a source package ... OK
* checking if there is a namespace ... OK
* checking for hidden files and directories ... OK
* checking for portable file names ... OK
* checking for sufficient/correct file permissions ... OK
* checking whether package ‘tLOH’ can be installed ... OK
* checking installed package size ... OK
* checking package directory ... OK
* checking ‘build’ directory ... OK
* checking DESCRIPTION meta-information ... NOTE
License stub is invalid DCF.
* checking top-level files ... OK
* checking for left-over files ... OK
* checking index information ... OK
* checking package subdirectories ... NOTE
Problems with news in ‘NEWS.md’:
No news entries found.
* checking code files for non-ASCII characters ... OK
* checking R files for syntax errors ... OK
* checking whether the package can be loaded ... OK
* checking whether the package can be loaded with stated dependencies ... OK
* checking whether the package can be unloaded cleanly ... OK
* checking whether the namespace can be loaded with stated dependencies ... OK
* checking whether the namespace can be unloaded cleanly ... OK
* checking dependencies in R code ... OK
* checking S3 generic/method consistency ... OK
* checking replacement functions ... OK
* checking foreign function calls ... OK
* checking R code for possible problems ... OK
* checking Rd files ... OK
* checking Rd metadata ... OK
* checking Rd cross-references ... OK
* checking for missing documentation entries ... OK
* checking for code/documentation mismatches ... OK
* checking Rd \usage sections ... OK
* checking Rd contents ... OK
* checking for unstated dependencies in examples ... OK
* checking contents of ‘data’ directory ... OK
* checking data for non-ASCII characters ... OK
* checking data for ASCII and uncompressed saves ... OK
* checking files in ‘vignettes’ ... OK
* checking examples ... OK
Examples with CPU (user + system) or elapsed time > 5s
                       user system elapsed
hiddenMarkovAnalysis 71.012  3.071  75.881
regionAnalysis       52.510  1.663  56.536
runHMM_3             50.858  1.488  55.210
runHMM_2             49.047  1.574  53.727
runHMM_1             32.349  0.845  34.678
prepareHMMdataframes 30.862  1.004  33.381
tLOHCalcUpdate       29.347  0.822  31.626
splitByChromosome    28.425  0.730  31.033
alleleFrequencyPlot   7.841  0.200   8.203
aggregateCHRPlot      7.598  0.315   8.080
tLOHCalc              4.794  0.233   5.192
* checking for unstated dependencies in vignettes ... OK
* checking package vignettes ... OK
* checking running R code from vignettes ... SKIPPED
* checking re-building of vignette outputs ... SKIPPED
* checking PDF version of manual ... OK
* DONE
Status: 2 NOTEs
See
  ‘/Users/biocbuild/bbs-3.19-bioc/meat/tLOH.Rcheck/00check.log’
for details.
tLOH.Rcheck/00install.out
############################################################################## ############################################################################## ### ### Running command: ### ### /Library/Frameworks/R.framework/Resources/bin/R CMD INSTALL tLOH ### ############################################################################## ############################################################################## * installing to library ‘/Library/Frameworks/R.framework/Versions/4.4-arm64/Resources/library’ * installing *source* package ‘tLOH’ ... ** using staged installation ** R ** data ** inst ** byte-compile and prepare package for lazy loading ** help *** installing help indices ** building package indices ** installing vignettes ** testing if installed package can be loaded from temporary location ** testing if installed package can be loaded from final location ** testing if installed package keeps a record of temporary installation path * DONE (tLOH)
tLOH.Rcheck/tLOH-Ex.timings
| name | user | system | elapsed | |
| aggregateCHRPlot | 7.598 | 0.315 | 8.080 | |
| alleleFrequencyPlot | 7.841 | 0.200 | 8.203 | |
| documentErrorRegions | 0.003 | 0.000 | 0.003 | |
| hiddenMarkovAnalysis | 71.012 | 3.071 | 75.881 | |
| humanGBMsampleAC | 0.059 | 0.003 | 0.062 | |
| initialStartProbabilities | 0.001 | 0.002 | 0.002 | |
| marginalLikelihoodM1 | 0.003 | 0.000 | 0.003 | |
| marginalLikelihoodM2 | 0.001 | 0.000 | 0.002 | |
| marginalM1Calc | 0 | 0 | 0 | |
| marginalM2CalcBHET | 0.001 | 0.000 | 0.001 | |
| marginalM2CalcBLOH | 0.001 | 0.000 | 0.001 | |
| modePeakCalc | 0.001 | 0.000 | 0.001 | |
| prepareHMMdataframes | 30.862 | 1.004 | 33.381 | |
| regionAnalysis | 52.510 | 1.663 | 56.536 | |
| regionFinalize | 0 | 0 | 0 | |
| removeOutlierFromCalc | 0.001 | 0.000 | 0.001 | |
| runHMM_1 | 32.349 | 0.845 | 34.678 | |
| runHMM_2 | 49.047 | 1.574 | 53.727 | |
| runHMM_3 | 50.858 | 1.488 | 55.210 | |
| splitByChromosome | 28.425 | 0.730 | 31.033 | |
| summarizeRegions1 | 0.000 | 0.000 | 0.001 | |
| summarizeRegions2 | 0.000 | 0.001 | 0.001 | |
| tLOHCalc | 4.794 | 0.233 | 5.192 | |
| tLOHCalcUpdate | 29.347 | 0.822 | 31.626 | |
| tLOHDataImport | 0.001 | 0.001 | 0.002 | |